BEGIN:VCALENDAR
VERSION:2.0
PRODID:-//Massanutten Presbyterian Church - ECPv6.15.20//NONSGML v1.0//EN
CALSCALE:GREGORIAN
METHOD:PUBLISH
X-WR-CALNAME:Massanutten Presbyterian Church
X-ORIGINAL-URL:https://massanuttenchurch.org
X-WR-CALDESC:Events for Massanutten Presbyterian Church
REFRESH-INTERVAL;VALUE=DURATION:PT1H
X-Robots-Tag:noindex
X-PUBLISHED-TTL:PT1H
BEGIN:VTIMEZONE
TZID:America/New_York
BEGIN:DAYLIGHT
TZOFFSETFROM:-0500
TZOFFSETTO:-0400
TZNAME:EDT
DTSTART:20240310T070000
END:DAYLIGHT
BEGIN:STANDARD
TZOFFSETFROM:-0400
TZOFFSETTO:-0500
TZNAME:EST
DTSTART:20241103T060000
END:STANDARD
BEGIN:DAYLIGHT
TZOFFSETFROM:-0500
TZOFFSETTO:-0400
TZNAME:EDT
DTSTART:20250309T070000
END:DAYLIGHT
BEGIN:STANDARD
TZOFFSETFROM:-0400
TZOFFSETTO:-0500
TZNAME:EST
DTSTART:20251102T060000
END:STANDARD
BEGIN:DAYLIGHT
TZOFFSETFROM:-0500
TZOFFSETTO:-0400
TZNAME:EDT
DTSTART:20260308T070000
END:DAYLIGHT
BEGIN:STANDARD
TZOFFSETFROM:-0400
TZOFFSETTO:-0500
TZNAME:EST
DTSTART:20261101T060000
END:STANDARD
END:VTIMEZONE
BEGIN:VTIMEZONE
TZID:UTC
BEGIN:STANDARD
TZOFFSETFROM:+0000
TZOFFSETTO:+0000
TZNAME:UTC
DTSTART:20240101T000000
END:STANDARD
END:VTIMEZONE
BEGIN:VEVENT
DTSTART;TZID=America/New_York:20250507T190000
DTEND;TZID=America/New_York:20250507T190000
DTSTAMP:20260425T075443
CREATED:20250319T171521Z
LAST-MODIFIED:20250319T171521Z
UID:14368-1746644400-1746644400@massanuttenchurch.org
SUMMARY:Chancel Choir Rehearsal
DESCRIPTION:
URL:https://massanuttenchurch.org/event/chancel-choir-rehearsal-44/
LOCATION:Choir Room\, 50 Indian Trail Road\, Penn Laird\, 22846\, United States
END:VEVENT
BEGIN:VEVENT
DTSTART;TZID=America/New_York:20250508T190000
DTEND;TZID=America/New_York:20250508T200000
DTSTAMP:20260425T075443
CREATED:20230321T123715Z
LAST-MODIFIED:20230321T123715Z
UID:12147-1746730800-1746734400@massanuttenchurch.org
SUMMARY:Food Pantry
DESCRIPTION:
URL:https://massanuttenchurch.org/event/food-pantry-2025-05-08/
LOCATION:50 Indian Trail Road\, Penn Laird\, VA\, 22846\, United States
END:VEVENT
BEGIN:VEVENT
DTSTART;TZID=America/New_York:20250512T100000
DTEND;TZID=America/New_York:20250512T110000
DTSTAMP:20260425T075443
CREATED:20230321T123715Z
LAST-MODIFIED:20230321T123715Z
UID:12146-1747044000-1747047600@massanuttenchurch.org
SUMMARY:Food Pantry
DESCRIPTION:
URL:https://massanuttenchurch.org/event/food-pantry-2025-05-12/
LOCATION:50 Indian Trail Road\, Penn Laird\, VA\, 22846\, United States
END:VEVENT
BEGIN:VEVENT
DTSTART;TZID=America/New_York:20250514T190000
DTEND;TZID=America/New_York:20250514T190000
DTSTAMP:20260425T075443
CREATED:20250319T171641Z
LAST-MODIFIED:20250319T171641Z
UID:14370-1747249200-1747249200@massanuttenchurch.org
SUMMARY:Chancel Choir Rehearsal
DESCRIPTION:
URL:https://massanuttenchurch.org/event/chancel-choir-rehearsal-45/
LOCATION:Choir Room\, 50 Indian Trail Road\, Penn Laird\, 22846\, United States
END:VEVENT
BEGIN:VEVENT
DTSTART;TZID=UTC:20250518T120000
DTEND;TZID=UTC:20250518T120000
DTSTAMP:20260425T075443
CREATED:20170425T032515Z
LAST-MODIFIED:20240828T161727Z
UID:12178-1747569600-1747569600@massanuttenchurch.org
SUMMARY:Session Meeting
DESCRIPTION:Session Meeting
URL:https://massanuttenchurch.org/event/session-meeting-2025-05-18/
LOCATION:Fellowship Hall
END:VEVENT
END:VCALENDAR