BEGIN:VCALENDAR
VERSION:2.0
PRODID:-//Massanutten Presbyterian Church - ECPv6.15.20//NONSGML v1.0//EN
CALSCALE:GREGORIAN
METHOD:PUBLISH
X-ORIGINAL-URL:https://massanuttenchurch.org
X-WR-CALDESC:Events for Massanutten Presbyterian Church
REFRESH-INTERVAL;VALUE=DURATION:PT1H
X-Robots-Tag:noindex
X-PUBLISHED-TTL:PT1H
BEGIN:VTIMEZONE
TZID:America/New_York
BEGIN:DAYLIGHT
TZOFFSETFROM:-0500
TZOFFSETTO:-0400
TZNAME:EDT
DTSTART:20250309T070000
END:DAYLIGHT
BEGIN:STANDARD
TZOFFSETFROM:-0400
TZOFFSETTO:-0500
TZNAME:EST
DTSTART:20251102T060000
END:STANDARD
BEGIN:DAYLIGHT
TZOFFSETFROM:-0500
TZOFFSETTO:-0400
TZNAME:EDT
DTSTART:20260308T070000
END:DAYLIGHT
BEGIN:STANDARD
TZOFFSETFROM:-0400
TZOFFSETTO:-0500
TZNAME:EST
DTSTART:20261101T060000
END:STANDARD
BEGIN:DAYLIGHT
TZOFFSETFROM:-0500
TZOFFSETTO:-0400
TZNAME:EDT
DTSTART:20270314T070000
END:DAYLIGHT
BEGIN:STANDARD
TZOFFSETFROM:-0400
TZOFFSETTO:-0500
TZNAME:EST
DTSTART:20271107T060000
END:STANDARD
END:VTIMEZONE
BEGIN:VEVENT
DTSTART;TZID=America/New_York:20260322T090000
DTEND;TZID=America/New_York:20260322T100000
DTSTAMP:20260425T081456
CREATED:20250910T154050Z
LAST-MODIFIED:20250910T154050Z
UID:15413-1774170000-1774173600@massanuttenchurch.org
SUMMARY:Covenant Class
DESCRIPTION:
URL:https://massanuttenchurch.org/event/covenant-class-30/
LOCATION:Room 117
END:VEVENT
BEGIN:VEVENT
DTSTART;TZID=America/New_York:20260322T090000
DTEND;TZID=America/New_York:20260322T100000
DTSTAMP:20260425T081456
CREATED:20250910T164906Z
LAST-MODIFIED:20250910T164906Z
UID:15484-1774170000-1774173600@massanuttenchurch.org
SUMMARY:Faithful Conversations
DESCRIPTION:
URL:https://massanuttenchurch.org/event/faithful-conversations-30/
LOCATION:Room 119\, United States
END:VEVENT
BEGIN:VEVENT
DTSTART;TZID=America/New_York:20260322T093000
DTEND;TZID=America/New_York:20260322T102000
DTSTAMP:20260425T081456
CREATED:20250904T134602Z
LAST-MODIFIED:20250904T134602Z
UID:14937-1774171800-1774174800@massanuttenchurch.org
SUMMARY:Faith Village
DESCRIPTION:
URL:https://massanuttenchurch.org/event/faith-village-26/
END:VEVENT
BEGIN:VEVENT
DTSTART;TZID=America/New_York:20260322T093000
DTEND;TZID=America/New_York:20260322T102000
DTSTAMP:20260425T081456
CREATED:20250904T140322Z
LAST-MODIFIED:20250904T140322Z
UID:14999-1774171800-1774174800@massanuttenchurch.org
SUMMARY:Middle School Sunday School
DESCRIPTION:
URL:https://massanuttenchurch.org/event/middle-school-sunday-school-24/
END:VEVENT
BEGIN:VEVENT
DTSTART;TZID=America/New_York:20260322T093000
DTEND;TZID=America/New_York:20260322T102000
DTSTAMP:20260425T081456
CREATED:20250904T142517Z
LAST-MODIFIED:20250904T142517Z
UID:15051-1774171800-1774174800@massanuttenchurch.org
SUMMARY:High School Breakfast
DESCRIPTION:
URL:https://massanuttenchurch.org/event/high-school-breakfast-22/
END:VEVENT
BEGIN:VEVENT
DTSTART;TZID=America/New_York:20260322T093000
DTEND;TZID=America/New_York:20260322T102000
DTSTAMP:20260425T081456
CREATED:20250904T144421Z
LAST-MODIFIED:20250904T144421Z
UID:15112-1774171800-1774174800@massanuttenchurch.org
SUMMARY:Parent Fellowship
DESCRIPTION:
URL:https://massanuttenchurch.org/event/parent-fellowship-27/
END:VEVENT
BEGIN:VEVENT
DTSTART;TZID=America/New_York:20260322T104500
DTEND;TZID=America/New_York:20260322T111500
DTSTAMP:20260425T081456
CREATED:20250904T153156Z
LAST-MODIFIED:20250904T153156Z
UID:15174-1774176300-1774178100@massanuttenchurch.org
SUMMARY:Godly Play
DESCRIPTION:
URL:https://massanuttenchurch.org/event/godly-play-27/
END:VEVENT
BEGIN:VEVENT
DTSTART;TZID=America/New_York:20260325T173000
DTEND;TZID=America/New_York:20260325T173000
DTSTAMP:20260425T081456
CREATED:20250904T170111Z
LAST-MODIFIED:20250904T170111Z
UID:15322-1774459800-1774459800@massanuttenchurch.org
SUMMARY:Deep Dive Bible Study
DESCRIPTION:
URL:https://massanuttenchurch.org/event/deep-dive-bible-study-6/
LOCATION:Library
END:VEVENT
BEGIN:VEVENT
DTSTART;TZID=America/New_York:20260329T090000
DTEND;TZID=America/New_York:20260329T100000
DTSTAMP:20260425T081456
CREATED:20250910T154118Z
LAST-MODIFIED:20250910T154118Z
UID:15415-1774774800-1774778400@massanuttenchurch.org
SUMMARY:Covenant Class
DESCRIPTION:
URL:https://massanuttenchurch.org/event/covenant-class-31/
LOCATION:Room 117
END:VEVENT
BEGIN:VEVENT
DTSTART;TZID=America/New_York:20260329T090000
DTEND;TZID=America/New_York:20260329T220000
DTSTAMP:20260425T081456
CREATED:20250910T164932Z
LAST-MODIFIED:20250910T164932Z
UID:15486-1774774800-1774821600@massanuttenchurch.org
SUMMARY:Faithful Conversations
DESCRIPTION:
URL:https://massanuttenchurch.org/event/faithful-conversations-31/
LOCATION:Room 119\, United States
END:VEVENT
BEGIN:VEVENT
DTSTART;TZID=America/New_York:20260329T104500
DTEND;TZID=America/New_York:20260329T111500
DTSTAMP:20260425T081456
CREATED:20250904T153235Z
LAST-MODIFIED:20250904T153235Z
UID:15176-1774781100-1774782900@massanuttenchurch.org
SUMMARY:Godly Play
DESCRIPTION:
URL:https://massanuttenchurch.org/event/godly-play-28/
END:VEVENT
BEGIN:VEVENT
DTSTART;TZID=America/New_York:20260402T100000
DTEND;TZID=America/New_York:20260402T100000
DTSTAMP:20260425T081456
CREATED:20250904T164428Z
LAST-MODIFIED:20250904T164428Z
UID:15301-1775124000-1775124000@massanuttenchurch.org
SUMMARY:Coffee Break Small Group
DESCRIPTION:
URL:https://massanuttenchurch.org/event/coffee-break-small-group-6/
LOCATION:Dayton Market\, 3105 John Wayland Hwy Ave\, Dayton\, VA\, 22821
END:VEVENT
BEGIN:VEVENT
DTSTART;TZID=America/New_York:20260405T093000
DTEND;TZID=America/New_York:20260405T102000
DTSTAMP:20260425T081456
CREATED:20250904T134626Z
LAST-MODIFIED:20250904T134626Z
UID:14939-1775381400-1775384400@massanuttenchurch.org
SUMMARY:Faith Village
DESCRIPTION:
URL:https://massanuttenchurch.org/event/faith-village-27/
END:VEVENT
BEGIN:VEVENT
DTSTART;TZID=America/New_York:20260405T093000
DTEND;TZID=America/New_York:20260405T102000
DTSTAMP:20260425T081456
CREATED:20250904T140342Z
LAST-MODIFIED:20250904T140342Z
UID:15001-1775381400-1775384400@massanuttenchurch.org
SUMMARY:Middle School Sunday School
DESCRIPTION:
URL:https://massanuttenchurch.org/event/middle-school-sunday-school-25/
END:VEVENT
BEGIN:VEVENT
DTSTART;TZID=America/New_York:20260405T093000
DTEND;TZID=America/New_York:20260405T102000
DTSTAMP:20260425T081456
CREATED:20250904T144442Z
LAST-MODIFIED:20250904T144442Z
UID:15114-1775381400-1775384400@massanuttenchurch.org
SUMMARY:Parent Fellowship
DESCRIPTION:
URL:https://massanuttenchurch.org/event/parent-fellowship-28/
END:VEVENT
BEGIN:VEVENT
DTSTART;TZID=America/New_York:20260409T190000
DTEND;TZID=America/New_York:20260409T200000
DTSTAMP:20260425T081456
CREATED:20250904T132611Z
LAST-MODIFIED:20250904T132611Z
UID:14881-1775761200-1775764800@massanuttenchurch.org
SUMMARY:Food Pantry
DESCRIPTION:
URL:https://massanuttenchurch.org/event/food-pantry-13/
END:VEVENT
BEGIN:VEVENT
DTSTART;TZID=America/New_York:20260412T090000
DTEND;TZID=America/New_York:20260412T100000
DTSTAMP:20260425T081456
CREATED:20250910T154146Z
LAST-MODIFIED:20250910T154146Z
UID:15417-1775984400-1775988000@massanuttenchurch.org
SUMMARY:Covenant Class
DESCRIPTION:
URL:https://massanuttenchurch.org/event/covenant-class-32/
LOCATION:Room 117
END:VEVENT
BEGIN:VEVENT
DTSTART;TZID=America/New_York:20260412T090000
DTEND;TZID=America/New_York:20260412T100000
DTSTAMP:20260425T081456
CREATED:20250910T165022Z
LAST-MODIFIED:20250910T165022Z
UID:15488-1775984400-1775988000@massanuttenchurch.org
SUMMARY:Faithful Conversations
DESCRIPTION:
URL:https://massanuttenchurch.org/event/faithful-conversations-32/
LOCATION:Room 119\, United States
END:VEVENT
BEGIN:VEVENT
DTSTART;TZID=America/New_York:20260412T093000
DTEND;TZID=America/New_York:20260412T102000
DTSTAMP:20260425T081456
CREATED:20250904T134652Z
LAST-MODIFIED:20250904T134652Z
UID:14941-1775986200-1775989200@massanuttenchurch.org
SUMMARY:Faith Village
DESCRIPTION:
URL:https://massanuttenchurch.org/event/faith-village-28/
END:VEVENT
BEGIN:VEVENT
DTSTART;TZID=America/New_York:20260412T093000
DTEND;TZID=America/New_York:20260412T102000
DTSTAMP:20260425T081456
CREATED:20250904T140403Z
LAST-MODIFIED:20250904T140403Z
UID:15003-1775986200-1775989200@massanuttenchurch.org
SUMMARY:Middle School Sunday School
DESCRIPTION:
URL:https://massanuttenchurch.org/event/middle-school-sunday-school-26/
END:VEVENT
BEGIN:VEVENT
DTSTART;TZID=America/New_York:20260412T093000
DTEND;TZID=America/New_York:20260412T102000
DTSTAMP:20260425T081456
CREATED:20250904T142539Z
LAST-MODIFIED:20250904T142539Z
UID:15053-1775986200-1775989200@massanuttenchurch.org
SUMMARY:High School Breakfast
DESCRIPTION:
URL:https://massanuttenchurch.org/event/high-school-breakfast-23/
END:VEVENT
BEGIN:VEVENT
DTSTART;TZID=America/New_York:20260412T093000
DTEND;TZID=America/New_York:20260412T102000
DTSTAMP:20260425T081456
CREATED:20250904T144500Z
LAST-MODIFIED:20250904T144500Z
UID:15116-1775986200-1775989200@massanuttenchurch.org
SUMMARY:Parent Fellowship
DESCRIPTION:
URL:https://massanuttenchurch.org/event/parent-fellowship-29/
END:VEVENT
BEGIN:VEVENT
DTSTART;TZID=America/New_York:20260412T104500
DTEND;TZID=America/New_York:20260412T111500
DTSTAMP:20260425T081456
CREATED:20250904T153302Z
LAST-MODIFIED:20250904T153302Z
UID:15178-1775990700-1775992500@massanuttenchurch.org
SUMMARY:Godly Play
DESCRIPTION:
URL:https://massanuttenchurch.org/event/godly-play-29/
END:VEVENT
BEGIN:VEVENT
DTSTART;TZID=America/New_York:20260412T170000
DTEND;TZID=America/New_York:20260412T180000
DTSTAMP:20260425T081456
CREATED:20250904T162906Z
LAST-MODIFIED:20250904T162906Z
UID:15280-1776013200-1776016800@massanuttenchurch.org
SUMMARY:Fun with Handbells
DESCRIPTION:
URL:https://massanuttenchurch.org/event/fun-with-handbells-22/
END:VEVENT
BEGIN:VEVENT
DTSTART;TZID=America/New_York:20260412T180000
DTEND;TZID=America/New_York:20260412T200000
DTSTAMP:20260425T081456
CREATED:20250904T160628Z
LAST-MODIFIED:20250904T160628Z
UID:15230-1776016800-1776024000@massanuttenchurch.org
SUMMARY:Youth Group
DESCRIPTION:
URL:https://massanuttenchurch.org/event/youth-group-23/
END:VEVENT
BEGIN:VEVENT
DTSTART;TZID=America/New_York:20260413T100000
DTEND;TZID=America/New_York:20260413T110000
DTSTAMP:20260425T081456
CREATED:20250904T132636Z
LAST-MODIFIED:20250904T132636Z
UID:14883-1776074400-1776078000@massanuttenchurch.org
SUMMARY:Food Pantry
DESCRIPTION:
URL:https://massanuttenchurch.org/event/food-pantry-14/
END:VEVENT
BEGIN:VEVENT
DTSTART;TZID=America/New_York:20260419T090000
DTEND;TZID=America/New_York:20260419T100000
DTSTAMP:20260425T081456
CREATED:20250910T154326Z
LAST-MODIFIED:20250910T154326Z
UID:15419-1776589200-1776592800@massanuttenchurch.org
SUMMARY:Covenant Class
DESCRIPTION:
URL:https://massanuttenchurch.org/event/covenant-class-33/
LOCATION:Room 117
END:VEVENT
BEGIN:VEVENT
DTSTART;TZID=America/New_York:20260419T090000
DTEND;TZID=America/New_York:20260419T100000
DTSTAMP:20260425T081456
CREATED:20250910T165045Z
LAST-MODIFIED:20250910T165045Z
UID:15490-1776589200-1776592800@massanuttenchurch.org
SUMMARY:Faithful Conversations
DESCRIPTION:
URL:https://massanuttenchurch.org/event/faithful-conversations-33/
LOCATION:Room 119\, United States
END:VEVENT
BEGIN:VEVENT
DTSTART;TZID=America/New_York:20260419T093000
DTEND;TZID=America/New_York:20260419T102000
DTSTAMP:20260425T081456
CREATED:20250904T134714Z
LAST-MODIFIED:20250904T134714Z
UID:14943-1776591000-1776594000@massanuttenchurch.org
SUMMARY:Faith Village
DESCRIPTION:
URL:https://massanuttenchurch.org/event/faith-village-29/
END:VEVENT
BEGIN:VEVENT
DTSTART;TZID=America/New_York:20260419T093000
DTEND;TZID=America/New_York:20260419T102000
DTSTAMP:20260425T081456
CREATED:20250904T140422Z
LAST-MODIFIED:20250904T140422Z
UID:15005-1776591000-1776594000@massanuttenchurch.org
SUMMARY:Middle School Sunday School
DESCRIPTION:
URL:https://massanuttenchurch.org/event/middle-school-sunday-school-27/
END:VEVENT
END:VCALENDAR