BEGIN:VCALENDAR
VERSION:2.0
PRODID:-//Massanutten Presbyterian Church - ECPv6.15.20//NONSGML v1.0//EN
CALSCALE:GREGORIAN
METHOD:PUBLISH
X-WR-CALNAME:Massanutten Presbyterian Church
X-ORIGINAL-URL:https://massanuttenchurch.org
X-WR-CALDESC:Events for Massanutten Presbyterian Church
REFRESH-INTERVAL;VALUE=DURATION:PT1H
X-Robots-Tag:noindex
X-PUBLISHED-TTL:PT1H
BEGIN:VTIMEZONE
TZID:America/New_York
BEGIN:DAYLIGHT
TZOFFSETFROM:-0500
TZOFFSETTO:-0400
TZNAME:EDT
DTSTART:20240310T070000
END:DAYLIGHT
BEGIN:STANDARD
TZOFFSETFROM:-0400
TZOFFSETTO:-0500
TZNAME:EST
DTSTART:20241103T060000
END:STANDARD
BEGIN:DAYLIGHT
TZOFFSETFROM:-0500
TZOFFSETTO:-0400
TZNAME:EDT
DTSTART:20250309T070000
END:DAYLIGHT
BEGIN:STANDARD
TZOFFSETFROM:-0400
TZOFFSETTO:-0500
TZNAME:EST
DTSTART:20251102T060000
END:STANDARD
BEGIN:DAYLIGHT
TZOFFSETFROM:-0500
TZOFFSETTO:-0400
TZNAME:EDT
DTSTART:20260308T070000
END:DAYLIGHT
BEGIN:STANDARD
TZOFFSETFROM:-0400
TZOFFSETTO:-0500
TZNAME:EST
DTSTART:20261101T060000
END:STANDARD
END:VTIMEZONE
BEGIN:VTIMEZONE
TZID:UTC
BEGIN:STANDARD
TZOFFSETFROM:+0000
TZOFFSETTO:+0000
TZNAME:UTC
DTSTART:20240101T000000
END:STANDARD
END:VTIMEZONE
BEGIN:VEVENT
DTSTART;TZID=America/New_York:20250921T093000
DTEND;TZID=America/New_York:20250921T102000
DTSTAMP:20260425T104747
CREATED:20250904T141007Z
LAST-MODIFIED:20250904T141007Z
UID:15015-1758447000-1758450000@massanuttenchurch.org
SUMMARY:High School Breakfast
DESCRIPTION:
URL:https://massanuttenchurch.org/event/high-school-breakfast-4/
END:VEVENT
BEGIN:VEVENT
DTSTART;TZID=America/New_York:20250921T093000
DTEND;TZID=America/New_York:20250921T102000
DTSTAMP:20260425T104747
CREATED:20250904T143252Z
LAST-MODIFIED:20250904T143252Z
UID:15067-1758447000-1758450000@massanuttenchurch.org
SUMMARY:Parent Fellowship
DESCRIPTION:
URL:https://massanuttenchurch.org/event/parent-fellowship-5/
END:VEVENT
BEGIN:VEVENT
DTSTART;TZID=America/New_York:20250921T104500
DTEND;TZID=America/New_York:20250921T111500
DTSTAMP:20260425T104747
CREATED:20250904T150311Z
LAST-MODIFIED:20250904T150311Z
UID:15129-1758451500-1758453300@massanuttenchurch.org
SUMMARY:Godly Play
DESCRIPTION:
URL:https://massanuttenchurch.org/event/godly-play-5/
END:VEVENT
BEGIN:VEVENT
DTSTART;TZID=UTC:20250921T120000
DTEND;TZID=UTC:20250921T120000
DTSTAMP:20260425T104747
CREATED:20170425T032515Z
LAST-MODIFIED:20250714T152655Z
UID:12847-1758456000-1758456000@massanuttenchurch.org
SUMMARY:Session Meeting
DESCRIPTION:Session Meeting
URL:https://massanuttenchurch.org/event/session-meeting-2025-09-21/
LOCATION:Fellowship Hall
END:VEVENT
BEGIN:VEVENT
DTSTART;TZID=America/New_York:20250921T170000
DTEND;TZID=America/New_York:20250921T180000
DTSTAMP:20260425T104747
CREATED:20250904T162037Z
LAST-MODIFIED:20250904T162037Z
UID:15244-1758474000-1758477600@massanuttenchurch.org
SUMMARY:Fun with Handbells
DESCRIPTION:
URL:https://massanuttenchurch.org/event/fun-with-handbells-4/
END:VEVENT
BEGIN:VEVENT
DTSTART;TZID=America/New_York:20250921T180000
DTEND;TZID=America/New_York:20250921T200000
DTSTAMP:20260425T104747
CREATED:20250904T155138Z
LAST-MODIFIED:20250904T155138Z
UID:15194-1758477600-1758484800@massanuttenchurch.org
SUMMARY:Youth Group
DESCRIPTION:
URL:https://massanuttenchurch.org/event/youth-group-5/
END:VEVENT
BEGIN:VEVENT
DTSTART;TZID=America/New_York:20250924T173000
DTEND;TZID=America/New_York:20250924T173000
DTSTAMP:20260425T104747
CREATED:20250904T165325Z
LAST-MODIFIED:20250904T165325Z
UID:15311-1758735000-1758735000@massanuttenchurch.org
SUMMARY:Deep Dive Bible Study
DESCRIPTION:
URL:https://massanuttenchurch.org/event/deep-dive-bible-study/
LOCATION:Library
END:VEVENT
BEGIN:VEVENT
DTSTART;TZID=America/New_York:20250924T190000
DTEND;TZID=America/New_York:20250924T190000
DTSTAMP:20260425T104747
CREATED:20250813T141903Z
LAST-MODIFIED:20250813T141903Z
UID:14821-1758740400-1758740400@massanuttenchurch.org
SUMMARY:Chancel Choir Rehearsal
DESCRIPTION:
URL:https://massanuttenchurch.org/event/chancel-choir-rehearsal-50/
LOCATION:Choir Room\, 50 Indian Trail Road\, Penn Laird\, 22846\, United States
END:VEVENT
BEGIN:VEVENT
DTSTART;TZID=America/New_York:20250928T090000
DTEND;TZID=America/New_York:20250928T100000
DTSTAMP:20260425T104747
CREATED:20250910T150417Z
LAST-MODIFIED:20250910T150417Z
UID:15365-1759050000-1759053600@massanuttenchurch.org
SUMMARY:Covenant Class
DESCRIPTION:
URL:https://massanuttenchurch.org/event/covenant-class-6/
LOCATION:Room 117
END:VEVENT
BEGIN:VEVENT
DTSTART;TZID=America/New_York:20250928T090000
DTEND;TZID=America/New_York:20250928T100000
DTSTAMP:20260425T104747
CREATED:20250910T154900Z
LAST-MODIFIED:20250910T154900Z
UID:15436-1759050000-1759053600@massanuttenchurch.org
SUMMARY:Faithful Conversations
DESCRIPTION:
URL:https://massanuttenchurch.org/event/faithful-conversations-6/
LOCATION:Room 119\, United States
END:VEVENT
BEGIN:VEVENT
DTSTART;TZID=America/New_York:20250928T093000
DTEND;TZID=America/New_York:20250928T102000
DTSTAMP:20260425T104747
CREATED:20250904T133523Z
LAST-MODIFIED:20250904T133523Z
UID:14893-1759051800-1759054800@massanuttenchurch.org
SUMMARY:Faith Village
DESCRIPTION:
URL:https://massanuttenchurch.org/event/faith-village-5/
END:VEVENT
BEGIN:VEVENT
DTSTART;TZID=America/New_York:20250928T093000
DTEND;TZID=America/New_York:20250928T102000
DTSTAMP:20260425T104747
CREATED:20250904T135607Z
LAST-MODIFIED:20250904T135607Z
UID:14957-1759051800-1759054800@massanuttenchurch.org
SUMMARY:Middle School Sunday School
DESCRIPTION:
URL:https://massanuttenchurch.org/event/middle-school-sunday-school-3/
END:VEVENT
BEGIN:VEVENT
DTSTART;TZID=America/New_York:20250928T093000
DTEND;TZID=America/New_York:20250928T102000
DTSTAMP:20260425T104747
CREATED:20250904T141116Z
LAST-MODIFIED:20250904T141117Z
UID:15017-1759051800-1759054800@massanuttenchurch.org
SUMMARY:High School Breakfast
DESCRIPTION:
URL:https://massanuttenchurch.org/event/high-school-breakfast-5/
END:VEVENT
BEGIN:VEVENT
DTSTART;TZID=America/New_York:20250928T093000
DTEND;TZID=America/New_York:20250928T102000
DTSTAMP:20260425T104747
CREATED:20250904T143308Z
LAST-MODIFIED:20250904T143308Z
UID:15069-1759051800-1759054800@massanuttenchurch.org
SUMMARY:Parent Fellowship
DESCRIPTION:
URL:https://massanuttenchurch.org/event/parent-fellowship-6/
END:VEVENT
BEGIN:VEVENT
DTSTART;TZID=America/New_York:20250928T104500
DTEND;TZID=America/New_York:20250928T111500
DTSTAMP:20260425T104747
CREATED:20250904T150330Z
LAST-MODIFIED:20250904T150330Z
UID:15131-1759056300-1759058100@massanuttenchurch.org
SUMMARY:Godly Play
DESCRIPTION:
URL:https://massanuttenchurch.org/event/godly-play-6/
END:VEVENT
BEGIN:VEVENT
DTSTART;TZID=America/New_York:20250928T170000
DTEND;TZID=America/New_York:20250928T180000
DTSTAMP:20260425T104747
CREATED:20250904T162053Z
LAST-MODIFIED:20250904T162053Z
UID:15246-1759078800-1759082400@massanuttenchurch.org
SUMMARY:Fun with Handbells
DESCRIPTION:
URL:https://massanuttenchurch.org/event/fun-with-handbells-5/
END:VEVENT
BEGIN:VEVENT
DTSTART;TZID=America/New_York:20250928T180000
DTEND;TZID=America/New_York:20250928T200000
DTSTAMP:20260425T104747
CREATED:20250904T155156Z
LAST-MODIFIED:20250904T155156Z
UID:15196-1759082400-1759089600@massanuttenchurch.org
SUMMARY:Youth Group
DESCRIPTION:
URL:https://massanuttenchurch.org/event/youth-group-6/
END:VEVENT
BEGIN:VEVENT
DTSTART;TZID=America/New_York:20251001T190000
DTEND;TZID=America/New_York:20251001T190000
DTSTAMP:20260425T104747
CREATED:20250813T141941Z
LAST-MODIFIED:20250813T141941Z
UID:14823-1759345200-1759345200@massanuttenchurch.org
SUMMARY:Chancel Choir Rehearsal
DESCRIPTION:
URL:https://massanuttenchurch.org/event/chancel-choir-rehearsal-51/
LOCATION:Choir Room\, 50 Indian Trail Road\, Penn Laird\, 22846\, United States
END:VEVENT
BEGIN:VEVENT
DTSTART;TZID=America/New_York:20251002T100000
DTEND;TZID=America/New_York:20251002T100000
DTSTAMP:20260425T104747
CREATED:20250904T164206Z
LAST-MODIFIED:20250904T164206Z
UID:15290-1759399200-1759399200@massanuttenchurch.org
SUMMARY:Coffee Break Small Group
DESCRIPTION:
URL:https://massanuttenchurch.org/event/coffee-break-small-group/
LOCATION:Dayton Market\, 3105 John Wayland Hwy Ave\, Dayton\, VA\, 22821
END:VEVENT
BEGIN:VEVENT
DTSTART;TZID=America/New_York:20251005T090000
DTEND;TZID=America/New_York:20251005T100000
DTSTAMP:20260425T104747
CREATED:20250910T150439Z
LAST-MODIFIED:20250910T150439Z
UID:15367-1759654800-1759658400@massanuttenchurch.org
SUMMARY:Covenant Class
DESCRIPTION:
URL:https://massanuttenchurch.org/event/covenant-class-7/
LOCATION:Room 117
END:VEVENT
BEGIN:VEVENT
DTSTART;TZID=America/New_York:20251005T090000
DTEND;TZID=America/New_York:20251005T100000
DTSTAMP:20260425T104747
CREATED:20250910T160022Z
LAST-MODIFIED:20250910T160022Z
UID:15438-1759654800-1759658400@massanuttenchurch.org
SUMMARY:Faithful Conversations
DESCRIPTION:
URL:https://massanuttenchurch.org/event/faithful-conversations-7/
LOCATION:Room 119\, United States
END:VEVENT
BEGIN:VEVENT
DTSTART;TZID=America/New_York:20251005T093000
DTEND;TZID=America/New_York:20251005T102000
DTSTAMP:20260425T104747
CREATED:20250904T133546Z
LAST-MODIFIED:20250904T133546Z
UID:14895-1759656600-1759659600@massanuttenchurch.org
SUMMARY:Faith Village
DESCRIPTION:
URL:https://massanuttenchurch.org/event/faith-village-6/
END:VEVENT
BEGIN:VEVENT
DTSTART;TZID=America/New_York:20251005T093000
DTEND;TZID=America/New_York:20251005T102000
DTSTAMP:20260425T104747
CREATED:20250904T141144Z
LAST-MODIFIED:20250904T141144Z
UID:15019-1759656600-1759659600@massanuttenchurch.org
SUMMARY:High School Breakfast
DESCRIPTION:
URL:https://massanuttenchurch.org/event/high-school-breakfast-6/
END:VEVENT
BEGIN:VEVENT
DTSTART;TZID=America/New_York:20251005T093000
DTEND;TZID=America/New_York:20251005T102000
DTSTAMP:20260425T104747
CREATED:20250904T143327Z
LAST-MODIFIED:20250904T143328Z
UID:15071-1759656600-1759659600@massanuttenchurch.org
SUMMARY:Parent Fellowship
DESCRIPTION:
URL:https://massanuttenchurch.org/event/parent-fellowship-7/
END:VEVENT
BEGIN:VEVENT
DTSTART;TZID=America/New_York:20251005T093000
DTEND;TZID=America/New_York:20251005T103000
DTSTAMP:20260425T104747
CREATED:20250904T135626Z
LAST-MODIFIED:20250904T135626Z
UID:14959-1759656600-1759660200@massanuttenchurch.org
SUMMARY:Middle School Sunday School
DESCRIPTION:
URL:https://massanuttenchurch.org/event/middle-school-sunday-school-4/
END:VEVENT
BEGIN:VEVENT
DTSTART;TZID=America/New_York:20251005T104500
DTEND;TZID=America/New_York:20251005T111500
DTSTAMP:20260425T104747
CREATED:20250904T150356Z
LAST-MODIFIED:20250904T150356Z
UID:15133-1759661100-1759662900@massanuttenchurch.org
SUMMARY:Godly Play
DESCRIPTION:
URL:https://massanuttenchurch.org/event/godly-play-7/
END:VEVENT
BEGIN:VEVENT
DTSTART;TZID=America/New_York:20251005T170000
DTEND;TZID=America/New_York:20251005T180000
DTSTAMP:20260425T104747
CREATED:20250904T162110Z
LAST-MODIFIED:20250904T162110Z
UID:15248-1759683600-1759687200@massanuttenchurch.org
SUMMARY:Fun with Handbells
DESCRIPTION:
URL:https://massanuttenchurch.org/event/fun-with-handbells-6/
END:VEVENT
BEGIN:VEVENT
DTSTART;TZID=America/New_York:20251005T180000
DTEND;TZID=America/New_York:20251005T200000
DTSTAMP:20260425T104747
CREATED:20250904T155215Z
LAST-MODIFIED:20250904T155215Z
UID:15198-1759687200-1759694400@massanuttenchurch.org
SUMMARY:Youth Group
DESCRIPTION:
URL:https://massanuttenchurch.org/event/youth-group-7/
END:VEVENT
BEGIN:VEVENT
DTSTART;TZID=America/New_York:20251008T190000
DTEND;TZID=America/New_York:20251008T190000
DTSTAMP:20260425T104747
CREATED:20250813T142003Z
LAST-MODIFIED:20250813T142003Z
UID:14825-1759950000-1759950000@massanuttenchurch.org
SUMMARY:Chancel Choir Rehearsal
DESCRIPTION:
URL:https://massanuttenchurch.org/event/chancel-choir-rehearsal-52/
LOCATION:Choir Room\, 50 Indian Trail Road\, Penn Laird\, 22846\, United States
END:VEVENT
BEGIN:VEVENT
DTSTART;TZID=America/New_York:20251009T190000
DTEND;TZID=America/New_York:20251009T200000
DTSTAMP:20260425T104747
CREATED:20230321T123715Z
LAST-MODIFIED:20230321T123715Z
UID:12958-1760036400-1760040000@massanuttenchurch.org
SUMMARY:Food Pantry
DESCRIPTION:
URL:https://massanuttenchurch.org/event/food-pantry-2025-10-09/
LOCATION:50 Indian Trail Road\, Penn Laird\, VA\, 22846\, United States
END:VEVENT
END:VCALENDAR