BEGIN:VCALENDAR
VERSION:2.0
PRODID:-//Massanutten Presbyterian Church - ECPv6.15.20//NONSGML v1.0//EN
CALSCALE:GREGORIAN
METHOD:PUBLISH
X-WR-CALNAME:Massanutten Presbyterian Church
X-ORIGINAL-URL:https://massanuttenchurch.org
X-WR-CALDESC:Events for Massanutten Presbyterian Church
REFRESH-INTERVAL;VALUE=DURATION:PT1H
X-Robots-Tag:noindex
X-PUBLISHED-TTL:PT1H
BEGIN:VTIMEZONE
TZID:America/New_York
BEGIN:DAYLIGHT
TZOFFSETFROM:-0500
TZOFFSETTO:-0400
TZNAME:EDT
DTSTART:20230312T070000
END:DAYLIGHT
BEGIN:STANDARD
TZOFFSETFROM:-0400
TZOFFSETTO:-0500
TZNAME:EST
DTSTART:20231105T060000
END:STANDARD
BEGIN:DAYLIGHT
TZOFFSETFROM:-0500
TZOFFSETTO:-0400
TZNAME:EDT
DTSTART:20240310T070000
END:DAYLIGHT
BEGIN:STANDARD
TZOFFSETFROM:-0400
TZOFFSETTO:-0500
TZNAME:EST
DTSTART:20241103T060000
END:STANDARD
BEGIN:DAYLIGHT
TZOFFSETFROM:-0500
TZOFFSETTO:-0400
TZNAME:EDT
DTSTART:20250309T070000
END:DAYLIGHT
BEGIN:STANDARD
TZOFFSETFROM:-0400
TZOFFSETTO:-0500
TZNAME:EST
DTSTART:20251102T060000
END:STANDARD
END:VTIMEZONE
BEGIN:VTIMEZONE
TZID:UTC
BEGIN:STANDARD
TZOFFSETFROM:+0000
TZOFFSETTO:+0000
TZNAME:UTC
DTSTART:20230101T000000
END:STANDARD
END:VTIMEZONE
BEGIN:VEVENT
DTSTART;TZID=America/New_York:20240428T093000
DTEND;TZID=America/New_York:20240428T102000
DTSTAMP:20260426T001029
CREATED:20230830T185524Z
LAST-MODIFIED:20230925T131547Z
UID:12779-1714296600-1714299600@massanuttenchurch.org
SUMMARY:High School Breakfast
DESCRIPTION:
URL:https://massanuttenchurch.org/event/high-school-breakfast-3-2024-04-28/
LOCATION:50 Indian Trail Road\, Penn Laird\, VA\, 22846\, United States
END:VEVENT
BEGIN:VEVENT
DTSTART;TZID=America/New_York:20240428T093000
DTEND;TZID=America/New_York:20240428T102000
DTSTAMP:20260426T001029
CREATED:20230828T153941Z
LAST-MODIFIED:20240221T145900Z
UID:12505-1714296600-1714299600@massanuttenchurch.org
SUMMARY:Parent Fellowship
DESCRIPTION:
URL:https://massanuttenchurch.org/event/parent-fellowship-3-2024-04-28/
END:VEVENT
BEGIN:VEVENT
DTSTART;TZID=America/New_York:20240428T093000
DTEND;TZID=America/New_York:20240428T102000
DTSTAMP:20260426T001029
CREATED:20230828T153531Z
LAST-MODIFIED:20230828T153531Z
UID:12477-1714296600-1714299600@massanuttenchurch.org
SUMMARY:Faith Village
DESCRIPTION:
URL:https://massanuttenchurch.org/event/faith-village-2-2024-04-28/
LOCATION:50 Indian Trail Road\, Penn Laird\, VA\, 22846\, United States
END:VEVENT
BEGIN:VEVENT
DTSTART;TZID=America/New_York:20240428T090000
DTEND;TZID=America/New_York:20240428T100000
DTSTAMP:20260426T001029
CREATED:20230830T170330Z
LAST-MODIFIED:20231206T185134Z
UID:12734-1714294800-1714298400@massanuttenchurch.org
SUMMARY:Faithful Conversations
DESCRIPTION:
URL:https://massanuttenchurch.org/event/faithful-conversations-2-2024-04-28/
LOCATION:Room 119\, United States
END:VEVENT
BEGIN:VEVENT
DTSTART;TZID=America/New_York:20240428T090000
DTEND;TZID=America/New_York:20240428T100000
DTSTAMP:20260426T001029
CREATED:20230830T170048Z
LAST-MODIFIED:20231206T182706Z
UID:12740-1714294800-1714298400@massanuttenchurch.org
SUMMARY:Covenant Class
DESCRIPTION:
URL:https://massanuttenchurch.org/event/covenant-class-2-2024-04-28/
LOCATION:Room 117
END:VEVENT
BEGIN:VEVENT
DTSTART;TZID=America/New_York:20240424T190000
DTEND;TZID=America/New_York:20240424T190000
DTSTAMP:20260426T001029
CREATED:20230817T140504Z
LAST-MODIFIED:20231115T172200Z
UID:12414-1713985200-1713985200@massanuttenchurch.org
SUMMARY:Chancel Choir Rehearsal
DESCRIPTION:
URL:https://massanuttenchurch.org/event/chancel-choir-rehearsal-4-2024-04-24/
LOCATION:50 Indian Trail Road\, Penn Laird\, VA\, 22846\, United States
END:VEVENT
BEGIN:VEVENT
DTSTART;TZID=America/New_York:20240422T190000
DTEND;TZID=America/New_York:20240422T190000
DTSTAMP:20260426T001029
CREATED:20220914T170136Z
LAST-MODIFIED:20240115T154115Z
UID:13259-1713812400-1713812400@massanuttenchurch.org
SUMMARY:Massanutten Ringers
DESCRIPTION:
URL:https://massanuttenchurch.org/event/massanutten-ringers-2-2024-04-22/
LOCATION:50 Indian Trail Road\, Penn Laird\, VA\, 22846\, United States
END:VEVENT
BEGIN:VEVENT
DTSTART;TZID=UTC:20240421T183000
DTEND;TZID=UTC:20240421T203000
DTSTAMP:20260426T001029
CREATED:20170425T032515Z
LAST-MODIFIED:20230822T121251Z
UID:9947-1713724200-1713731400@massanuttenchurch.org
SUMMARY:Session Meeting
DESCRIPTION:Session Meeting
URL:https://massanuttenchurch.org/event/session-meeting-2024-04-21/
LOCATION:Fellowship Hall
END:VEVENT
BEGIN:VEVENT
DTSTART;TZID=America/New_York:20240421T180000
DTEND;TZID=America/New_York:20240421T180000
DTSTAMP:20260426T001029
CREATED:20230830T161207Z
LAST-MODIFIED:20230830T161207Z
UID:12637-1713722400-1713722400@massanuttenchurch.org
SUMMARY:Youth Group
DESCRIPTION:
URL:https://massanuttenchurch.org/event/youth-group-3-2024-04-21/
LOCATION:50 Indian Trail Road\, Penn Laird\, VA\, 22846\, United States
END:VEVENT
BEGIN:VEVENT
DTSTART;TZID=America/New_York:20240421T170000
DTEND;TZID=America/New_York:20240421T170000
DTSTAMP:20260426T001029
CREATED:20220907T175517Z
LAST-MODIFIED:20240212T143404Z
UID:13277-1713718800-1713718800@massanuttenchurch.org
SUMMARY:Fun With Handbells
DESCRIPTION:
URL:https://massanuttenchurch.org/event/fun-with-handbells-2-2024-04-21/
LOCATION:50 Indian Trail Road\, Penn Laird\, VA\, 22846\, United States
END:VEVENT
BEGIN:VEVENT
DTSTART;TZID=America/New_York:20240421T104500
DTEND;TZID=America/New_York:20240421T111500
DTSTAMP:20260426T001029
CREATED:20230830T154529Z
LAST-MODIFIED:20230830T154529Z
UID:12874-1713696300-1713698100@massanuttenchurch.org
SUMMARY:Godly Play
DESCRIPTION:
URL:https://massanuttenchurch.org/event/godly-play-3-2024-04-21/
LOCATION:50 Indian Trail Road\, Penn Laird\, VA\, 22846\, United States
END:VEVENT
BEGIN:VEVENT
DTSTART;TZID=America/New_York:20240421T103000
DTEND;TZID=America/New_York:20240421T113000
DTSTAMP:20260426T001029
CREATED:20210712T024206Z
LAST-MODIFIED:20230802T165051Z
UID:11320-1713695400-1713699000@massanuttenchurch.org
SUMMARY:Sunday Worship
DESCRIPTION:
URL:https://massanuttenchurch.org/event/sunday-worship-2-2024-04-21/
LOCATION:Sanctuary\, 50 Indian Trail Road\, Penn Laird\, 22846\, United States
END:VEVENT
BEGIN:VEVENT
DTSTART;TZID=America/New_York:20240421T093000
DTEND;TZID=America/New_York:20240421T102000
DTSTAMP:20260426T001029
CREATED:20230830T185524Z
LAST-MODIFIED:20230925T131547Z
UID:12778-1713691800-1713694800@massanuttenchurch.org
SUMMARY:High School Breakfast
DESCRIPTION:
URL:https://massanuttenchurch.org/event/high-school-breakfast-3-2024-04-21/
LOCATION:50 Indian Trail Road\, Penn Laird\, VA\, 22846\, United States
END:VEVENT
BEGIN:VEVENT
DTSTART;TZID=America/New_York:20240421T093000
DTEND;TZID=America/New_York:20240421T102000
DTSTAMP:20260426T001029
CREATED:20230828T153941Z
LAST-MODIFIED:20240221T145854Z
UID:12504-1713691800-1713694800@massanuttenchurch.org
SUMMARY:Parent Fellowship
DESCRIPTION:
URL:https://massanuttenchurch.org/event/parent-fellowship-3-2024-04-21/
END:VEVENT
BEGIN:VEVENT
DTSTART;TZID=America/New_York:20240421T093000
DTEND;TZID=America/New_York:20240421T102000
DTSTAMP:20260426T001029
CREATED:20230828T153531Z
LAST-MODIFIED:20230828T153531Z
UID:12476-1713691800-1713694800@massanuttenchurch.org
SUMMARY:Faith Village
DESCRIPTION:
URL:https://massanuttenchurch.org/event/faith-village-2-2024-04-21/
LOCATION:50 Indian Trail Road\, Penn Laird\, VA\, 22846\, United States
END:VEVENT
BEGIN:VEVENT
DTSTART;TZID=America/New_York:20240421T090000
DTEND;TZID=America/New_York:20240421T100000
DTSTAMP:20260426T001029
CREATED:20230830T170330Z
LAST-MODIFIED:20231206T185133Z
UID:12733-1713690000-1713693600@massanuttenchurch.org
SUMMARY:Faithful Conversations
DESCRIPTION:
URL:https://massanuttenchurch.org/event/faithful-conversations-2-2024-04-21/
LOCATION:Room 119\, United States
END:VEVENT
BEGIN:VEVENT
DTSTART;TZID=America/New_York:20240421T090000
DTEND;TZID=America/New_York:20240421T100000
DTSTAMP:20260426T001029
CREATED:20230830T170048Z
LAST-MODIFIED:20231206T182706Z
UID:12739-1713690000-1713693600@massanuttenchurch.org
SUMMARY:Covenant Class
DESCRIPTION:
URL:https://massanuttenchurch.org/event/covenant-class-2-2024-04-21/
LOCATION:Room 117
END:VEVENT
BEGIN:VEVENT
DTSTART;TZID=America/New_York:20240417T190000
DTEND;TZID=America/New_York:20240417T190000
DTSTAMP:20260426T001029
CREATED:20230817T140504Z
LAST-MODIFIED:20231115T172200Z
UID:12413-1713380400-1713380400@massanuttenchurch.org
SUMMARY:Chancel Choir Rehearsal
DESCRIPTION:
URL:https://massanuttenchurch.org/event/chancel-choir-rehearsal-4-2024-04-17/
LOCATION:50 Indian Trail Road\, Penn Laird\, VA\, 22846\, United States
END:VEVENT
BEGIN:VEVENT
DTSTART;TZID=America/New_York:20240415T190000
DTEND;TZID=America/New_York:20240415T190000
DTSTAMP:20260426T001029
CREATED:20220914T170136Z
LAST-MODIFIED:20240115T154115Z
UID:13258-1713207600-1713207600@massanuttenchurch.org
SUMMARY:Massanutten Ringers
DESCRIPTION:
URL:https://massanuttenchurch.org/event/massanutten-ringers-2-2024-04-15/
LOCATION:50 Indian Trail Road\, Penn Laird\, VA\, 22846\, United States
END:VEVENT
BEGIN:VEVENT
DTSTART;TZID=America/New_York:20240414T180000
DTEND;TZID=America/New_York:20240414T180000
DTSTAMP:20260426T001029
CREATED:20230830T161207Z
LAST-MODIFIED:20230830T161207Z
UID:12636-1713117600-1713117600@massanuttenchurch.org
SUMMARY:Youth Group
DESCRIPTION:
URL:https://massanuttenchurch.org/event/youth-group-3-2024-04-14/
LOCATION:50 Indian Trail Road\, Penn Laird\, VA\, 22846\, United States
END:VEVENT
BEGIN:VEVENT
DTSTART;TZID=America/New_York:20240414T170000
DTEND;TZID=America/New_York:20240414T170000
DTSTAMP:20260426T001029
CREATED:20220907T175517Z
LAST-MODIFIED:20240212T143404Z
UID:13276-1713114000-1713114000@massanuttenchurch.org
SUMMARY:Fun With Handbells
DESCRIPTION:
URL:https://massanuttenchurch.org/event/fun-with-handbells-2-2024-04-14/
LOCATION:50 Indian Trail Road\, Penn Laird\, VA\, 22846\, United States
END:VEVENT
BEGIN:VEVENT
DTSTART;TZID=America/New_York:20240414T104500
DTEND;TZID=America/New_York:20240414T111500
DTSTAMP:20260426T001029
CREATED:20230830T154529Z
LAST-MODIFIED:20230830T154529Z
UID:12873-1713091500-1713093300@massanuttenchurch.org
SUMMARY:Godly Play
DESCRIPTION:
URL:https://massanuttenchurch.org/event/godly-play-3-2024-04-14/
LOCATION:50 Indian Trail Road\, Penn Laird\, VA\, 22846\, United States
END:VEVENT
BEGIN:VEVENT
DTSTART;TZID=America/New_York:20240414T103000
DTEND;TZID=America/New_York:20240414T113000
DTSTAMP:20260426T001029
CREATED:20210712T024206Z
LAST-MODIFIED:20230802T155210Z
UID:11319-1713090600-1713094200@massanuttenchurch.org
SUMMARY:Sunday Worship
DESCRIPTION:
URL:https://massanuttenchurch.org/event/sunday-worship-2-2024-04-14/
LOCATION:Sanctuary\, 50 Indian Trail Road\, Penn Laird\, 22846\, United States
END:VEVENT
BEGIN:VEVENT
DTSTART;TZID=America/New_York:20240414T093000
DTEND;TZID=America/New_York:20240414T102000
DTSTAMP:20260426T001029
CREATED:20230830T185524Z
LAST-MODIFIED:20230925T131546Z
UID:12777-1713087000-1713090000@massanuttenchurch.org
SUMMARY:High School Breakfast
DESCRIPTION:
URL:https://massanuttenchurch.org/event/high-school-breakfast-3-2024-04-14/
LOCATION:50 Indian Trail Road\, Penn Laird\, VA\, 22846\, United States
END:VEVENT
BEGIN:VEVENT
DTSTART;TZID=America/New_York:20240414T093000
DTEND;TZID=America/New_York:20240414T102000
DTSTAMP:20260426T001029
CREATED:20230828T153941Z
LAST-MODIFIED:20240221T145848Z
UID:12503-1713087000-1713090000@massanuttenchurch.org
SUMMARY:Parent Fellowship
DESCRIPTION:
URL:https://massanuttenchurch.org/event/parent-fellowship-3-2024-04-14/
END:VEVENT
BEGIN:VEVENT
DTSTART;TZID=America/New_York:20240414T093000
DTEND;TZID=America/New_York:20240414T102000
DTSTAMP:20260426T001029
CREATED:20230828T153531Z
LAST-MODIFIED:20230828T153531Z
UID:12475-1713087000-1713090000@massanuttenchurch.org
SUMMARY:Faith Village
DESCRIPTION:
URL:https://massanuttenchurch.org/event/faith-village-2-2024-04-14/
LOCATION:50 Indian Trail Road\, Penn Laird\, VA\, 22846\, United States
END:VEVENT
BEGIN:VEVENT
DTSTART;TZID=America/New_York:20240414T090000
DTEND;TZID=America/New_York:20240414T100000
DTSTAMP:20260426T001029
CREATED:20230830T170330Z
LAST-MODIFIED:20231206T185133Z
UID:12732-1713085200-1713088800@massanuttenchurch.org
SUMMARY:Faithful Conversations
DESCRIPTION:
URL:https://massanuttenchurch.org/event/faithful-conversations-2-2024-04-14/
LOCATION:Room 119\, United States
END:VEVENT
BEGIN:VEVENT
DTSTART;TZID=America/New_York:20240414T090000
DTEND;TZID=America/New_York:20240414T100000
DTSTAMP:20260426T001029
CREATED:20230830T170048Z
LAST-MODIFIED:20231206T182705Z
UID:12738-1713085200-1713088800@massanuttenchurch.org
SUMMARY:Covenant Class
DESCRIPTION:
URL:https://massanuttenchurch.org/event/covenant-class-2-2024-04-14/
LOCATION:Room 117
END:VEVENT
BEGIN:VEVENT
DTSTART;TZID=America/New_York:20240411T190000
DTEND;TZID=America/New_York:20240411T200000
DTSTAMP:20260426T001029
CREATED:20230321T123715Z
LAST-MODIFIED:20230321T123715Z
UID:11923-1712862000-1712865600@massanuttenchurch.org
SUMMARY:Food Pantry
DESCRIPTION:
URL:https://massanuttenchurch.org/event/food-pantry-2024-04-11/
LOCATION:50 Indian Trail Road\, Penn Laird\, VA\, 22846\, United States
END:VEVENT
BEGIN:VEVENT
DTSTART;TZID=America/New_York:20240410T190000
DTEND;TZID=America/New_York:20240410T190000
DTSTAMP:20260426T001029
CREATED:20230817T140504Z
LAST-MODIFIED:20231115T172200Z
UID:12412-1712775600-1712775600@massanuttenchurch.org
SUMMARY:Chancel Choir Rehearsal
DESCRIPTION:
URL:https://massanuttenchurch.org/event/chancel-choir-rehearsal-4-2024-04-10/
LOCATION:50 Indian Trail Road\, Penn Laird\, VA\, 22846\, United States
END:VEVENT
END:VCALENDAR