BEGIN:VCALENDAR
VERSION:2.0
PRODID:-//Massanutten Presbyterian Church - ECPv6.15.20//NONSGML v1.0//EN
CALSCALE:GREGORIAN
METHOD:PUBLISH
X-WR-CALNAME:Massanutten Presbyterian Church
X-ORIGINAL-URL:https://massanuttenchurch.org
X-WR-CALDESC:Events for Massanutten Presbyterian Church
REFRESH-INTERVAL;VALUE=DURATION:PT1H
X-Robots-Tag:noindex
X-PUBLISHED-TTL:PT1H
BEGIN:VTIMEZONE
TZID:America/New_York
BEGIN:DAYLIGHT
TZOFFSETFROM:-0500
TZOFFSETTO:-0400
TZNAME:EDT
DTSTART:20230312T070000
END:DAYLIGHT
BEGIN:STANDARD
TZOFFSETFROM:-0400
TZOFFSETTO:-0500
TZNAME:EST
DTSTART:20231105T060000
END:STANDARD
BEGIN:DAYLIGHT
TZOFFSETFROM:-0500
TZOFFSETTO:-0400
TZNAME:EDT
DTSTART:20240310T070000
END:DAYLIGHT
BEGIN:STANDARD
TZOFFSETFROM:-0400
TZOFFSETTO:-0500
TZNAME:EST
DTSTART:20241103T060000
END:STANDARD
BEGIN:DAYLIGHT
TZOFFSETFROM:-0500
TZOFFSETTO:-0400
TZNAME:EDT
DTSTART:20250309T070000
END:DAYLIGHT
BEGIN:STANDARD
TZOFFSETFROM:-0400
TZOFFSETTO:-0500
TZNAME:EST
DTSTART:20251102T060000
END:STANDARD
END:VTIMEZONE
BEGIN:VTIMEZONE
TZID:UTC
BEGIN:STANDARD
TZOFFSETFROM:+0000
TZOFFSETTO:+0000
TZNAME:UTC
DTSTART:20230101T000000
END:STANDARD
END:VTIMEZONE
BEGIN:VEVENT
DTSTART;TZID=America/New_York:20240212T100000
DTEND;TZID=America/New_York:20240212T110000
DTSTAMP:20260425T232811
CREATED:20230321T123715Z
LAST-MODIFIED:20230321T123715Z
UID:11919-1707732000-1707735600@massanuttenchurch.org
SUMMARY:Food Pantry
DESCRIPTION:
URL:https://massanuttenchurch.org/event/food-pantry-2024-02-12/
LOCATION:50 Indian Trail Road\, Penn Laird\, VA\, 22846\, United States
END:VEVENT
BEGIN:VEVENT
DTSTART;TZID=America/New_York:20240211T170000
DTEND;TZID=America/New_York:20240211T170000
DTSTAMP:20260425T232811
CREATED:20220907T175517Z
LAST-MODIFIED:20240212T143403Z
UID:13267-1707670800-1707670800@massanuttenchurch.org
SUMMARY:Fun With Handbells
DESCRIPTION:
URL:https://massanuttenchurch.org/event/fun-with-handbells-2-2024-02-11/
LOCATION:50 Indian Trail Road\, Penn Laird\, VA\, 22846\, United States
END:VEVENT
BEGIN:VEVENT
DTSTART;TZID=America/New_York:20240211T104500
DTEND;TZID=America/New_York:20240211T111500
DTSTAMP:20260425T232811
CREATED:20230830T154529Z
LAST-MODIFIED:20230830T154529Z
UID:12866-1707648300-1707650100@massanuttenchurch.org
SUMMARY:Godly Play
DESCRIPTION:
URL:https://massanuttenchurch.org/event/godly-play-3-2024-02-11/
LOCATION:50 Indian Trail Road\, Penn Laird\, VA\, 22846\, United States
END:VEVENT
BEGIN:VEVENT
DTSTART;TZID=America/New_York:20240211T103000
DTEND;TZID=America/New_York:20240211T113000
DTSTAMP:20260425T232811
CREATED:20210712T024206Z
LAST-MODIFIED:20230802T155210Z
UID:11310-1707647400-1707651000@massanuttenchurch.org
SUMMARY:Sunday Worship
DESCRIPTION:
URL:https://massanuttenchurch.org/event/sunday-worship-2-2024-02-11/
LOCATION:Sanctuary\, 50 Indian Trail Road\, Penn Laird\, 22846\, United States
END:VEVENT
BEGIN:VEVENT
DTSTART;TZID=America/New_York:20240211T093000
DTEND;TZID=America/New_York:20240211T222000
DTSTAMP:20260425T232811
CREATED:20230828T153941Z
LAST-MODIFIED:20230828T153941Z
UID:12496-1707643800-1707690000@massanuttenchurch.org
SUMMARY:Parent Fellowship
DESCRIPTION:
URL:https://massanuttenchurch.org/event/parent-fellowship-3-2024-02-11/
LOCATION:50 Indian Trail Road\, Penn Laird\, VA\, 22846\, United States
END:VEVENT
BEGIN:VEVENT
DTSTART;TZID=America/New_York:20240211T093000
DTEND;TZID=America/New_York:20240211T102000
DTSTAMP:20260425T232811
CREATED:20230830T185524Z
LAST-MODIFIED:20230925T131543Z
UID:12768-1707643800-1707646800@massanuttenchurch.org
SUMMARY:High School Breakfast
DESCRIPTION:
URL:https://massanuttenchurch.org/event/high-school-breakfast-3-2024-02-11/
LOCATION:50 Indian Trail Road\, Penn Laird\, VA\, 22846\, United States
END:VEVENT
BEGIN:VEVENT
DTSTART;TZID=America/New_York:20240211T093000
DTEND;TZID=America/New_York:20240211T102000
DTSTAMP:20260425T232811
CREATED:20230828T153531Z
LAST-MODIFIED:20230828T153531Z
UID:12467-1707643800-1707646800@massanuttenchurch.org
SUMMARY:Faith Village
DESCRIPTION:
URL:https://massanuttenchurch.org/event/faith-village-2-2024-02-11/
LOCATION:50 Indian Trail Road\, Penn Laird\, VA\, 22846\, United States
END:VEVENT
BEGIN:VEVENT
DTSTART;TZID=America/New_York:20240211T090000
DTEND;TZID=America/New_York:20240211T100000
DTSTAMP:20260425T232811
CREATED:20230830T170330Z
LAST-MODIFIED:20231206T185132Z
UID:12723-1707642000-1707645600@massanuttenchurch.org
SUMMARY:Faithful Conversations
DESCRIPTION:
URL:https://massanuttenchurch.org/event/faithful-conversations-2-2024-02-11/
LOCATION:Room 119\, United States
END:VEVENT
BEGIN:VEVENT
DTSTART;TZID=America/New_York:20240211T090000
DTEND;TZID=America/New_York:20240211T100000
DTSTAMP:20260425T232811
CREATED:20230830T170048Z
LAST-MODIFIED:20231206T182702Z
UID:12691-1707642000-1707645600@massanuttenchurch.org
SUMMARY:Covenant Class
DESCRIPTION:
URL:https://massanuttenchurch.org/event/covenant-class-2-2024-02-11/
LOCATION:Room 117
END:VEVENT
BEGIN:VEVENT
DTSTART;TZID=America/New_York:20240208T190000
DTEND;TZID=America/New_York:20240208T200000
DTSTAMP:20260425T232811
CREATED:20230321T123715Z
LAST-MODIFIED:20230321T123715Z
UID:11918-1707418800-1707422400@massanuttenchurch.org
SUMMARY:Food Pantry
DESCRIPTION:
URL:https://massanuttenchurch.org/event/food-pantry-2024-02-08/
LOCATION:50 Indian Trail Road\, Penn Laird\, VA\, 22846\, United States
END:VEVENT
BEGIN:VEVENT
DTSTART;TZID=America/New_York:20240207T190000
DTEND;TZID=America/New_York:20240207T190000
DTSTAMP:20260425T232811
CREATED:20230817T140504Z
LAST-MODIFIED:20231115T172156Z
UID:12403-1707332400-1707332400@massanuttenchurch.org
SUMMARY:Chancel Choir Rehearsal
DESCRIPTION:
URL:https://massanuttenchurch.org/event/chancel-choir-rehearsal-4-2024-02-07/
LOCATION:50 Indian Trail Road\, Penn Laird\, VA\, 22846\, United States
END:VEVENT
BEGIN:VEVENT
DTSTART;TZID=America/New_York:20240205T190000
DTEND;TZID=America/New_York:20240205T190000
DTSTAMP:20260425T232811
CREATED:20220914T170136Z
LAST-MODIFIED:20240115T154111Z
UID:13248-1707159600-1707159600@massanuttenchurch.org
SUMMARY:Massanutten Ringers
DESCRIPTION:
URL:https://massanuttenchurch.org/event/massanutten-ringers-2-2024-02-05/
LOCATION:50 Indian Trail Road\, Penn Laird\, VA\, 22846\, United States
END:VEVENT
BEGIN:VEVENT
DTSTART;TZID=America/New_York:20240204T170000
DTEND;TZID=America/New_York:20240204T170000
DTSTAMP:20260425T232811
CREATED:20220907T175517Z
LAST-MODIFIED:20240212T143403Z
UID:13266-1707066000-1707066000@massanuttenchurch.org
SUMMARY:Fun With Handbells
DESCRIPTION:
URL:https://massanuttenchurch.org/event/fun-with-handbells-2-2024-02-04/
LOCATION:50 Indian Trail Road\, Penn Laird\, VA\, 22846\, United States
END:VEVENT
BEGIN:VEVENT
DTSTART;TZID=America/New_York:20240204T103000
DTEND;TZID=America/New_York:20240204T113000
DTSTAMP:20260425T232811
CREATED:20230802T154450Z
LAST-MODIFIED:20230802T154450Z
UID:12330-1707042600-1707046200@massanuttenchurch.org
SUMMARY:Sunday Worship with Communion
DESCRIPTION:
URL:https://massanuttenchurch.org/event/sunday-worship-with-communion-2024-02-04/
END:VEVENT
BEGIN:VEVENT
DTSTART;TZID=America/New_York:20240204T100000
DTEND;TZID=America/New_York:20240204T103000
DTSTAMP:20260425T232811
CREATED:20230927T155526Z
LAST-MODIFIED:20230927T155558Z
UID:12916-1707040800-1707042600@massanuttenchurch.org
SUMMARY:Coffee Fellowship
DESCRIPTION:
URL:https://massanuttenchurch.org/event/coffee-fellowship-2-2024-02-04/
LOCATION:50 Indian Trail Road\, Penn Laird\, VA\, 22846\, United States
END:VEVENT
BEGIN:VEVENT
DTSTART;TZID=America/New_York:20240204T093000
DTEND;TZID=America/New_York:20240204T102000
DTSTAMP:20260425T232811
CREATED:20230830T185524Z
LAST-MODIFIED:20230925T131543Z
UID:12767-1707039000-1707042000@massanuttenchurch.org
SUMMARY:High School Breakfast
DESCRIPTION:
URL:https://massanuttenchurch.org/event/high-school-breakfast-3-2024-02-04/
LOCATION:50 Indian Trail Road\, Penn Laird\, VA\, 22846\, United States
END:VEVENT
BEGIN:VEVENT
DTSTART;TZID=America/New_York:20240204T090000
DTEND;TZID=America/New_York:20240204T100000
DTSTAMP:20260425T232811
CREATED:20230830T170330Z
LAST-MODIFIED:20231206T185132Z
UID:12722-1707037200-1707040800@massanuttenchurch.org
SUMMARY:Faithful Conversations
DESCRIPTION:
URL:https://massanuttenchurch.org/event/faithful-conversations-2-2024-02-04/
LOCATION:Room 119\, United States
END:VEVENT
BEGIN:VEVENT
DTSTART;TZID=America/New_York:20240204T090000
DTEND;TZID=America/New_York:20240204T100000
DTSTAMP:20260425T232811
CREATED:20230830T170048Z
LAST-MODIFIED:20231206T182702Z
UID:12690-1707037200-1707040800@massanuttenchurch.org
SUMMARY:Covenant Class
DESCRIPTION:
URL:https://massanuttenchurch.org/event/covenant-class-2-2024-02-04/
LOCATION:Room 117
END:VEVENT
BEGIN:VEVENT
DTSTART;TZID=America/New_York:20240131T190000
DTEND;TZID=America/New_York:20240131T190000
DTSTAMP:20260425T232811
CREATED:20230817T140504Z
LAST-MODIFIED:20231115T172155Z
UID:12402-1706727600-1706727600@massanuttenchurch.org
SUMMARY:Chancel Choir Rehearsal
DESCRIPTION:
URL:https://massanuttenchurch.org/event/chancel-choir-rehearsal-4-2024-01-31/
LOCATION:50 Indian Trail Road\, Penn Laird\, VA\, 22846\, United States
END:VEVENT
BEGIN:VEVENT
DTSTART;TZID=America/New_York:20240129T190000
DTEND;TZID=America/New_York:20240129T190000
DTSTAMP:20260425T232811
CREATED:20220914T170136Z
LAST-MODIFIED:20240115T154110Z
UID:13247-1706554800-1706554800@massanuttenchurch.org
SUMMARY:Massanutten Ringers
DESCRIPTION:
URL:https://massanuttenchurch.org/event/massanutten-ringers-2-2024-01-29/
LOCATION:50 Indian Trail Road\, Penn Laird\, VA\, 22846\, United States
END:VEVENT
BEGIN:VEVENT
DTSTART;TZID=America/New_York:20240128T180000
DTEND;TZID=America/New_York:20240128T180000
DTSTAMP:20260425T232811
CREATED:20230830T161207Z
LAST-MODIFIED:20230830T161207Z
UID:12630-1706464800-1706464800@massanuttenchurch.org
SUMMARY:Youth Group
DESCRIPTION:
URL:https://massanuttenchurch.org/event/youth-group-3-2024-01-28/
LOCATION:50 Indian Trail Road\, Penn Laird\, VA\, 22846\, United States
END:VEVENT
BEGIN:VEVENT
DTSTART;TZID=America/New_York:20240128T104500
DTEND;TZID=America/New_York:20240128T111500
DTSTAMP:20260425T232811
CREATED:20230830T154529Z
LAST-MODIFIED:20230830T154529Z
UID:12865-1706438700-1706440500@massanuttenchurch.org
SUMMARY:Godly Play
DESCRIPTION:
URL:https://massanuttenchurch.org/event/godly-play-3-2024-01-28/
LOCATION:50 Indian Trail Road\, Penn Laird\, VA\, 22846\, United States
END:VEVENT
BEGIN:VEVENT
DTSTART;TZID=America/New_York:20240128T103000
DTEND;TZID=America/New_York:20240128T113000
DTSTAMP:20260425T232811
CREATED:20210712T024206Z
LAST-MODIFIED:20230802T155209Z
UID:11308-1706437800-1706441400@massanuttenchurch.org
SUMMARY:Sunday Worship
DESCRIPTION:
URL:https://massanuttenchurch.org/event/sunday-worship-2-2024-01-28/
LOCATION:Sanctuary\, 50 Indian Trail Road\, Penn Laird\, 22846\, United States
END:VEVENT
BEGIN:VEVENT
DTSTART;TZID=America/New_York:20240128T093000
DTEND;TZID=America/New_York:20240128T222000
DTSTAMP:20260425T232811
CREATED:20230828T153941Z
LAST-MODIFIED:20230828T153941Z
UID:12495-1706434200-1706480400@massanuttenchurch.org
SUMMARY:Parent Fellowship
DESCRIPTION:
URL:https://massanuttenchurch.org/event/parent-fellowship-3-2024-01-28/
LOCATION:50 Indian Trail Road\, Penn Laird\, VA\, 22846\, United States
END:VEVENT
BEGIN:VEVENT
DTSTART;TZID=America/New_York:20240128T093000
DTEND;TZID=America/New_York:20240128T102000
DTSTAMP:20260425T232811
CREATED:20230830T185524Z
LAST-MODIFIED:20230925T131542Z
UID:12766-1706434200-1706437200@massanuttenchurch.org
SUMMARY:High School Breakfast
DESCRIPTION:
URL:https://massanuttenchurch.org/event/high-school-breakfast-3-2024-01-28/
LOCATION:50 Indian Trail Road\, Penn Laird\, VA\, 22846\, United States
END:VEVENT
BEGIN:VEVENT
DTSTART;TZID=America/New_York:20240128T093000
DTEND;TZID=America/New_York:20240128T102000
DTSTAMP:20260425T232811
CREATED:20230828T153531Z
LAST-MODIFIED:20230828T153531Z
UID:12466-1706434200-1706437200@massanuttenchurch.org
SUMMARY:Faith Village
DESCRIPTION:
URL:https://massanuttenchurch.org/event/faith-village-2-2024-01-28/
LOCATION:50 Indian Trail Road\, Penn Laird\, VA\, 22846\, United States
END:VEVENT
BEGIN:VEVENT
DTSTART;TZID=America/New_York:20240128T090000
DTEND;TZID=America/New_York:20240128T100000
DTSTAMP:20260425T232811
CREATED:20230830T170330Z
LAST-MODIFIED:20231206T182626Z
UID:12721-1706432400-1706436000@massanuttenchurch.org
SUMMARY:Faithful Conversations
DESCRIPTION:
URL:https://massanuttenchurch.org/event/faithful-conversations-2-2024-01-28/
LOCATION:Room 119\, United States
END:VEVENT
BEGIN:VEVENT
DTSTART;TZID=America/New_York:20240128T090000
DTEND;TZID=America/New_York:20240128T100000
DTSTAMP:20260425T232811
CREATED:20230830T170048Z
LAST-MODIFIED:20231206T182701Z
UID:12688-1706432400-1706436000@massanuttenchurch.org
SUMMARY:Covenant Class
DESCRIPTION:
URL:https://massanuttenchurch.org/event/covenant-class-2-2024-01-28/
LOCATION:Room 117
END:VEVENT
BEGIN:VEVENT
DTSTART;TZID=America/New_York:20240124T190000
DTEND;TZID=America/New_York:20240124T190000
DTSTAMP:20260425T232811
CREATED:20230817T140504Z
LAST-MODIFIED:20231115T172155Z
UID:12401-1706122800-1706122800@massanuttenchurch.org
SUMMARY:Chancel Choir Rehearsal
DESCRIPTION:
URL:https://massanuttenchurch.org/event/chancel-choir-rehearsal-4-2024-01-24/
LOCATION:50 Indian Trail Road\, Penn Laird\, VA\, 22846\, United States
END:VEVENT
BEGIN:VEVENT
DTSTART;TZID=UTC:20240121T183000
DTEND;TZID=UTC:20240121T203000
DTSTAMP:20260425T232811
CREATED:20170425T032515Z
LAST-MODIFIED:20230822T121250Z
UID:9387-1705861800-1705869000@massanuttenchurch.org
SUMMARY:Session Meeting
DESCRIPTION:Session Meeting
URL:https://massanuttenchurch.org/event/session-meeting-2024-01-21/
LOCATION:Fellowship Hall
END:VEVENT
END:VCALENDAR