BEGIN:VCALENDAR
VERSION:2.0
PRODID:-//Massanutten Presbyterian Church - ECPv6.15.20//NONSGML v1.0//EN
CALSCALE:GREGORIAN
METHOD:PUBLISH
X-WR-CALNAME:Massanutten Presbyterian Church
X-ORIGINAL-URL:https://massanuttenchurch.org
X-WR-CALDESC:Events for Massanutten Presbyterian Church
REFRESH-INTERVAL;VALUE=DURATION:PT1H
X-Robots-Tag:noindex
X-PUBLISHED-TTL:PT1H
BEGIN:VTIMEZONE
TZID:America/New_York
BEGIN:DAYLIGHT
TZOFFSETFROM:-0500
TZOFFSETTO:-0400
TZNAME:EDT
DTSTART:20230312T070000
END:DAYLIGHT
BEGIN:STANDARD
TZOFFSETFROM:-0400
TZOFFSETTO:-0500
TZNAME:EST
DTSTART:20231105T060000
END:STANDARD
BEGIN:DAYLIGHT
TZOFFSETFROM:-0500
TZOFFSETTO:-0400
TZNAME:EDT
DTSTART:20240310T070000
END:DAYLIGHT
BEGIN:STANDARD
TZOFFSETFROM:-0400
TZOFFSETTO:-0500
TZNAME:EST
DTSTART:20241103T060000
END:STANDARD
BEGIN:DAYLIGHT
TZOFFSETFROM:-0500
TZOFFSETTO:-0400
TZNAME:EDT
DTSTART:20250309T070000
END:DAYLIGHT
BEGIN:STANDARD
TZOFFSETFROM:-0400
TZOFFSETTO:-0500
TZNAME:EST
DTSTART:20251102T060000
END:STANDARD
END:VTIMEZONE
BEGIN:VTIMEZONE
TZID:UTC
BEGIN:STANDARD
TZOFFSETFROM:+0000
TZOFFSETTO:+0000
TZNAME:UTC
DTSTART:20230101T000000
END:STANDARD
END:VTIMEZONE
BEGIN:VEVENT
DTSTART;TZID=America/New_York:20240331T093000
DTEND;TZID=America/New_York:20240331T102000
DTSTAMP:20260425T220553
CREATED:20230830T185524Z
LAST-MODIFIED:20230925T131546Z
UID:12775-1711877400-1711880400@massanuttenchurch.org
SUMMARY:High School Breakfast
DESCRIPTION:
URL:https://massanuttenchurch.org/event/high-school-breakfast-3-2024-03-31/
LOCATION:50 Indian Trail Road\, Penn Laird\, VA\, 22846\, United States
END:VEVENT
BEGIN:VEVENT
DTSTART;TZID=America/New_York:20240331T090000
DTEND;TZID=America/New_York:20240331T100000
DTSTAMP:20260425T220553
CREATED:20230830T170330Z
LAST-MODIFIED:20231206T185133Z
UID:12730-1711875600-1711879200@massanuttenchurch.org
SUMMARY:Faithful Conversations
DESCRIPTION:
URL:https://massanuttenchurch.org/event/faithful-conversations-2-2024-03-31/
LOCATION:Room 119\, United States
END:VEVENT
BEGIN:VEVENT
DTSTART;TZID=America/New_York:20240331T090000
DTEND;TZID=America/New_York:20240331T100000
DTSTAMP:20260425T220553
CREATED:20230830T170048Z
LAST-MODIFIED:20231206T182704Z
UID:12698-1711875600-1711879200@massanuttenchurch.org
SUMMARY:Covenant Class
DESCRIPTION:
URL:https://massanuttenchurch.org/event/covenant-class-2-2024-03-31/
LOCATION:Room 117
END:VEVENT
BEGIN:VEVENT
DTSTART;TZID=America/New_York:20240328T103000
DTEND;TZID=America/New_York:20240328T113000
DTSTAMP:20260425T220553
CREATED:20230802T154450Z
LAST-MODIFIED:20230802T154450Z
UID:12332-1711621800-1711625400@massanuttenchurch.org
SUMMARY:Sunday Worship with Communion
DESCRIPTION:
URL:https://massanuttenchurch.org/event/sunday-worship-with-communion-2024-03-28/
END:VEVENT
BEGIN:VEVENT
DTSTART;TZID=America/New_York:20240327T190000
DTEND;TZID=America/New_York:20240327T190000
DTSTAMP:20260425T220553
CREATED:20230817T140504Z
LAST-MODIFIED:20231115T172159Z
UID:12410-1711566000-1711566000@massanuttenchurch.org
SUMMARY:Chancel Choir Rehearsal
DESCRIPTION:
URL:https://massanuttenchurch.org/event/chancel-choir-rehearsal-4-2024-03-27/
LOCATION:50 Indian Trail Road\, Penn Laird\, VA\, 22846\, United States
END:VEVENT
BEGIN:VEVENT
DTSTART;TZID=America/New_York:20240325T190000
DTEND;TZID=America/New_York:20240325T190000
DTSTAMP:20260425T220553
CREATED:20220914T170136Z
LAST-MODIFIED:20240115T154114Z
UID:13255-1711393200-1711393200@massanuttenchurch.org
SUMMARY:Massanutten Ringers
DESCRIPTION:
URL:https://massanuttenchurch.org/event/massanutten-ringers-2-2024-03-25/
LOCATION:50 Indian Trail Road\, Penn Laird\, VA\, 22846\, United States
END:VEVENT
BEGIN:VEVENT
DTSTART;TZID=America/New_York:20240324T170000
DTEND;TZID=America/New_York:20240324T170000
DTSTAMP:20260425T220553
CREATED:20220907T175517Z
LAST-MODIFIED:20240212T143403Z
UID:13273-1711299600-1711299600@massanuttenchurch.org
SUMMARY:Fun With Handbells
DESCRIPTION:
URL:https://massanuttenchurch.org/event/fun-with-handbells-2-2024-03-24/
LOCATION:50 Indian Trail Road\, Penn Laird\, VA\, 22846\, United States
END:VEVENT
BEGIN:VEVENT
DTSTART;TZID=America/New_York:20240324T103000
DTEND;TZID=America/New_York:20240324T113000
DTSTAMP:20260425T220553
CREATED:20210712T024206Z
LAST-MODIFIED:20230802T155210Z
UID:11316-1711276200-1711279800@massanuttenchurch.org
SUMMARY:Sunday Worship
DESCRIPTION:
URL:https://massanuttenchurch.org/event/sunday-worship-2-2024-03-24/
LOCATION:Sanctuary\, 50 Indian Trail Road\, Penn Laird\, 22846\, United States
END:VEVENT
BEGIN:VEVENT
DTSTART;TZID=America/New_York:20240324T090000
DTEND;TZID=America/New_York:20240324T100000
DTSTAMP:20260425T220553
CREATED:20230830T170330Z
LAST-MODIFIED:20231206T185133Z
UID:12729-1711270800-1711274400@massanuttenchurch.org
SUMMARY:Faithful Conversations
DESCRIPTION:
URL:https://massanuttenchurch.org/event/faithful-conversations-2-2024-03-24/
LOCATION:Room 119\, United States
END:VEVENT
BEGIN:VEVENT
DTSTART;TZID=America/New_York:20240324T090000
DTEND;TZID=America/New_York:20240324T100000
DTSTAMP:20260425T220553
CREATED:20230830T170048Z
LAST-MODIFIED:20231206T182704Z
UID:12697-1711270800-1711274400@massanuttenchurch.org
SUMMARY:Covenant Class
DESCRIPTION:
URL:https://massanuttenchurch.org/event/covenant-class-2-2024-03-24/
LOCATION:Room 117
END:VEVENT
BEGIN:VEVENT
DTSTART;TZID=America/New_York:20240320T190000
DTEND;TZID=America/New_York:20240320T190000
DTSTAMP:20260425T220553
CREATED:20230817T140504Z
LAST-MODIFIED:20231115T172159Z
UID:12409-1710961200-1710961200@massanuttenchurch.org
SUMMARY:Chancel Choir Rehearsal
DESCRIPTION:
URL:https://massanuttenchurch.org/event/chancel-choir-rehearsal-4-2024-03-20/
LOCATION:50 Indian Trail Road\, Penn Laird\, VA\, 22846\, United States
END:VEVENT
BEGIN:VEVENT
DTSTART;TZID=America/New_York:20240318T190000
DTEND;TZID=America/New_York:20240318T190000
DTSTAMP:20260425T220553
CREATED:20220914T170136Z
LAST-MODIFIED:20240115T154114Z
UID:13254-1710788400-1710788400@massanuttenchurch.org
SUMMARY:Massanutten Ringers
DESCRIPTION:
URL:https://massanuttenchurch.org/event/massanutten-ringers-2-2024-03-18/
LOCATION:50 Indian Trail Road\, Penn Laird\, VA\, 22846\, United States
END:VEVENT
BEGIN:VEVENT
DTSTART;TZID=UTC:20240317T183000
DTEND;TZID=UTC:20240317T203000
DTSTAMP:20260425T220553
CREATED:20170425T032515Z
LAST-MODIFIED:20230822T121251Z
UID:9735-1710700200-1710707400@massanuttenchurch.org
SUMMARY:Session Meeting
DESCRIPTION:Session Meeting
URL:https://massanuttenchurch.org/event/session-meeting-2024-03-17/
LOCATION:Fellowship Hall
END:VEVENT
BEGIN:VEVENT
DTSTART;TZID=America/New_York:20240317T170000
DTEND;TZID=America/New_York:20240317T170000
DTSTAMP:20260425T220553
CREATED:20220907T175517Z
LAST-MODIFIED:20240212T143403Z
UID:13272-1710694800-1710694800@massanuttenchurch.org
SUMMARY:Fun With Handbells
DESCRIPTION:
URL:https://massanuttenchurch.org/event/fun-with-handbells-2-2024-03-17/
LOCATION:50 Indian Trail Road\, Penn Laird\, VA\, 22846\, United States
END:VEVENT
BEGIN:VEVENT
DTSTART;TZID=America/New_York:20240317T104500
DTEND;TZID=America/New_York:20240317T111500
DTSTAMP:20260425T220553
CREATED:20230830T154529Z
LAST-MODIFIED:20230830T154529Z
UID:12871-1710672300-1710674100@massanuttenchurch.org
SUMMARY:Godly Play
DESCRIPTION:
URL:https://massanuttenchurch.org/event/godly-play-3-2024-03-17/
LOCATION:50 Indian Trail Road\, Penn Laird\, VA\, 22846\, United States
END:VEVENT
BEGIN:VEVENT
DTSTART;TZID=America/New_York:20240317T103000
DTEND;TZID=America/New_York:20240317T113000
DTSTAMP:20260425T220553
CREATED:20210712T024206Z
LAST-MODIFIED:20230802T155210Z
UID:11315-1710671400-1710675000@massanuttenchurch.org
SUMMARY:Sunday Worship
DESCRIPTION:
URL:https://massanuttenchurch.org/event/sunday-worship-2-2024-03-17/
LOCATION:Sanctuary\, 50 Indian Trail Road\, Penn Laird\, 22846\, United States
END:VEVENT
BEGIN:VEVENT
DTSTART;TZID=America/New_York:20240317T093000
DTEND;TZID=America/New_York:20240317T102000
DTSTAMP:20260425T220553
CREATED:20230830T185524Z
LAST-MODIFIED:20230925T131545Z
UID:12773-1710667800-1710670800@massanuttenchurch.org
SUMMARY:High School Breakfast
DESCRIPTION:
URL:https://massanuttenchurch.org/event/high-school-breakfast-3-2024-03-17/
LOCATION:50 Indian Trail Road\, Penn Laird\, VA\, 22846\, United States
END:VEVENT
BEGIN:VEVENT
DTSTART;TZID=America/New_York:20240317T093000
DTEND;TZID=America/New_York:20240317T102000
DTSTAMP:20260425T220553
CREATED:20230828T153941Z
LAST-MODIFIED:20240221T145808Z
UID:12501-1710667800-1710670800@massanuttenchurch.org
SUMMARY:Parent Fellowship
DESCRIPTION:
URL:https://massanuttenchurch.org/event/parent-fellowship-3-2024-03-17/
END:VEVENT
BEGIN:VEVENT
DTSTART;TZID=America/New_York:20240317T093000
DTEND;TZID=America/New_York:20240317T102000
DTSTAMP:20260425T220553
CREATED:20230828T153531Z
LAST-MODIFIED:20230828T153531Z
UID:12473-1710667800-1710670800@massanuttenchurch.org
SUMMARY:Faith Village
DESCRIPTION:
URL:https://massanuttenchurch.org/event/faith-village-2-2024-03-17/
LOCATION:50 Indian Trail Road\, Penn Laird\, VA\, 22846\, United States
END:VEVENT
BEGIN:VEVENT
DTSTART;TZID=America/New_York:20240317T090000
DTEND;TZID=America/New_York:20240317T100000
DTSTAMP:20260425T220553
CREATED:20230830T170330Z
LAST-MODIFIED:20231206T185133Z
UID:12728-1710666000-1710669600@massanuttenchurch.org
SUMMARY:Faithful Conversations
DESCRIPTION:
URL:https://massanuttenchurch.org/event/faithful-conversations-2-2024-03-17/
LOCATION:Room 119\, United States
END:VEVENT
BEGIN:VEVENT
DTSTART;TZID=America/New_York:20240317T090000
DTEND;TZID=America/New_York:20240317T100000
DTSTAMP:20260425T220553
CREATED:20230830T170048Z
LAST-MODIFIED:20231206T182704Z
UID:12696-1710666000-1710669600@massanuttenchurch.org
SUMMARY:Covenant Class
DESCRIPTION:
URL:https://massanuttenchurch.org/event/covenant-class-2-2024-03-17/
LOCATION:Room 117
END:VEVENT
BEGIN:VEVENT
DTSTART;TZID=America/New_York:20240314T190000
DTEND;TZID=America/New_York:20240314T200000
DTSTAMP:20260425T220553
CREATED:20230321T123715Z
LAST-MODIFIED:20230321T123715Z
UID:11921-1710442800-1710446400@massanuttenchurch.org
SUMMARY:Food Pantry
DESCRIPTION:
URL:https://massanuttenchurch.org/event/food-pantry-2024-03-14/
LOCATION:50 Indian Trail Road\, Penn Laird\, VA\, 22846\, United States
END:VEVENT
BEGIN:VEVENT
DTSTART;TZID=America/New_York:20240313T190000
DTEND;TZID=America/New_York:20240313T190000
DTSTAMP:20260425T220553
CREATED:20230817T140504Z
LAST-MODIFIED:20231115T172159Z
UID:12408-1710356400-1710356400@massanuttenchurch.org
SUMMARY:Chancel Choir Rehearsal
DESCRIPTION:
URL:https://massanuttenchurch.org/event/chancel-choir-rehearsal-4-2024-03-13/
LOCATION:50 Indian Trail Road\, Penn Laird\, VA\, 22846\, United States
END:VEVENT
BEGIN:VEVENT
DTSTART;TZID=America/New_York:20240311T190000
DTEND;TZID=America/New_York:20240311T190000
DTSTAMP:20260425T220553
CREATED:20220914T170136Z
LAST-MODIFIED:20240115T154114Z
UID:13253-1710183600-1710183600@massanuttenchurch.org
SUMMARY:Massanutten Ringers
DESCRIPTION:
URL:https://massanuttenchurch.org/event/massanutten-ringers-2-2024-03-11/
LOCATION:50 Indian Trail Road\, Penn Laird\, VA\, 22846\, United States
END:VEVENT
BEGIN:VEVENT
DTSTART;TZID=America/New_York:20240311T100000
DTEND;TZID=America/New_York:20240311T110000
DTSTAMP:20260425T220553
CREATED:20230321T123715Z
LAST-MODIFIED:20230321T123715Z
UID:11920-1710151200-1710154800@massanuttenchurch.org
SUMMARY:Food Pantry
DESCRIPTION:
URL:https://massanuttenchurch.org/event/food-pantry-2024-03-11/
LOCATION:50 Indian Trail Road\, Penn Laird\, VA\, 22846\, United States
END:VEVENT
BEGIN:VEVENT
DTSTART;TZID=America/New_York:20240310T180000
DTEND;TZID=America/New_York:20240310T180000
DTSTAMP:20260425T220553
CREATED:20230830T161207Z
LAST-MODIFIED:20230830T161207Z
UID:12634-1710093600-1710093600@massanuttenchurch.org
SUMMARY:Youth Group
DESCRIPTION:
URL:https://massanuttenchurch.org/event/youth-group-3-2024-03-10/
LOCATION:50 Indian Trail Road\, Penn Laird\, VA\, 22846\, United States
END:VEVENT
BEGIN:VEVENT
DTSTART;TZID=America/New_York:20240310T170000
DTEND;TZID=America/New_York:20240310T170000
DTSTAMP:20260425T220553
CREATED:20220907T175517Z
LAST-MODIFIED:20240212T143403Z
UID:13271-1710090000-1710090000@massanuttenchurch.org
SUMMARY:Fun With Handbells
DESCRIPTION:
URL:https://massanuttenchurch.org/event/fun-with-handbells-2-2024-03-10/
LOCATION:50 Indian Trail Road\, Penn Laird\, VA\, 22846\, United States
END:VEVENT
BEGIN:VEVENT
DTSTART;TZID=America/New_York:20240310T104500
DTEND;TZID=America/New_York:20240310T111500
DTSTAMP:20260425T220553
CREATED:20230830T154529Z
LAST-MODIFIED:20230830T154529Z
UID:12870-1710067500-1710069300@massanuttenchurch.org
SUMMARY:Godly Play
DESCRIPTION:
URL:https://massanuttenchurch.org/event/godly-play-3-2024-03-10/
LOCATION:50 Indian Trail Road\, Penn Laird\, VA\, 22846\, United States
END:VEVENT
BEGIN:VEVENT
DTSTART;TZID=America/New_York:20240310T103000
DTEND;TZID=America/New_York:20240310T113000
DTSTAMP:20260425T220553
CREATED:20210712T024206Z
LAST-MODIFIED:20230802T155210Z
UID:11314-1710066600-1710070200@massanuttenchurch.org
SUMMARY:Sunday Worship
DESCRIPTION:
URL:https://massanuttenchurch.org/event/sunday-worship-2-2024-03-10/
LOCATION:Sanctuary\, 50 Indian Trail Road\, Penn Laird\, 22846\, United States
END:VEVENT
BEGIN:VEVENT
DTSTART;TZID=America/New_York:20240310T093000
DTEND;TZID=America/New_York:20240310T102000
DTSTAMP:20260425T220553
CREATED:20230830T185524Z
LAST-MODIFIED:20230925T131544Z
UID:12772-1710063000-1710066000@massanuttenchurch.org
SUMMARY:High School Breakfast
DESCRIPTION:
URL:https://massanuttenchurch.org/event/high-school-breakfast-3-2024-03-10/
LOCATION:50 Indian Trail Road\, Penn Laird\, VA\, 22846\, United States
END:VEVENT
END:VCALENDAR