BEGIN:VCALENDAR
VERSION:2.0
PRODID:-//Massanutten Presbyterian Church - ECPv6.15.20//NONSGML v1.0//EN
CALSCALE:GREGORIAN
METHOD:PUBLISH
X-WR-CALNAME:Massanutten Presbyterian Church
X-ORIGINAL-URL:https://massanuttenchurch.org
X-WR-CALDESC:Events for Massanutten Presbyterian Church
REFRESH-INTERVAL;VALUE=DURATION:PT1H
X-Robots-Tag:noindex
X-PUBLISHED-TTL:PT1H
BEGIN:VTIMEZONE
TZID:America/New_York
BEGIN:DAYLIGHT
TZOFFSETFROM:-0500
TZOFFSETTO:-0400
TZNAME:EDT
DTSTART:20240310T070000
END:DAYLIGHT
BEGIN:STANDARD
TZOFFSETFROM:-0400
TZOFFSETTO:-0500
TZNAME:EST
DTSTART:20241103T060000
END:STANDARD
BEGIN:DAYLIGHT
TZOFFSETFROM:-0500
TZOFFSETTO:-0400
TZNAME:EDT
DTSTART:20250309T070000
END:DAYLIGHT
BEGIN:STANDARD
TZOFFSETFROM:-0400
TZOFFSETTO:-0500
TZNAME:EST
DTSTART:20251102T060000
END:STANDARD
BEGIN:DAYLIGHT
TZOFFSETFROM:-0500
TZOFFSETTO:-0400
TZNAME:EDT
DTSTART:20260308T070000
END:DAYLIGHT
BEGIN:STANDARD
TZOFFSETFROM:-0400
TZOFFSETTO:-0500
TZNAME:EST
DTSTART:20261101T060000
END:STANDARD
END:VTIMEZONE
BEGIN:VTIMEZONE
TZID:UTC
BEGIN:STANDARD
TZOFFSETFROM:+0000
TZOFFSETTO:+0000
TZNAME:UTC
DTSTART:20240101T000000
END:STANDARD
END:VTIMEZONE
BEGIN:VEVENT
DTSTART;TZID=America/New_York:20251123T090000
DTEND;TZID=America/New_York:20251123T100000
DTSTAMP:20260425T103639
CREATED:20250910T160344Z
LAST-MODIFIED:20250910T160344Z
UID:15452-1763888400-1763892000@massanuttenchurch.org
SUMMARY:Faithful Conversations
DESCRIPTION:
URL:https://massanuttenchurch.org/event/faithful-conversations-14/
LOCATION:Room 119\, United States
END:VEVENT
BEGIN:VEVENT
DTSTART;TZID=America/New_York:20251123T090000
DTEND;TZID=America/New_York:20251123T100000
DTSTAMP:20260425T103639
CREATED:20250910T151022Z
LAST-MODIFIED:20250910T151022Z
UID:15381-1763888400-1763892000@massanuttenchurch.org
SUMMARY:Covenant Class
DESCRIPTION:
URL:https://massanuttenchurch.org/event/covenant-class-14/
LOCATION:Room 117
END:VEVENT
BEGIN:VEVENT
DTSTART;TZID=America/New_York:20251119T190000
DTEND;TZID=America/New_York:20251119T190000
DTSTAMP:20260425T103639
CREATED:20250813T142344Z
LAST-MODIFIED:20250813T142344Z
UID:14838-1763578800-1763578800@massanuttenchurch.org
SUMMARY:Chancel Choir Rehearsal
DESCRIPTION:
URL:https://massanuttenchurch.org/event/chancel-choir-rehearsal-58/
LOCATION:Choir Room\, 50 Indian Trail Road\, Penn Laird\, 22846\, United States
END:VEVENT
BEGIN:VEVENT
DTSTART;TZID=America/New_York:20251116T180000
DTEND;TZID=America/New_York:20251116T200000
DTSTAMP:20260425T103639
CREATED:20250904T160209Z
LAST-MODIFIED:20250904T160209Z
UID:15208-1763316000-1763323200@massanuttenchurch.org
SUMMARY:Youth Group
DESCRIPTION:
URL:https://massanuttenchurch.org/event/youth-group-12/
END:VEVENT
BEGIN:VEVENT
DTSTART;TZID=America/New_York:20251116T170000
DTEND;TZID=America/New_York:20251116T180000
DTSTAMP:20260425T103639
CREATED:20250904T162335Z
LAST-MODIFIED:20250904T162335Z
UID:15258-1763312400-1763316000@massanuttenchurch.org
SUMMARY:Fun with Handbells
DESCRIPTION:
URL:https://massanuttenchurch.org/event/fun-with-handbells-11/
END:VEVENT
BEGIN:VEVENT
DTSTART;TZID=UTC:20251116T120000
DTEND;TZID=UTC:20251116T120000
DTSTAMP:20260425T103639
CREATED:20170425T032515Z
LAST-MODIFIED:20250714T152729Z
UID:13012-1763294400-1763294400@massanuttenchurch.org
SUMMARY:Session Meeting
DESCRIPTION:Session Meeting
URL:https://massanuttenchurch.org/event/session-meeting-2025-11-16/
LOCATION:Fellowship Hall
END:VEVENT
BEGIN:VEVENT
DTSTART;TZID=America/New_York:20251116T104500
DTEND;TZID=America/New_York:20251116T111500
DTSTAMP:20260425T103639
CREATED:20250904T150609Z
LAST-MODIFIED:20250904T150609Z
UID:15145-1763289900-1763291700@massanuttenchurch.org
SUMMARY:Godly Play
DESCRIPTION:
URL:https://massanuttenchurch.org/event/godly-play-13/
END:VEVENT
BEGIN:VEVENT
DTSTART;TZID=America/New_York:20251116T093000
DTEND;TZID=America/New_York:20251116T102000
DTSTAMP:20260425T103639
CREATED:20250904T143608Z
LAST-MODIFIED:20250904T143608Z
UID:15081-1763285400-1763288400@massanuttenchurch.org
SUMMARY:Parent Fellowship
DESCRIPTION:
URL:https://massanuttenchurch.org/event/parent-fellowship-12/
END:VEVENT
BEGIN:VEVENT
DTSTART;TZID=America/New_York:20251116T093000
DTEND;TZID=America/New_York:20251116T102000
DTSTAMP:20260425T103639
CREATED:20250904T141307Z
LAST-MODIFIED:20250904T141307Z
UID:15027-1763285400-1763288400@massanuttenchurch.org
SUMMARY:High School Breakfast
DESCRIPTION:
URL:https://massanuttenchurch.org/event/high-school-breakfast-10/
END:VEVENT
BEGIN:VEVENT
DTSTART;TZID=America/New_York:20251116T093000
DTEND;TZID=America/New_York:20251116T102000
DTSTAMP:20260425T103639
CREATED:20250904T135757Z
LAST-MODIFIED:20250904T135757Z
UID:14969-1763285400-1763288400@massanuttenchurch.org
SUMMARY:Middle School Sunday School
DESCRIPTION:
URL:https://massanuttenchurch.org/event/middle-school-sunday-school-9/
END:VEVENT
BEGIN:VEVENT
DTSTART;TZID=America/New_York:20251116T093000
DTEND;TZID=America/New_York:20251116T102000
DTSTAMP:20260425T103639
CREATED:20250904T133831Z
LAST-MODIFIED:20250904T133831Z
UID:14905-1763285400-1763288400@massanuttenchurch.org
SUMMARY:Faith Village
DESCRIPTION:
URL:https://massanuttenchurch.org/event/faith-village-11/
END:VEVENT
BEGIN:VEVENT
DTSTART;TZID=America/New_York:20251116T090000
DTEND;TZID=America/New_York:20251116T100000
DTSTAMP:20260425T103639
CREATED:20250910T160319Z
LAST-MODIFIED:20250910T160319Z
UID:15450-1763283600-1763287200@massanuttenchurch.org
SUMMARY:Faithful Conversations
DESCRIPTION:
URL:https://massanuttenchurch.org/event/faithful-conversations-13/
LOCATION:Room 119\, United States
END:VEVENT
BEGIN:VEVENT
DTSTART;TZID=America/New_York:20251116T090000
DTEND;TZID=America/New_York:20251116T100000
DTSTAMP:20260425T103639
CREATED:20250910T150912Z
LAST-MODIFIED:20250910T150912Z
UID:15379-1763283600-1763287200@massanuttenchurch.org
SUMMARY:Covenant Class
DESCRIPTION:
URL:https://massanuttenchurch.org/event/covenant-class-13/
LOCATION:Room 117
END:VEVENT
BEGIN:VEVENT
DTSTART;TZID=America/New_York:20251113T190000
DTEND;TZID=America/New_York:20251113T200000
DTSTAMP:20260425T103639
CREATED:20230321T123715Z
LAST-MODIFIED:20230321T123715Z
UID:13130-1763060400-1763064000@massanuttenchurch.org
SUMMARY:Food Pantry
DESCRIPTION:
URL:https://massanuttenchurch.org/event/food-pantry-2025-11-13/
LOCATION:50 Indian Trail Road\, Penn Laird\, VA\, 22846\, United States
END:VEVENT
BEGIN:VEVENT
DTSTART;TZID=America/New_York:20251112T193000
DTEND;TZID=America/New_York:20251112T193000
DTSTAMP:20260425T103639
CREATED:20250813T142318Z
LAST-MODIFIED:20250813T142318Z
UID:14836-1762975800-1762975800@massanuttenchurch.org
SUMMARY:Chancel Choir Rehearsal
DESCRIPTION:
URL:https://massanuttenchurch.org/event/chancel-choir-rehearsal-57/
LOCATION:Choir Room\, 50 Indian Trail Road\, Penn Laird\, 22846\, United States
END:VEVENT
BEGIN:VEVENT
DTSTART;TZID=America/New_York:20251110T100000
DTEND;TZID=America/New_York:20251110T110000
DTSTAMP:20260425T103639
CREATED:20250904T132034Z
LAST-MODIFIED:20250904T132034Z
UID:14865-1762768800-1762772400@massanuttenchurch.org
SUMMARY:Food Pantry
DESCRIPTION:
URL:https://massanuttenchurch.org/event/food-pantry-2/
END:VEVENT
BEGIN:VEVENT
DTSTART;TZID=America/New_York:20251109T180000
DTEND;TZID=America/New_York:20251109T200000
DTSTAMP:20260425T103639
CREATED:20250904T160149Z
LAST-MODIFIED:20250904T160149Z
UID:15206-1762711200-1762718400@massanuttenchurch.org
SUMMARY:Youth Group
DESCRIPTION:
URL:https://massanuttenchurch.org/event/youth-group-11/
END:VEVENT
BEGIN:VEVENT
DTSTART;TZID=America/New_York:20251109T170000
DTEND;TZID=America/New_York:20251109T180000
DTSTAMP:20260425T103639
CREATED:20250904T162316Z
LAST-MODIFIED:20250904T162316Z
UID:15256-1762707600-1762711200@massanuttenchurch.org
SUMMARY:Fun with Handbells
DESCRIPTION:
URL:https://massanuttenchurch.org/event/fun-with-handbells-10/
END:VEVENT
BEGIN:VEVENT
DTSTART;TZID=America/New_York:20251109T104500
DTEND;TZID=America/New_York:20251109T111500
DTSTAMP:20260425T103639
CREATED:20250904T150551Z
LAST-MODIFIED:20250904T150551Z
UID:15143-1762685100-1762686900@massanuttenchurch.org
SUMMARY:Godly Play
DESCRIPTION:
URL:https://massanuttenchurch.org/event/godly-play-12/
END:VEVENT
BEGIN:VEVENT
DTSTART;TZID=America/New_York:20251109T093000
DTEND;TZID=America/New_York:20251109T102000
DTSTAMP:20260425T103639
CREATED:20250904T143553Z
LAST-MODIFIED:20250904T143553Z
UID:15079-1762680600-1762683600@massanuttenchurch.org
SUMMARY:Parent Fellowship
DESCRIPTION:
URL:https://massanuttenchurch.org/event/parent-fellowship-11/
END:VEVENT
BEGIN:VEVENT
DTSTART;TZID=America/New_York:20251109T093000
DTEND;TZID=America/New_York:20251109T102000
DTSTAMP:20260425T103639
CREATED:20250904T141249Z
LAST-MODIFIED:20250904T141249Z
UID:15025-1762680600-1762683600@massanuttenchurch.org
SUMMARY:High School Breakfast
DESCRIPTION:
URL:https://massanuttenchurch.org/event/high-school-breakfast-9/
END:VEVENT
BEGIN:VEVENT
DTSTART;TZID=America/New_York:20251109T093000
DTEND;TZID=America/New_York:20251109T102000
DTSTAMP:20260425T103639
CREATED:20250904T135740Z
LAST-MODIFIED:20250904T135740Z
UID:14967-1762680600-1762683600@massanuttenchurch.org
SUMMARY:Middle School Sunday School
DESCRIPTION:
URL:https://massanuttenchurch.org/event/middle-school-sunday-school-8/
END:VEVENT
BEGIN:VEVENT
DTSTART;TZID=America/New_York:20251109T093000
DTEND;TZID=America/New_York:20251109T102000
DTSTAMP:20260425T103639
CREATED:20250904T133809Z
LAST-MODIFIED:20250904T133809Z
UID:14903-1762680600-1762683600@massanuttenchurch.org
SUMMARY:Faith Village
DESCRIPTION:
URL:https://massanuttenchurch.org/event/faith-village-10/
END:VEVENT
BEGIN:VEVENT
DTSTART;TZID=America/New_York:20251109T090000
DTEND;TZID=America/New_York:20251109T100000
DTSTAMP:20260425T103639
CREATED:20250910T160254Z
LAST-MODIFIED:20250910T160254Z
UID:15448-1762678800-1762682400@massanuttenchurch.org
SUMMARY:Faithful Conversations
DESCRIPTION:
URL:https://massanuttenchurch.org/event/faithful-conversations-12/
LOCATION:Room 119\, United States
END:VEVENT
BEGIN:VEVENT
DTSTART;TZID=America/New_York:20251109T090000
DTEND;TZID=America/New_York:20251109T100000
DTSTAMP:20260425T103639
CREATED:20250910T150853Z
LAST-MODIFIED:20250910T150853Z
UID:15377-1762678800-1762682400@massanuttenchurch.org
SUMMARY:Covenant Class
DESCRIPTION:
URL:https://massanuttenchurch.org/event/covenant-class-12/
LOCATION:Room 117
END:VEVENT
BEGIN:VEVENT
DTSTART;TZID=America/New_York:20251106T100000
DTEND;TZID=America/New_York:20251106T100000
DTSTAMP:20260425T103639
CREATED:20250904T164239Z
LAST-MODIFIED:20250904T164239Z
UID:15293-1762423200-1762423200@massanuttenchurch.org
SUMMARY:Coffee Break Small Group
DESCRIPTION:
URL:https://massanuttenchurch.org/event/coffee-break-small-group-2/
LOCATION:Dayton Market\, 3105 John Wayland Hwy Ave\, Dayton\, VA\, 22821
END:VEVENT
BEGIN:VEVENT
DTSTART;TZID=America/New_York:20251105T190000
DTEND;TZID=America/New_York:20251105T190000
DTSTAMP:20260425T103639
CREATED:20250813T142256Z
LAST-MODIFIED:20250813T142256Z
UID:14834-1762369200-1762369200@massanuttenchurch.org
SUMMARY:Chancel Choir Rehearsal
DESCRIPTION:
URL:https://massanuttenchurch.org/event/chancel-choir-rehearsal-56/
LOCATION:Choir Room\, 50 Indian Trail Road\, Penn Laird\, 22846\, United States
END:VEVENT
BEGIN:VEVENT
DTSTART;TZID=America/New_York:20251102T180000
DTEND;TZID=America/New_York:20251102T200000
DTSTAMP:20260425T103639
CREATED:20250904T160128Z
LAST-MODIFIED:20250904T160128Z
UID:15204-1762106400-1762113600@massanuttenchurch.org
SUMMARY:Youth Group
DESCRIPTION:
URL:https://massanuttenchurch.org/event/youth-group-10/
END:VEVENT
BEGIN:VEVENT
DTSTART;TZID=America/New_York:20251102T170000
DTEND;TZID=America/New_York:20251102T180000
DTSTAMP:20260425T103639
CREATED:20250904T162257Z
LAST-MODIFIED:20250904T162257Z
UID:15254-1762102800-1762106400@massanuttenchurch.org
SUMMARY:Fun with Handbells
DESCRIPTION:
URL:https://massanuttenchurch.org/event/fun-with-handbells-9/
END:VEVENT
BEGIN:VEVENT
DTSTART;TZID=America/New_York:20251102T104500
DTEND;TZID=America/New_York:20251102T111500
DTSTAMP:20260425T103639
CREATED:20250904T150530Z
LAST-MODIFIED:20250904T150530Z
UID:15141-1762080300-1762082100@massanuttenchurch.org
SUMMARY:Godly Play
DESCRIPTION:
URL:https://massanuttenchurch.org/event/godly-play-11/
END:VEVENT
END:VCALENDAR