BEGIN:VCALENDAR
VERSION:2.0
PRODID:-//Massanutten Presbyterian Church - ECPv6.15.20//NONSGML v1.0//EN
CALSCALE:GREGORIAN
METHOD:PUBLISH
X-WR-CALNAME:Massanutten Presbyterian Church
X-ORIGINAL-URL:https://massanuttenchurch.org
X-WR-CALDESC:Events for Massanutten Presbyterian Church
REFRESH-INTERVAL;VALUE=DURATION:PT1H
X-Robots-Tag:noindex
X-PUBLISHED-TTL:PT1H
BEGIN:VTIMEZONE
TZID:America/New_York
BEGIN:DAYLIGHT
TZOFFSETFROM:-0500
TZOFFSETTO:-0400
TZNAME:EDT
DTSTART:20250309T070000
END:DAYLIGHT
BEGIN:STANDARD
TZOFFSETFROM:-0400
TZOFFSETTO:-0500
TZNAME:EST
DTSTART:20251102T060000
END:STANDARD
BEGIN:DAYLIGHT
TZOFFSETFROM:-0500
TZOFFSETTO:-0400
TZNAME:EDT
DTSTART:20260308T070000
END:DAYLIGHT
BEGIN:STANDARD
TZOFFSETFROM:-0400
TZOFFSETTO:-0500
TZNAME:EST
DTSTART:20261101T060000
END:STANDARD
BEGIN:DAYLIGHT
TZOFFSETFROM:-0500
TZOFFSETTO:-0400
TZNAME:EDT
DTSTART:20270314T070000
END:DAYLIGHT
BEGIN:STANDARD
TZOFFSETFROM:-0400
TZOFFSETTO:-0500
TZNAME:EST
DTSTART:20271107T060000
END:STANDARD
END:VTIMEZONE
BEGIN:VTIMEZONE
TZID:UTC
BEGIN:STANDARD
TZOFFSETFROM:+0000
TZOFFSETTO:+0000
TZNAME:UTC
DTSTART:20250101T000000
END:STANDARD
END:VTIMEZONE
BEGIN:VEVENT
DTSTART;TZID=America/New_York:20260128T173000
DTEND;TZID=America/New_York:20260128T173000
DTSTAMP:20260425T123400
CREATED:20250904T165904Z
LAST-MODIFIED:20250904T165904Z
UID:15318-1769621400-1769621400@massanuttenchurch.org
SUMMARY:Deep Dive Bible Study
DESCRIPTION:
URL:https://massanuttenchurch.org/event/deep-dive-bible-study-4/
LOCATION:Library
END:VEVENT
BEGIN:VEVENT
DTSTART;TZID=America/New_York:20260125T093000
DTEND;TZID=America/New_York:20260125T102000
DTSTAMP:20260425T123400
CREATED:20250904T143840Z
LAST-MODIFIED:20250904T143840Z
UID:15095-1769333400-1769336400@massanuttenchurch.org
SUMMARY:Parent Fellowship
DESCRIPTION:
URL:https://massanuttenchurch.org/event/parent-fellowship-19/
END:VEVENT
BEGIN:VEVENT
DTSTART;TZID=America/New_York:20260125T093000
DTEND;TZID=America/New_York:20260125T102000
DTSTAMP:20260425T123400
CREATED:20250904T140022Z
LAST-MODIFIED:20250904T140022Z
UID:14983-1769333400-1769336400@massanuttenchurch.org
SUMMARY:Middle School Sunday School
DESCRIPTION:
URL:https://massanuttenchurch.org/event/middle-school-sunday-school-16/
END:VEVENT
BEGIN:VEVENT
DTSTART;TZID=America/New_York:20260125T093000
DTEND;TZID=America/New_York:20260125T102000
DTSTAMP:20260425T123400
CREATED:20250904T134215Z
LAST-MODIFIED:20250904T134215Z
UID:14920-1769333400-1769336400@massanuttenchurch.org
SUMMARY:Faith Village
DESCRIPTION:
URL:https://massanuttenchurch.org/event/faith-village-18/
END:VEVENT
BEGIN:VEVENT
DTSTART;TZID=America/New_York:20260125T090000
DTEND;TZID=America/New_York:20260125T100000
DTSTAMP:20260425T123400
CREATED:20250910T164029Z
LAST-MODIFIED:20250910T164029Z
UID:15468-1769331600-1769335200@massanuttenchurch.org
SUMMARY:Faithful Conversations
DESCRIPTION:
URL:https://massanuttenchurch.org/event/faithful-conversations-22/
LOCATION:Room 119\, United States
END:VEVENT
BEGIN:VEVENT
DTSTART;TZID=America/New_York:20260125T090000
DTEND;TZID=America/New_York:20260125T100000
DTSTAMP:20260425T123400
CREATED:20250910T151535Z
LAST-MODIFIED:20250910T151535Z
UID:15397-1769331600-1769335200@massanuttenchurch.org
SUMMARY:Covenant Class
DESCRIPTION:
URL:https://massanuttenchurch.org/event/covenant-class-22/
LOCATION:Room 117
END:VEVENT
BEGIN:VEVENT
DTSTART;TZID=America/New_York:20260118T180000
DTEND;TZID=America/New_York:20260118T200000
DTSTAMP:20260425T123400
CREATED:20250904T160343Z
LAST-MODIFIED:20250904T160343Z
UID:15216-1768759200-1768766400@massanuttenchurch.org
SUMMARY:Youth Group
DESCRIPTION:
URL:https://massanuttenchurch.org/event/youth-group-16/
END:VEVENT
BEGIN:VEVENT
DTSTART;TZID=America/New_York:20260118T170000
DTEND;TZID=America/New_York:20260118T180000
DTSTAMP:20260425T123400
CREATED:20250904T162532Z
LAST-MODIFIED:20250904T162532Z
UID:15266-1768755600-1768759200@massanuttenchurch.org
SUMMARY:Fun with Handbells
DESCRIPTION:
URL:https://massanuttenchurch.org/event/fun-with-handbells-15/
END:VEVENT
BEGIN:VEVENT
DTSTART;TZID=UTC:20260118T120000
DTEND;TZID=UTC:20260118T120000
DTSTAMP:20260425T123400
CREATED:20170425T032515Z
LAST-MODIFIED:20250714T152806Z
UID:13366-1768737600-1768737600@massanuttenchurch.org
SUMMARY:Session Meeting
DESCRIPTION:Session Meeting
URL:https://massanuttenchurch.org/event/session-meeting-2026-01-18/
LOCATION:Fellowship Hall
END:VEVENT
BEGIN:VEVENT
DTSTART;TZID=America/New_York:20260118T104500
DTEND;TZID=America/New_York:20260118T111500
DTSTAMP:20260425T123400
CREATED:20250904T151730Z
LAST-MODIFIED:20250904T151730Z
UID:15157-1768733100-1768734900@massanuttenchurch.org
SUMMARY:Godly Play
DESCRIPTION:
URL:https://massanuttenchurch.org/event/godly-play-19/
END:VEVENT
BEGIN:VEVENT
DTSTART;TZID=America/New_York:20260118T093000
DTEND;TZID=America/New_York:20260118T102000
DTSTAMP:20260425T123400
CREATED:20250904T143821Z
LAST-MODIFIED:20250904T143821Z
UID:15093-1768728600-1768731600@massanuttenchurch.org
SUMMARY:Parent Fellowship
DESCRIPTION:
URL:https://massanuttenchurch.org/event/parent-fellowship-18/
END:VEVENT
BEGIN:VEVENT
DTSTART;TZID=America/New_York:20260118T093000
DTEND;TZID=America/New_York:20260118T102000
DTSTAMP:20260425T123400
CREATED:20250904T142057Z
LAST-MODIFIED:20250904T142057Z
UID:15033-1768728600-1768731600@massanuttenchurch.org
SUMMARY:High School Breakfast
DESCRIPTION:
URL:https://massanuttenchurch.org/event/high-school-breakfast-13/
END:VEVENT
BEGIN:VEVENT
DTSTART;TZID=America/New_York:20260118T093000
DTEND;TZID=America/New_York:20260118T102000
DTSTAMP:20260425T123400
CREATED:20250904T140002Z
LAST-MODIFIED:20250904T140002Z
UID:14981-1768728600-1768731600@massanuttenchurch.org
SUMMARY:Middle School Sunday School
DESCRIPTION:
URL:https://massanuttenchurch.org/event/middle-school-sunday-school-15/
END:VEVENT
BEGIN:VEVENT
DTSTART;TZID=America/New_York:20260118T093000
DTEND;TZID=America/New_York:20260118T102000
DTSTAMP:20260425T123400
CREATED:20250904T134134Z
LAST-MODIFIED:20250904T134134Z
UID:14918-1768728600-1768731600@massanuttenchurch.org
SUMMARY:Faith Village
DESCRIPTION:
URL:https://massanuttenchurch.org/event/faith-village-17/
END:VEVENT
BEGIN:VEVENT
DTSTART;TZID=America/New_York:20260118T090000
DTEND;TZID=America/New_York:20260118T100000
DTSTAMP:20260425T123400
CREATED:20250910T163932Z
LAST-MODIFIED:20250910T163932Z
UID:15466-1768726800-1768730400@massanuttenchurch.org
SUMMARY:Faithful Conversations
DESCRIPTION:
URL:https://massanuttenchurch.org/event/faithful-conversations-21/
LOCATION:Room 119\, United States
END:VEVENT
BEGIN:VEVENT
DTSTART;TZID=America/New_York:20260118T090000
DTEND;TZID=America/New_York:20260118T100000
DTSTAMP:20260425T123400
CREATED:20250910T151508Z
LAST-MODIFIED:20250910T151508Z
UID:15395-1768726800-1768730400@massanuttenchurch.org
SUMMARY:Covenant Class
DESCRIPTION:
URL:https://massanuttenchurch.org/event/covenant-class-21/
LOCATION:Room 117
END:VEVENT
BEGIN:VEVENT
DTSTART;TZID=America/New_York:20260112T100000
DTEND;TZID=America/New_York:20260112T110000
DTSTAMP:20260425T123400
CREATED:20250904T132331Z
LAST-MODIFIED:20250904T132331Z
UID:14871-1768212000-1768215600@massanuttenchurch.org
SUMMARY:Food Pantry
DESCRIPTION:
URL:https://massanuttenchurch.org/event/food-pantry-8/
END:VEVENT
BEGIN:VEVENT
DTSTART;TZID=America/New_York:20260111T104500
DTEND;TZID=America/New_York:20260111T111500
DTSTAMP:20260425T123400
CREATED:20250904T150840Z
LAST-MODIFIED:20250904T150840Z
UID:15155-1768128300-1768130100@massanuttenchurch.org
SUMMARY:Godly Play
DESCRIPTION:
URL:https://massanuttenchurch.org/event/godly-play-18/
END:VEVENT
BEGIN:VEVENT
DTSTART;TZID=America/New_York:20260111T093000
DTEND;TZID=America/New_York:20260111T102000
DTSTAMP:20260425T123400
CREATED:20250904T143802Z
LAST-MODIFIED:20250904T143802Z
UID:15091-1768123800-1768126800@massanuttenchurch.org
SUMMARY:Parent Fellowship
DESCRIPTION:
URL:https://massanuttenchurch.org/event/parent-fellowship-17/
END:VEVENT
BEGIN:VEVENT
DTSTART;TZID=America/New_York:20260111T093000
DTEND;TZID=America/New_York:20260111T102000
DTSTAMP:20260425T123400
CREATED:20250904T135937Z
LAST-MODIFIED:20250904T135937Z
UID:14979-1768123800-1768126800@massanuttenchurch.org
SUMMARY:Middle School Sunday School
DESCRIPTION:
URL:https://massanuttenchurch.org/event/middle-school-sunday-school-14/
END:VEVENT
BEGIN:VEVENT
DTSTART;TZID=America/New_York:20260111T093000
DTEND;TZID=America/New_York:20260111T102000
DTSTAMP:20260425T123400
CREATED:20250904T134031Z
LAST-MODIFIED:20250904T134031Z
UID:14915-1768123800-1768126800@massanuttenchurch.org
SUMMARY:Faith Village
DESCRIPTION:
URL:https://massanuttenchurch.org/event/faith-village-16/
END:VEVENT
BEGIN:VEVENT
DTSTART;TZID=America/New_York:20260111T090000
DTEND;TZID=America/New_York:20260111T100000
DTSTAMP:20260425T123400
CREATED:20250910T163906Z
LAST-MODIFIED:20250910T163906Z
UID:15464-1768122000-1768125600@massanuttenchurch.org
SUMMARY:Faithful Conversations
DESCRIPTION:
URL:https://massanuttenchurch.org/event/faithful-conversations-20/
LOCATION:Room 119\, United States
END:VEVENT
BEGIN:VEVENT
DTSTART;TZID=America/New_York:20260111T090000
DTEND;TZID=America/New_York:20260111T100000
DTSTAMP:20260425T123400
CREATED:20250910T151447Z
LAST-MODIFIED:20250910T151447Z
UID:15393-1768122000-1768125600@massanuttenchurch.org
SUMMARY:Covenant Class
DESCRIPTION:
URL:https://massanuttenchurch.org/event/covenant-class-20/
LOCATION:Room 117
END:VEVENT
BEGIN:VEVENT
DTSTART;TZID=America/New_York:20260108T190000
DTEND;TZID=America/New_York:20260108T200000
DTSTAMP:20260425T123400
CREATED:20250904T132252Z
LAST-MODIFIED:20250904T132252Z
UID:14869-1767898800-1767902400@massanuttenchurch.org
SUMMARY:Food Pantry
DESCRIPTION:
URL:https://massanuttenchurch.org/event/food-pantry-4/
END:VEVENT
BEGIN:VEVENT
DTSTART;TZID=America/New_York:20260104T180000
DTEND;TZID=America/New_York:20260104T200000
DTSTAMP:20260425T123400
CREATED:20250904T160318Z
LAST-MODIFIED:20250904T160318Z
UID:15214-1767549600-1767556800@massanuttenchurch.org
SUMMARY:Youth Group
DESCRIPTION:
URL:https://massanuttenchurch.org/event/youth-group-15/
END:VEVENT
BEGIN:VEVENT
DTSTART;TZID=America/New_York:20260104T170000
DTEND;TZID=America/New_York:20260104T180000
DTSTAMP:20260425T123400
CREATED:20250904T162510Z
LAST-MODIFIED:20250904T162510Z
UID:15264-1767546000-1767549600@massanuttenchurch.org
SUMMARY:Fun with Handbells
DESCRIPTION:
URL:https://massanuttenchurch.org/event/fun-with-handbells-14/
END:VEVENT
BEGIN:VEVENT
DTSTART;TZID=America/New_York:20260104T104500
DTEND;TZID=America/New_York:20260104T111500
DTSTAMP:20260425T123400
CREATED:20250904T150819Z
LAST-MODIFIED:20250904T150819Z
UID:15153-1767523500-1767525300@massanuttenchurch.org
SUMMARY:Godly Play
DESCRIPTION:
URL:https://massanuttenchurch.org/event/godly-play-17/
END:VEVENT
BEGIN:VEVENT
DTSTART;TZID=America/New_York:20260104T093000
DTEND;TZID=America/New_York:20260104T102000
DTSTAMP:20260425T123400
CREATED:20250904T143742Z
LAST-MODIFIED:20250904T143742Z
UID:15089-1767519000-1767522000@massanuttenchurch.org
SUMMARY:Parent Fellowship
DESCRIPTION:
URL:https://massanuttenchurch.org/event/parent-fellowship-16/
END:VEVENT
BEGIN:VEVENT
DTSTART;TZID=America/New_York:20260104T093000
DTEND;TZID=America/New_York:20260104T102000
DTSTAMP:20260425T123400
CREATED:20250904T142009Z
LAST-MODIFIED:20250904T142009Z
UID:15031-1767519000-1767522000@massanuttenchurch.org
SUMMARY:High School Breakfast
DESCRIPTION:
URL:https://massanuttenchurch.org/event/high-school-breakfast-12/
END:VEVENT
BEGIN:VEVENT
DTSTART;TZID=America/New_York:20260104T093000
DTEND;TZID=America/New_York:20260104T102000
DTSTAMP:20260425T123400
CREATED:20250904T135917Z
LAST-MODIFIED:20250904T135917Z
UID:14977-1767519000-1767522000@massanuttenchurch.org
SUMMARY:Middle School Sunday School
DESCRIPTION:
URL:https://massanuttenchurch.org/event/middle-school-sunday-school-13/
END:VEVENT
END:VCALENDAR