BEGIN:VCALENDAR
VERSION:2.0
PRODID:-//Massanutten Presbyterian Church - ECPv6.15.20//NONSGML v1.0//EN
CALSCALE:GREGORIAN
METHOD:PUBLISH
X-WR-CALNAME:Massanutten Presbyterian Church
X-ORIGINAL-URL:https://massanuttenchurch.org
X-WR-CALDESC:Events for Massanutten Presbyterian Church
REFRESH-INTERVAL;VALUE=DURATION:PT1H
X-Robots-Tag:noindex
X-PUBLISHED-TTL:PT1H
BEGIN:VTIMEZONE
TZID:America/New_York
BEGIN:DAYLIGHT
TZOFFSETFROM:-0500
TZOFFSETTO:-0400
TZNAME:EDT
DTSTART:20210314T070000
END:DAYLIGHT
BEGIN:STANDARD
TZOFFSETFROM:-0400
TZOFFSETTO:-0500
TZNAME:EST
DTSTART:20211107T060000
END:STANDARD
BEGIN:DAYLIGHT
TZOFFSETFROM:-0500
TZOFFSETTO:-0400
TZNAME:EDT
DTSTART:20220313T070000
END:DAYLIGHT
BEGIN:STANDARD
TZOFFSETFROM:-0400
TZOFFSETTO:-0500
TZNAME:EST
DTSTART:20221106T060000
END:STANDARD
BEGIN:DAYLIGHT
TZOFFSETFROM:-0500
TZOFFSETTO:-0400
TZNAME:EDT
DTSTART:20230312T070000
END:DAYLIGHT
BEGIN:STANDARD
TZOFFSETFROM:-0400
TZOFFSETTO:-0500
TZNAME:EST
DTSTART:20231105T060000
END:STANDARD
END:VTIMEZONE
BEGIN:VEVENT
DTSTART;TZID=America/New_York:20220424T110000
DTEND;TZID=America/New_York:20220424T113000
DTSTAMP:20260425T075309
CREATED:20220209T222029Z
LAST-MODIFIED:20220427T161312Z
UID:9626-1650798000-1650799800@massanuttenchurch.org
SUMMARY:Godly Play
DESCRIPTION:
URL:https://massanuttenchurch.org/event/godly-play-2022-04-24/
LOCATION:50 Indian Trail Road\, Penn Laird\, VA\, 22846\, United States
END:VEVENT
BEGIN:VEVENT
DTSTART;TZID=America/New_York:20220424T103000
DTEND;TZID=America/New_York:20220424T113000
DTSTAMP:20260425T075309
CREATED:20210712T024206Z
LAST-MODIFIED:20230802T155159Z
UID:8313-1650796200-1650799800@massanuttenchurch.org
SUMMARY:Sunday Worship
DESCRIPTION:
URL:https://massanuttenchurch.org/event/sunday-worship-2-2022-04-24/
LOCATION:Sanctuary\, 50 Indian Trail Road\, Penn Laird\, 22846\, United States
END:VEVENT
BEGIN:VEVENT
DTSTART;TZID=America/New_York:20220424T093000
DTEND;TZID=America/New_York:20220424T102000
DTSTAMP:20260425T075309
CREATED:20211006T194504Z
LAST-MODIFIED:20220315T204555Z
UID:8756-1650792600-1650795600@massanuttenchurch.org
SUMMARY:Parent Fellowship
DESCRIPTION:
URL:https://massanuttenchurch.org/event/parent-fellowship-2022-04-24/
LOCATION:50 Indian Trail Road\, Penn Laird\, VA\, 22846\, United States
END:VEVENT
BEGIN:VEVENT
DTSTART;TZID=America/New_York:20220424T093000
DTEND;TZID=America/New_York:20220424T102000
DTSTAMP:20260425T075309
CREATED:20211006T191048Z
LAST-MODIFIED:20220309T160643Z
UID:8702-1650792600-1650795600@massanuttenchurch.org
SUMMARY:Faith Village
DESCRIPTION:
URL:https://massanuttenchurch.org/event/sunday-school-2-2022-04-24/
END:VEVENT
BEGIN:VEVENT
DTSTART;TZID=America/New_York:20220424T090000
DTEND;TZID=America/New_York:20220424T100000
DTSTAMP:20260425T075309
CREATED:20210915T182645Z
LAST-MODIFIED:20220105T171936Z
UID:9106-1650790800-1650794400@massanuttenchurch.org
SUMMARY:Adult Sunday School
DESCRIPTION:
URL:https://massanuttenchurch.org/event/adult-sunday-school-2022-04-24/
END:VEVENT
BEGIN:VEVENT
DTSTART;TZID=America/New_York:20220421T190000
DTEND;TZID=America/New_York:20220421T200000
DTSTAMP:20260425T075309
CREATED:20220302T194202Z
LAST-MODIFIED:20220406T175137Z
UID:9607-1650567600-1650571200@massanuttenchurch.org
SUMMARY:Lenten Devotional Group Study
DESCRIPTION:
URL:https://massanuttenchurch.org/event/lenten-devotional-group-study-2-2022-04-21/
LOCATION:50 Indian Trail Road\, Penn Laird\, VA\, 22846\, United States
END:VEVENT
BEGIN:VEVENT
DTSTART;TZID=America/New_York:20220420T190000
DTEND;TZID=America/New_York:20220420T200000
DTSTAMP:20260425T075309
CREATED:20210915T182021Z
LAST-MODIFIED:20220525T161434Z
UID:8484-1650481200-1650484800@massanuttenchurch.org
SUMMARY:Chancel Choir Rehearsal
DESCRIPTION:
URL:https://massanuttenchurch.org/event/chancel-choir-rehearsal-2022-04-20/
LOCATION:50 Indian Trail Road\, Penn Laird\, VA\, 22846\, United States
END:VEVENT
BEGIN:VEVENT
DTSTART;TZID=America/New_York:20220420T073000
DTEND;TZID=America/New_York:20220420T083000
DTSTAMP:20260425T075309
CREATED:20220126T154646Z
LAST-MODIFIED:20230104T181648Z
UID:9412-1650439800-1650443400@massanuttenchurch.org
SUMMARY:Men's Prayer Group
DESCRIPTION:
URL:https://massanuttenchurch.org/event/mens-prayer-group-2-2022-04-20/
LOCATION:50 Indian Trail Road\, Penn Laird\, VA\, 22846\, United States
END:VEVENT
BEGIN:VEVENT
DTSTART;TZID=America/New_York:20220418T190000
DTEND;TZID=America/New_York:20220418T200000
DTSTAMP:20260425T075309
CREATED:20220323T144858Z
LAST-MODIFIED:20220511T230802Z
UID:9760-1650308400-1650312000@massanuttenchurch.org
SUMMARY:Massanutten Ringers
DESCRIPTION:
URL:https://massanuttenchurch.org/event/massanetta-ringers-2022-04-18/
LOCATION:50 Indian Trail Road\, Penn Laird\, VA\, 22846\, United States
END:VEVENT
BEGIN:VEVENT
DTSTART;TZID=America/New_York:20220418T130000
DTEND;TZID=America/New_York:20220418T140000
DTSTAMP:20260425T075309
CREATED:20220302T193859Z
LAST-MODIFIED:20220302T193859Z
UID:9599-1650286800-1650290400@massanuttenchurch.org
SUMMARY:Lenten Devotional Group Study
DESCRIPTION:
URL:https://massanuttenchurch.org/event/lenten-devotional-group-study-2022-04-18/
LOCATION:Gathering Area\, 50 Indian Trail Road\, Penn Laird\, 22846\, United States
END:VEVENT
BEGIN:VEVENT
DTSTART;TZID=America/New_York:20220417T103000
DTEND;TZID=America/New_York:20220417T113000
DTSTAMP:20260425T075309
CREATED:20210712T024206Z
LAST-MODIFIED:20230802T155159Z
UID:8312-1650191400-1650195000@massanuttenchurch.org
SUMMARY:Sunday Worship
DESCRIPTION:
URL:https://massanuttenchurch.org/event/sunday-worship-2-2022-04-17/
LOCATION:Sanctuary\, 50 Indian Trail Road\, Penn Laird\, 22846\, United States
END:VEVENT
BEGIN:VEVENT
DTSTART;TZID=America/New_York:20220417T090000
DTEND;TZID=America/New_York:20220417T100000
DTSTAMP:20260425T075309
CREATED:20210915T182645Z
LAST-MODIFIED:20220105T171934Z
UID:9105-1650186000-1650189600@massanuttenchurch.org
SUMMARY:Adult Sunday School
DESCRIPTION:
URL:https://massanuttenchurch.org/event/adult-sunday-school-2022-04-17/
END:VEVENT
BEGIN:VEVENT
DTSTART;TZID=America/New_York:20220413T190000
DTEND;TZID=America/New_York:20220413T200000
DTSTAMP:20260425T075309
CREATED:20210915T182021Z
LAST-MODIFIED:20220525T161434Z
UID:8483-1649876400-1649880000@massanuttenchurch.org
SUMMARY:Chancel Choir Rehearsal
DESCRIPTION:
URL:https://massanuttenchurch.org/event/chancel-choir-rehearsal-2022-04-13/
LOCATION:50 Indian Trail Road\, Penn Laird\, VA\, 22846\, United States
END:VEVENT
BEGIN:VEVENT
DTSTART;TZID=America/New_York:20220413T073000
DTEND;TZID=America/New_York:20220413T083000
DTSTAMP:20260425T075309
CREATED:20220126T154646Z
LAST-MODIFIED:20230104T181644Z
UID:9411-1649835000-1649838600@massanuttenchurch.org
SUMMARY:Men's Prayer Group
DESCRIPTION:
URL:https://massanuttenchurch.org/event/mens-prayer-group-2-2022-04-13/
LOCATION:50 Indian Trail Road\, Penn Laird\, VA\, 22846\, United States
END:VEVENT
BEGIN:VEVENT
DTSTART;TZID=America/New_York:20220412T190000
DTEND;TZID=America/New_York:20220412T200000
DTSTAMP:20260425T075309
CREATED:20220302T194202Z
LAST-MODIFIED:20220302T194202Z
UID:9845-1649790000-1649793600@massanuttenchurch.org
SUMMARY:Lenten Devotional Group Study
DESCRIPTION:
URL:https://massanuttenchurch.org/event/lenten-devotional-group-study-2-2022-04-12/
LOCATION:50 Indian Trail Road\, Penn Laird\, VA\, 22846\, United States
END:VEVENT
BEGIN:VEVENT
DTSTART;TZID=America/New_York:20220411T190000
DTEND;TZID=America/New_York:20220411T200000
DTSTAMP:20260425T075309
CREATED:20220323T144858Z
LAST-MODIFIED:20220511T230801Z
UID:9759-1649703600-1649707200@massanuttenchurch.org
SUMMARY:Massanutten Ringers
DESCRIPTION:
URL:https://massanuttenchurch.org/event/massanetta-ringers-2022-04-11/
LOCATION:50 Indian Trail Road\, Penn Laird\, VA\, 22846\, United States
END:VEVENT
BEGIN:VEVENT
DTSTART;TZID=America/New_York:20220411T130000
DTEND;TZID=America/New_York:20220411T140000
DTSTAMP:20260425T075309
CREATED:20220302T193859Z
LAST-MODIFIED:20220302T193859Z
UID:9598-1649682000-1649685600@massanuttenchurch.org
SUMMARY:Lenten Devotional Group Study
DESCRIPTION:
URL:https://massanuttenchurch.org/event/lenten-devotional-group-study-2022-04-11/
LOCATION:Gathering Area\, 50 Indian Trail Road\, Penn Laird\, 22846\, United States
END:VEVENT
BEGIN:VEVENT
DTSTART;TZID=America/New_York:20220410T180000
DTEND;TZID=America/New_York:20220410T200000
DTSTAMP:20260425T075309
CREATED:20211006T192404Z
LAST-MODIFIED:20220421T163448Z
UID:9686-1649613600-1649620800@massanuttenchurch.org
SUMMARY:Youth Group
DESCRIPTION:
URL:https://massanuttenchurch.org/event/youth-group-2022-04-10/
LOCATION:50 Indian Trail Road\, Penn Laird\, VA\, 22846\, United States
END:VEVENT
BEGIN:VEVENT
DTSTART;TZID=America/New_York:20220410T170000
DTEND;TZID=America/New_York:20220410T180000
DTSTAMP:20260425T075309
CREATED:20220126T154036Z
LAST-MODIFIED:20220426T175520Z
UID:9498-1649610000-1649613600@massanuttenchurch.org
SUMMARY:Fun With Handbells
DESCRIPTION:
URL:https://massanuttenchurch.org/event/fun-with-handbells-2022-04-10/
LOCATION:50 Indian Trail Road\, Penn Laird\, VA\, 22846\, United States
END:VEVENT
BEGIN:VEVENT
DTSTART;TZID=America/New_York:20220410T113000
DTEND;TZID=America/New_York:20220410T123000
DTSTAMP:20260425T075309
CREATED:20220209T222358Z
LAST-MODIFIED:20220427T161218Z
UID:9531-1649590200-1649593800@massanuttenchurch.org
SUMMARY:Confirmation
DESCRIPTION:
URL:https://massanuttenchurch.org/event/confirmation-2022-04-10/
LOCATION:50 Indian Trail Road\, Penn Laird\, VA\, 22846\, United States
END:VEVENT
BEGIN:VEVENT
DTSTART;TZID=America/New_York:20220410T103000
DTEND;TZID=America/New_York:20220410T113000
DTSTAMP:20260425T075309
CREATED:20210712T024206Z
LAST-MODIFIED:20230802T155158Z
UID:8311-1649586600-1649590200@massanuttenchurch.org
SUMMARY:Sunday Worship
DESCRIPTION:
URL:https://massanuttenchurch.org/event/sunday-worship-2-2022-04-10/
LOCATION:Sanctuary\, 50 Indian Trail Road\, Penn Laird\, 22846\, United States
END:VEVENT
BEGIN:VEVENT
DTSTART;TZID=America/New_York:20220410T093000
DTEND;TZID=America/New_York:20220410T102000
DTSTAMP:20260425T075309
CREATED:20211006T194504Z
LAST-MODIFIED:20220315T204554Z
UID:8755-1649583000-1649586000@massanuttenchurch.org
SUMMARY:Parent Fellowship
DESCRIPTION:
URL:https://massanuttenchurch.org/event/parent-fellowship-2022-04-10/
LOCATION:50 Indian Trail Road\, Penn Laird\, VA\, 22846\, United States
END:VEVENT
BEGIN:VEVENT
DTSTART;TZID=America/New_York:20220410T093000
DTEND;TZID=America/New_York:20220410T102000
DTSTAMP:20260425T075309
CREATED:20211006T191048Z
LAST-MODIFIED:20220309T160642Z
UID:8701-1649583000-1649586000@massanuttenchurch.org
SUMMARY:Faith Village
DESCRIPTION:
URL:https://massanuttenchurch.org/event/sunday-school-2-2022-04-10/
END:VEVENT
BEGIN:VEVENT
DTSTART;TZID=America/New_York:20220410T090000
DTEND;TZID=America/New_York:20220410T100000
DTSTAMP:20260425T075309
CREATED:20210915T182645Z
LAST-MODIFIED:20220105T171929Z
UID:9104-1649581200-1649584800@massanuttenchurch.org
SUMMARY:Adult Sunday School
DESCRIPTION:
URL:https://massanuttenchurch.org/event/adult-sunday-school-2022-04-10/
END:VEVENT
BEGIN:VEVENT
DTSTART;TZID=America/New_York:20220407T190000
DTEND;TZID=America/New_York:20220407T200000
DTSTAMP:20260425T075309
CREATED:20220302T194202Z
LAST-MODIFIED:20220406T175137Z
UID:9605-1649358000-1649361600@massanuttenchurch.org
SUMMARY:Lenten Devotional Group Study
DESCRIPTION:
URL:https://massanuttenchurch.org/event/lenten-devotional-group-study-2-2022-04-07/
LOCATION:50 Indian Trail Road\, Penn Laird\, VA\, 22846\, United States
END:VEVENT
BEGIN:VEVENT
DTSTART;TZID=America/New_York:20220406T190000
DTEND;TZID=America/New_York:20220406T200000
DTSTAMP:20260425T075309
CREATED:20210915T182021Z
LAST-MODIFIED:20220525T161433Z
UID:8482-1649271600-1649275200@massanuttenchurch.org
SUMMARY:Chancel Choir Rehearsal
DESCRIPTION:
URL:https://massanuttenchurch.org/event/chancel-choir-rehearsal-2022-04-06/
LOCATION:50 Indian Trail Road\, Penn Laird\, VA\, 22846\, United States
END:VEVENT
BEGIN:VEVENT
DTSTART;TZID=America/New_York:20220406T073000
DTEND;TZID=America/New_York:20220406T083000
DTSTAMP:20260425T075309
CREATED:20220126T154646Z
LAST-MODIFIED:20230104T181644Z
UID:9410-1649230200-1649233800@massanuttenchurch.org
SUMMARY:Men's Prayer Group
DESCRIPTION:
URL:https://massanuttenchurch.org/event/mens-prayer-group-2-2022-04-06/
LOCATION:50 Indian Trail Road\, Penn Laird\, VA\, 22846\, United States
END:VEVENT
BEGIN:VEVENT
DTSTART;TZID=America/New_York:20220404T190000
DTEND;TZID=America/New_York:20220404T200000
DTSTAMP:20260425T075309
CREATED:20220323T144858Z
LAST-MODIFIED:20220511T230801Z
UID:9758-1649098800-1649102400@massanuttenchurch.org
SUMMARY:Massanutten Ringers
DESCRIPTION:
URL:https://massanuttenchurch.org/event/massanetta-ringers-2022-04-04/
LOCATION:50 Indian Trail Road\, Penn Laird\, VA\, 22846\, United States
END:VEVENT
BEGIN:VEVENT
DTSTART;TZID=America/New_York:20220404T130000
DTEND;TZID=America/New_York:20220404T140000
DTSTAMP:20260425T075309
CREATED:20220302T193859Z
LAST-MODIFIED:20220302T193859Z
UID:9597-1649077200-1649080800@massanuttenchurch.org
SUMMARY:Lenten Devotional Group Study
DESCRIPTION:
URL:https://massanuttenchurch.org/event/lenten-devotional-group-study-2022-04-04/
LOCATION:Gathering Area\, 50 Indian Trail Road\, Penn Laird\, 22846\, United States
END:VEVENT
BEGIN:VEVENT
DTSTART;TZID=America/New_York:20220403T180000
DTEND;TZID=America/New_York:20220403T200000
DTSTAMP:20260425T075309
CREATED:20211006T192404Z
LAST-MODIFIED:20220421T163447Z
UID:9685-1649008800-1649016000@massanuttenchurch.org
SUMMARY:Youth Group
DESCRIPTION:
URL:https://massanuttenchurch.org/event/youth-group-2022-04-03/
LOCATION:50 Indian Trail Road\, Penn Laird\, VA\, 22846\, United States
END:VEVENT
END:VCALENDAR