BEGIN:VCALENDAR
VERSION:2.0
PRODID:-//Massanutten Presbyterian Church - ECPv6.15.20//NONSGML v1.0//EN
CALSCALE:GREGORIAN
METHOD:PUBLISH
X-WR-CALNAME:Massanutten Presbyterian Church
X-ORIGINAL-URL:https://massanuttenchurch.org
X-WR-CALDESC:Events for Massanutten Presbyterian Church
REFRESH-INTERVAL;VALUE=DURATION:PT1H
X-Robots-Tag:noindex
X-PUBLISHED-TTL:PT1H
BEGIN:VTIMEZONE
TZID:America/New_York
BEGIN:DAYLIGHT
TZOFFSETFROM:-0500
TZOFFSETTO:-0400
TZNAME:EDT
DTSTART:20210314T070000
END:DAYLIGHT
BEGIN:STANDARD
TZOFFSETFROM:-0400
TZOFFSETTO:-0500
TZNAME:EST
DTSTART:20211107T060000
END:STANDARD
BEGIN:DAYLIGHT
TZOFFSETFROM:-0500
TZOFFSETTO:-0400
TZNAME:EDT
DTSTART:20220313T070000
END:DAYLIGHT
BEGIN:STANDARD
TZOFFSETFROM:-0400
TZOFFSETTO:-0500
TZNAME:EST
DTSTART:20221106T060000
END:STANDARD
BEGIN:DAYLIGHT
TZOFFSETFROM:-0500
TZOFFSETTO:-0400
TZNAME:EDT
DTSTART:20230312T070000
END:DAYLIGHT
BEGIN:STANDARD
TZOFFSETFROM:-0400
TZOFFSETTO:-0500
TZNAME:EST
DTSTART:20231105T060000
END:STANDARD
END:VTIMEZONE
BEGIN:VEVENT
DTSTART;TZID=America/New_York:20220320T110000
DTEND;TZID=America/New_York:20220320T113000
DTSTAMP:20260425T075032
CREATED:20220209T222029Z
LAST-MODIFIED:20220427T161311Z
UID:9487-1647774000-1647775800@massanuttenchurch.org
SUMMARY:Godly Play
DESCRIPTION:
URL:https://massanuttenchurch.org/event/godly-play-2022-03-20/
LOCATION:50 Indian Trail Road\, Penn Laird\, VA\, 22846\, United States
END:VEVENT
BEGIN:VEVENT
DTSTART;TZID=America/New_York:20220320T103000
DTEND;TZID=America/New_York:20220320T113000
DTSTAMP:20260425T075032
CREATED:20210712T024206Z
LAST-MODIFIED:20230802T155158Z
UID:8308-1647772200-1647775800@massanuttenchurch.org
SUMMARY:Sunday Worship
DESCRIPTION:
URL:https://massanuttenchurch.org/event/sunday-worship-2-2022-03-20/
LOCATION:Sanctuary\, 50 Indian Trail Road\, Penn Laird\, 22846\, United States
END:VEVENT
BEGIN:VEVENT
DTSTART;TZID=America/New_York:20220320T093000
DTEND;TZID=America/New_York:20220320T102000
DTSTAMP:20260425T075032
CREATED:20211006T194504Z
LAST-MODIFIED:20220315T204552Z
UID:8753-1647768600-1647771600@massanuttenchurch.org
SUMMARY:Parent Fellowship
DESCRIPTION:
URL:https://massanuttenchurch.org/event/parent-fellowship-2022-03-20/
LOCATION:50 Indian Trail Road\, Penn Laird\, VA\, 22846\, United States
END:VEVENT
BEGIN:VEVENT
DTSTART;TZID=America/New_York:20220320T093000
DTEND;TZID=America/New_York:20220320T102000
DTSTAMP:20260425T075032
CREATED:20211006T191048Z
LAST-MODIFIED:20220309T160637Z
UID:8699-1647768600-1647771600@massanuttenchurch.org
SUMMARY:Faith Village
DESCRIPTION:
URL:https://massanuttenchurch.org/event/sunday-school-2-2022-03-20/
END:VEVENT
BEGIN:VEVENT
DTSTART;TZID=America/New_York:20220320T090000
DTEND;TZID=America/New_York:20220320T100000
DTSTAMP:20260425T075032
CREATED:20210915T182645Z
LAST-MODIFIED:20220105T171926Z
UID:9101-1647766800-1647770400@massanuttenchurch.org
SUMMARY:Adult Sunday School
DESCRIPTION:
URL:https://massanuttenchurch.org/event/adult-sunday-school-2022-03-20/
END:VEVENT
BEGIN:VEVENT
DTSTART;TZID=America/New_York:20220317T190000
DTEND;TZID=America/New_York:20220317T200000
DTSTAMP:20260425T075032
CREATED:20220302T194202Z
LAST-MODIFIED:20220406T175136Z
UID:9602-1647543600-1647547200@massanuttenchurch.org
SUMMARY:Lenten Devotional Group Study
DESCRIPTION:
URL:https://massanuttenchurch.org/event/lenten-devotional-group-study-2-2022-03-17/
LOCATION:50 Indian Trail Road\, Penn Laird\, VA\, 22846\, United States
END:VEVENT
BEGIN:VEVENT
DTSTART;TZID=America/New_York:20220316T190000
DTEND;TZID=America/New_York:20220316T200000
DTSTAMP:20260425T075032
CREATED:20210915T182021Z
LAST-MODIFIED:20220525T161431Z
UID:8479-1647457200-1647460800@massanuttenchurch.org
SUMMARY:Chancel Choir Rehearsal
DESCRIPTION:
URL:https://massanuttenchurch.org/event/chancel-choir-rehearsal-2022-03-16/
LOCATION:50 Indian Trail Road\, Penn Laird\, VA\, 22846\, United States
END:VEVENT
BEGIN:VEVENT
DTSTART;TZID=America/New_York:20220316T073000
DTEND;TZID=America/New_York:20220316T083000
DTSTAMP:20260425T075032
CREATED:20220126T154646Z
LAST-MODIFIED:20230104T181642Z
UID:9407-1647415800-1647419400@massanuttenchurch.org
SUMMARY:Men's Prayer Group
DESCRIPTION:
URL:https://massanuttenchurch.org/event/mens-prayer-group-2-2022-03-16/
LOCATION:50 Indian Trail Road\, Penn Laird\, VA\, 22846\, United States
END:VEVENT
BEGIN:VEVENT
DTSTART;TZID=America/New_York:20220314T130000
DTEND;TZID=America/New_York:20220314T140000
DTSTAMP:20260425T075032
CREATED:20220302T193859Z
LAST-MODIFIED:20220302T193859Z
UID:9594-1647262800-1647266400@massanuttenchurch.org
SUMMARY:Lenten Devotional Group Study
DESCRIPTION:
URL:https://massanuttenchurch.org/event/lenten-devotional-group-study-2022-03-14/
LOCATION:Gathering Area\, 50 Indian Trail Road\, Penn Laird\, 22846\, United States
END:VEVENT
BEGIN:VEVENT
DTSTART;TZID=America/New_York:20220314T100000
DTEND;TZID=America/New_York:20220314T110000
DTSTAMP:20260425T075032
CREATED:20220125T164107Z
LAST-MODIFIED:20220125T164107Z
UID:9548-1647252000-1647255600@massanuttenchurch.org
SUMMARY:Food Pantry
DESCRIPTION:
URL:https://massanuttenchurch.org/event/food-pantry-5-2022-03-14/
LOCATION:50 Indian Trail Road\, Penn Laird\, VA\, 22846\, United States
END:VEVENT
BEGIN:VEVENT
DTSTART;TZID=America/New_York:20220313T110000
DTEND;TZID=America/New_York:20220313T113000
DTSTAMP:20260425T075032
CREATED:20220209T222029Z
LAST-MODIFIED:20220427T161310Z
UID:9486-1647169200-1647171000@massanuttenchurch.org
SUMMARY:Godly Play
DESCRIPTION:
URL:https://massanuttenchurch.org/event/godly-play-2022-03-13/
LOCATION:50 Indian Trail Road\, Penn Laird\, VA\, 22846\, United States
END:VEVENT
BEGIN:VEVENT
DTSTART;TZID=America/New_York:20220313T103000
DTEND;TZID=America/New_York:20220313T113000
DTSTAMP:20260425T075032
CREATED:20210712T024206Z
LAST-MODIFIED:20230802T155158Z
UID:8307-1647167400-1647171000@massanuttenchurch.org
SUMMARY:Sunday Worship
DESCRIPTION:
URL:https://massanuttenchurch.org/event/sunday-worship-2-2022-03-13/
LOCATION:Sanctuary\, 50 Indian Trail Road\, Penn Laird\, 22846\, United States
END:VEVENT
BEGIN:VEVENT
DTSTART;TZID=America/New_York:20220313T090000
DTEND;TZID=America/New_York:20220313T100000
DTSTAMP:20260425T075032
CREATED:20210915T182645Z
LAST-MODIFIED:20220105T171926Z
UID:9100-1647162000-1647165600@massanuttenchurch.org
SUMMARY:Adult Sunday School
DESCRIPTION:
URL:https://massanuttenchurch.org/event/adult-sunday-school-2022-03-13/
END:VEVENT
BEGIN:VEVENT
DTSTART;TZID=America/New_York:20220310T190000
DTEND;TZID=America/New_York:20220310T200000
DTSTAMP:20260425T075032
CREATED:20220302T194202Z
LAST-MODIFIED:20220406T175135Z
UID:9600-1646938800-1646942400@massanuttenchurch.org
SUMMARY:Lenten Devotional Group Study
DESCRIPTION:
URL:https://massanuttenchurch.org/event/lenten-devotional-group-study-2/
LOCATION:50 Indian Trail Road\, Penn Laird\, VA\, 22846\, United States
END:VEVENT
BEGIN:VEVENT
DTSTART;TZID=America/New_York:20220310T190000
DTEND;TZID=America/New_York:20220310T200000
DTSTAMP:20260425T075032
CREATED:20220125T164240Z
LAST-MODIFIED:20220125T164240Z
UID:9547-1646938800-1646942400@massanuttenchurch.org
SUMMARY:Food Pantry
DESCRIPTION:
URL:https://massanuttenchurch.org/event/food-pantry-6-2022-03-10/
LOCATION:50 Indian Trail Road\, Penn Laird\, VA\, 22846\, United States
END:VEVENT
BEGIN:VEVENT
DTSTART;TZID=America/New_York:20220309T190000
DTEND;TZID=America/New_York:20220309T200000
DTSTAMP:20260425T075032
CREATED:20210915T182021Z
LAST-MODIFIED:20220525T161430Z
UID:8478-1646852400-1646856000@massanuttenchurch.org
SUMMARY:Chancel Choir Rehearsal
DESCRIPTION:
URL:https://massanuttenchurch.org/event/chancel-choir-rehearsal-2022-03-09/
LOCATION:50 Indian Trail Road\, Penn Laird\, VA\, 22846\, United States
END:VEVENT
BEGIN:VEVENT
DTSTART;TZID=America/New_York:20220309T073000
DTEND;TZID=America/New_York:20220309T083000
DTSTAMP:20260425T075032
CREATED:20220126T154646Z
LAST-MODIFIED:20230104T181641Z
UID:9406-1646811000-1646814600@massanuttenchurch.org
SUMMARY:Men's Prayer Group
DESCRIPTION:
URL:https://massanuttenchurch.org/event/mens-prayer-group-2-2022-03-09/
LOCATION:50 Indian Trail Road\, Penn Laird\, VA\, 22846\, United States
END:VEVENT
BEGIN:VEVENT
DTSTART;TZID=America/New_York:20220307T130000
DTEND;TZID=America/New_York:20220307T140000
DTSTAMP:20260425T075032
CREATED:20220302T193859Z
LAST-MODIFIED:20220302T193859Z
UID:9592-1646658000-1646661600@massanuttenchurch.org
SUMMARY:Lenten Devotional Group Study
DESCRIPTION:
URL:https://massanuttenchurch.org/event/lenten-devotional-group-study/
LOCATION:Gathering Area\, 50 Indian Trail Road\, Penn Laird\, 22846\, United States
END:VEVENT
BEGIN:VEVENT
DTSTART;TZID=America/New_York:20220306T180000
DTEND;TZID=America/New_York:20220306T200000
DTSTAMP:20260425T075032
CREATED:20211006T192404Z
LAST-MODIFIED:20220421T163446Z
UID:9683-1646589600-1646596800@massanuttenchurch.org
SUMMARY:Youth Group
DESCRIPTION:
URL:https://massanuttenchurch.org/event/youth-group-2022-03-06/
LOCATION:50 Indian Trail Road\, Penn Laird\, VA\, 22846\, United States
END:VEVENT
BEGIN:VEVENT
DTSTART;TZID=America/New_York:20220306T170000
DTEND;TZID=America/New_York:20220306T180000
DTSTAMP:20260425T075032
CREATED:20220126T154036Z
LAST-MODIFIED:20220426T175519Z
UID:9493-1646586000-1646589600@massanuttenchurch.org
SUMMARY:Fun With Handbells
DESCRIPTION:
URL:https://massanuttenchurch.org/event/fun-with-handbells-2022-03-06/
LOCATION:50 Indian Trail Road\, Penn Laird\, VA\, 22846\, United States
END:VEVENT
BEGIN:VEVENT
DTSTART;TZID=America/New_York:20220306T110000
DTEND;TZID=America/New_York:20220306T113000
DTSTAMP:20260425T075032
CREATED:20220209T222029Z
LAST-MODIFIED:20220427T161310Z
UID:9485-1646564400-1646566200@massanuttenchurch.org
SUMMARY:Godly Play
DESCRIPTION:
URL:https://massanuttenchurch.org/event/godly-play-2022-03-06/
LOCATION:50 Indian Trail Road\, Penn Laird\, VA\, 22846\, United States
END:VEVENT
BEGIN:VEVENT
DTSTART;TZID=America/New_York:20220306T103000
DTEND;TZID=America/New_York:20220306T113000
DTSTAMP:20260425T075032
CREATED:20210712T024206Z
LAST-MODIFIED:20230802T155158Z
UID:8306-1646562600-1646566200@massanuttenchurch.org
SUMMARY:Sunday Worship
DESCRIPTION:
URL:https://massanuttenchurch.org/event/sunday-worship-2-2022-03-06/
LOCATION:Sanctuary\, 50 Indian Trail Road\, Penn Laird\, 22846\, United States
END:VEVENT
BEGIN:VEVENT
DTSTART;TZID=America/New_York:20220306T093000
DTEND;TZID=America/New_York:20220306T102000
DTSTAMP:20260425T075032
CREATED:20211006T194504Z
LAST-MODIFIED:20220315T204550Z
UID:8751-1646559000-1646562000@massanuttenchurch.org
SUMMARY:Parent Fellowship
DESCRIPTION:
URL:https://massanuttenchurch.org/event/parent-fellowship-2022-03-06/
LOCATION:50 Indian Trail Road\, Penn Laird\, VA\, 22846\, United States
END:VEVENT
BEGIN:VEVENT
DTSTART;TZID=America/New_York:20220306T093000
DTEND;TZID=America/New_York:20220306T102000
DTSTAMP:20260425T075032
CREATED:20211006T191048Z
LAST-MODIFIED:20220309T160636Z
UID:8697-1646559000-1646562000@massanuttenchurch.org
SUMMARY:Faith Village
DESCRIPTION:
URL:https://massanuttenchurch.org/event/sunday-school-2-2022-03-06/
END:VEVENT
BEGIN:VEVENT
DTSTART;TZID=America/New_York:20220306T090000
DTEND;TZID=America/New_York:20220306T100000
DTSTAMP:20260425T075032
CREATED:20210915T182645Z
LAST-MODIFIED:20220105T171925Z
UID:9099-1646557200-1646560800@massanuttenchurch.org
SUMMARY:Adult Sunday School
DESCRIPTION:
URL:https://massanuttenchurch.org/event/adult-sunday-school-2022-03-06/
END:VEVENT
BEGIN:VEVENT
DTSTART;TZID=America/New_York:20220302T073000
DTEND;TZID=America/New_York:20220302T083000
DTSTAMP:20260425T075032
CREATED:20220126T154646Z
LAST-MODIFIED:20230104T181640Z
UID:9405-1646206200-1646209800@massanuttenchurch.org
SUMMARY:Men's Prayer Group
DESCRIPTION:
URL:https://massanuttenchurch.org/event/mens-prayer-group-2-2022-03-02/
LOCATION:50 Indian Trail Road\, Penn Laird\, VA\, 22846\, United States
END:VEVENT
BEGIN:VEVENT
DTSTART;TZID=America/New_York:20220227T180000
DTEND;TZID=America/New_York:20220227T200000
DTSTAMP:20260425T075032
CREATED:20211006T192404Z
LAST-MODIFIED:20220421T163446Z
UID:9682-1645984800-1645992000@massanuttenchurch.org
SUMMARY:Youth Group
DESCRIPTION:
URL:https://massanuttenchurch.org/event/youth-group-2022-02-27/
LOCATION:50 Indian Trail Road\, Penn Laird\, VA\, 22846\, United States
END:VEVENT
BEGIN:VEVENT
DTSTART;TZID=America/New_York:20220227T170000
DTEND;TZID=America/New_York:20220227T180000
DTSTAMP:20260425T075032
CREATED:20220126T154036Z
LAST-MODIFIED:20220426T175518Z
UID:9492-1645981200-1645984800@massanuttenchurch.org
SUMMARY:Fun With Handbells
DESCRIPTION:
URL:https://massanuttenchurch.org/event/fun-with-handbells-2022-02-27/
LOCATION:50 Indian Trail Road\, Penn Laird\, VA\, 22846\, United States
END:VEVENT
BEGIN:VEVENT
DTSTART;TZID=America/New_York:20220227T113000
DTEND;TZID=America/New_York:20220227T123000
DTSTAMP:20260425T075032
CREATED:20220209T222358Z
LAST-MODIFIED:20220427T161216Z
UID:9528-1645961400-1645965000@massanuttenchurch.org
SUMMARY:Confirmation
DESCRIPTION:
URL:https://massanuttenchurch.org/event/confirmation-2022-02-27/
LOCATION:50 Indian Trail Road\, Penn Laird\, VA\, 22846\, United States
END:VEVENT
BEGIN:VEVENT
DTSTART;TZID=America/New_York:20220227T103000
DTEND;TZID=America/New_York:20220227T113000
DTSTAMP:20260425T075032
CREATED:20210712T024206Z
LAST-MODIFIED:20230802T155158Z
UID:8305-1645957800-1645961400@massanuttenchurch.org
SUMMARY:Sunday Worship
DESCRIPTION:
URL:https://massanuttenchurch.org/event/sunday-worship-2-2022-02-27/
LOCATION:Sanctuary\, 50 Indian Trail Road\, Penn Laird\, 22846\, United States
END:VEVENT
END:VCALENDAR