BEGIN:VCALENDAR
VERSION:2.0
PRODID:-//Massanutten Presbyterian Church - ECPv6.15.20//NONSGML v1.0//EN
CALSCALE:GREGORIAN
METHOD:PUBLISH
X-WR-CALNAME:Massanutten Presbyterian Church
X-ORIGINAL-URL:https://massanuttenchurch.org
X-WR-CALDESC:Events for Massanutten Presbyterian Church
REFRESH-INTERVAL;VALUE=DURATION:PT1H
X-Robots-Tag:noindex
X-PUBLISHED-TTL:PT1H
BEGIN:VTIMEZONE
TZID:America/New_York
BEGIN:DAYLIGHT
TZOFFSETFROM:-0500
TZOFFSETTO:-0400
TZNAME:EDT
DTSTART:20210314T070000
END:DAYLIGHT
BEGIN:STANDARD
TZOFFSETFROM:-0400
TZOFFSETTO:-0500
TZNAME:EST
DTSTART:20211107T060000
END:STANDARD
BEGIN:DAYLIGHT
TZOFFSETFROM:-0500
TZOFFSETTO:-0400
TZNAME:EDT
DTSTART:20220313T070000
END:DAYLIGHT
BEGIN:STANDARD
TZOFFSETFROM:-0400
TZOFFSETTO:-0500
TZNAME:EST
DTSTART:20221106T060000
END:STANDARD
BEGIN:DAYLIGHT
TZOFFSETFROM:-0500
TZOFFSETTO:-0400
TZNAME:EDT
DTSTART:20230312T070000
END:DAYLIGHT
BEGIN:STANDARD
TZOFFSETFROM:-0400
TZOFFSETTO:-0500
TZNAME:EST
DTSTART:20231105T060000
END:STANDARD
END:VTIMEZONE
BEGIN:VTIMEZONE
TZID:UTC
BEGIN:STANDARD
TZOFFSETFROM:+0000
TZOFFSETTO:+0000
TZNAME:UTC
DTSTART:20210101T000000
END:STANDARD
END:VTIMEZONE
BEGIN:VEVENT
DTSTART;TZID=America/New_York:20220403T093000
DTEND;TZID=America/New_York:20220403T102000
DTSTAMP:20260425T110054
CREATED:20211006T191048Z
LAST-MODIFIED:20220309T160641Z
UID:8700-1648978200-1648981200@massanuttenchurch.org
SUMMARY:Faith Village
DESCRIPTION:
URL:https://massanuttenchurch.org/event/sunday-school-2-2022-04-03/
END:VEVENT
BEGIN:VEVENT
DTSTART;TZID=America/New_York:20220403T090000
DTEND;TZID=America/New_York:20220403T100000
DTSTAMP:20260425T110054
CREATED:20210915T182645Z
LAST-MODIFIED:20220105T171928Z
UID:9103-1648976400-1648980000@massanuttenchurch.org
SUMMARY:Adult Sunday School
DESCRIPTION:
URL:https://massanuttenchurch.org/event/adult-sunday-school-2022-04-03/
END:VEVENT
BEGIN:VEVENT
DTSTART;TZID=America/New_York:20220331T190000
DTEND;TZID=America/New_York:20220331T200000
DTSTAMP:20260425T110054
CREATED:20220302T194202Z
LAST-MODIFIED:20220406T175137Z
UID:9604-1648753200-1648756800@massanuttenchurch.org
SUMMARY:Lenten Devotional Group Study
DESCRIPTION:
URL:https://massanuttenchurch.org/event/lenten-devotional-group-study-2-2022-03-31/
LOCATION:50 Indian Trail Road\, Penn Laird\, VA\, 22846\, United States
END:VEVENT
BEGIN:VEVENT
DTSTART;TZID=America/New_York:20220330T190000
DTEND;TZID=America/New_York:20220330T200000
DTSTAMP:20260425T110054
CREATED:20210915T182021Z
LAST-MODIFIED:20220525T161433Z
UID:8481-1648666800-1648670400@massanuttenchurch.org
SUMMARY:Chancel Choir Rehearsal
DESCRIPTION:
URL:https://massanuttenchurch.org/event/chancel-choir-rehearsal-2022-03-30/
LOCATION:50 Indian Trail Road\, Penn Laird\, VA\, 22846\, United States
END:VEVENT
BEGIN:VEVENT
DTSTART;TZID=America/New_York:20220330T073000
DTEND;TZID=America/New_York:20220330T083000
DTSTAMP:20260425T110054
CREATED:20220126T154646Z
LAST-MODIFIED:20230104T181643Z
UID:9409-1648625400-1648629000@massanuttenchurch.org
SUMMARY:Men's Prayer Group
DESCRIPTION:
URL:https://massanuttenchurch.org/event/mens-prayer-group-2-2022-03-30/
LOCATION:50 Indian Trail Road\, Penn Laird\, VA\, 22846\, United States
END:VEVENT
BEGIN:VEVENT
DTSTART;TZID=America/New_York:20220328T190000
DTEND;TZID=America/New_York:20220328T200000
DTSTAMP:20260425T110054
CREATED:20220323T144858Z
LAST-MODIFIED:20220511T230759Z
UID:9756-1648494000-1648497600@massanuttenchurch.org
SUMMARY:Massanutten Ringers
DESCRIPTION:
URL:https://massanuttenchurch.org/event/massanetta-ringers/
LOCATION:50 Indian Trail Road\, Penn Laird\, VA\, 22846\, United States
END:VEVENT
BEGIN:VEVENT
DTSTART;TZID=America/New_York:20220328T130000
DTEND;TZID=America/New_York:20220328T140000
DTSTAMP:20260425T110054
CREATED:20220302T193859Z
LAST-MODIFIED:20220302T193859Z
UID:9596-1648472400-1648476000@massanuttenchurch.org
SUMMARY:Lenten Devotional Group Study
DESCRIPTION:
URL:https://massanuttenchurch.org/event/lenten-devotional-group-study-2022-03-28/
LOCATION:Gathering Area\, 50 Indian Trail Road\, Penn Laird\, 22846\, United States
END:VEVENT
BEGIN:VEVENT
DTSTART;TZID=America/New_York:20220327T180000
DTEND;TZID=America/New_York:20220327T200000
DTSTAMP:20260425T110055
CREATED:20211006T192404Z
LAST-MODIFIED:20220421T163447Z
UID:9684-1648404000-1648411200@massanuttenchurch.org
SUMMARY:Youth Group
DESCRIPTION:
URL:https://massanuttenchurch.org/event/youth-group-2022-03-27/
LOCATION:50 Indian Trail Road\, Penn Laird\, VA\, 22846\, United States
END:VEVENT
BEGIN:VEVENT
DTSTART;TZID=America/New_York:20220327T170000
DTEND;TZID=America/New_York:20220327T180000
DTSTAMP:20260425T110055
CREATED:20220126T154036Z
LAST-MODIFIED:20220426T175519Z
UID:9496-1648400400-1648404000@massanuttenchurch.org
SUMMARY:Fun With Handbells
DESCRIPTION:
URL:https://massanuttenchurch.org/event/fun-with-handbells-2022-03-27/
LOCATION:50 Indian Trail Road\, Penn Laird\, VA\, 22846\, United States
END:VEVENT
BEGIN:VEVENT
DTSTART;TZID=America/New_York:20220327T113000
DTEND;TZID=America/New_York:20220327T123000
DTSTAMP:20260425T110055
CREATED:20220209T222358Z
LAST-MODIFIED:20220427T161217Z
UID:9529-1648380600-1648384200@massanuttenchurch.org
SUMMARY:Confirmation
DESCRIPTION:
URL:https://massanuttenchurch.org/event/confirmation-2022-03-27/
LOCATION:50 Indian Trail Road\, Penn Laird\, VA\, 22846\, United States
END:VEVENT
BEGIN:VEVENT
DTSTART;TZID=America/New_York:20220327T103000
DTEND;TZID=America/New_York:20220327T113000
DTSTAMP:20260425T110055
CREATED:20210712T024206Z
LAST-MODIFIED:20230802T155158Z
UID:8309-1648377000-1648380600@massanuttenchurch.org
SUMMARY:Sunday Worship
DESCRIPTION:
URL:https://massanuttenchurch.org/event/sunday-worship-2-2022-03-27/
LOCATION:Sanctuary\, 50 Indian Trail Road\, Penn Laird\, 22846\, United States
END:VEVENT
BEGIN:VEVENT
DTSTART;TZID=America/New_York:20220327T093000
DTEND;TZID=America/New_York:20220327T102000
DTSTAMP:20260425T110055
CREATED:20211006T194504Z
LAST-MODIFIED:20211006T194504Z
UID:9731-1648373400-1648376400@massanuttenchurch.org
SUMMARY:Parent Fellowship
DESCRIPTION:
URL:https://massanuttenchurch.org/event/parent-fellowship-2022-03-27/
LOCATION:50 Indian Trail Road\, Penn Laird\, VA\, 22846\, United States
END:VEVENT
BEGIN:VEVENT
DTSTART;TZID=America/New_York:20220327T093000
DTEND;TZID=America/New_York:20220327T102000
DTSTAMP:20260425T110055
CREATED:20211006T191048Z
LAST-MODIFIED:20220309T160638Z
UID:9483-1648373400-1648376400@massanuttenchurch.org
SUMMARY:Faith Village
DESCRIPTION:
URL:https://massanuttenchurch.org/event/sunday-school-2-2022-03-27/
END:VEVENT
BEGIN:VEVENT
DTSTART;TZID=America/New_York:20220327T090000
DTEND;TZID=America/New_York:20220327T100000
DTSTAMP:20260425T110055
CREATED:20210915T182645Z
LAST-MODIFIED:20220105T171927Z
UID:9102-1648371600-1648375200@massanuttenchurch.org
SUMMARY:Adult Sunday School
DESCRIPTION:
URL:https://massanuttenchurch.org/event/adult-sunday-school-2022-03-27/
END:VEVENT
BEGIN:VEVENT
DTSTART;TZID=America/New_York:20220324T190000
DTEND;TZID=America/New_York:20220324T200000
DTSTAMP:20260425T110055
CREATED:20220302T194202Z
LAST-MODIFIED:20220406T175137Z
UID:9603-1648148400-1648152000@massanuttenchurch.org
SUMMARY:Lenten Devotional Group Study
DESCRIPTION:
URL:https://massanuttenchurch.org/event/lenten-devotional-group-study-2-2022-03-24/
LOCATION:50 Indian Trail Road\, Penn Laird\, VA\, 22846\, United States
END:VEVENT
BEGIN:VEVENT
DTSTART;TZID=America/New_York:20220323T190000
DTEND;TZID=America/New_York:20220323T200000
DTSTAMP:20260425T110055
CREATED:20210915T182021Z
LAST-MODIFIED:20220525T161432Z
UID:8480-1648062000-1648065600@massanuttenchurch.org
SUMMARY:Chancel Choir Rehearsal
DESCRIPTION:
URL:https://massanuttenchurch.org/event/chancel-choir-rehearsal-2022-03-23/
LOCATION:50 Indian Trail Road\, Penn Laird\, VA\, 22846\, United States
END:VEVENT
BEGIN:VEVENT
DTSTART;TZID=America/New_York:20220323T073000
DTEND;TZID=America/New_York:20220323T083000
DTSTAMP:20260425T110055
CREATED:20220126T154646Z
LAST-MODIFIED:20230104T181643Z
UID:9408-1648020600-1648024200@massanuttenchurch.org
SUMMARY:Men's Prayer Group
DESCRIPTION:
URL:https://massanuttenchurch.org/event/mens-prayer-group-2-2022-03-23/
LOCATION:50 Indian Trail Road\, Penn Laird\, VA\, 22846\, United States
END:VEVENT
BEGIN:VEVENT
DTSTART;TZID=America/New_York:20220321T130000
DTEND;TZID=America/New_York:20220321T140000
DTSTAMP:20260425T110055
CREATED:20220302T193859Z
LAST-MODIFIED:20220302T193859Z
UID:9595-1647867600-1647871200@massanuttenchurch.org
SUMMARY:Lenten Devotional Group Study
DESCRIPTION:
URL:https://massanuttenchurch.org/event/lenten-devotional-group-study-2022-03-21/
LOCATION:Gathering Area\, 50 Indian Trail Road\, Penn Laird\, 22846\, United States
END:VEVENT
BEGIN:VEVENT
DTSTART;TZID=UTC:20220320T183000
DTEND;TZID=UTC:20220320T203000
DTSTAMP:20260425T110055
CREATED:20170425T032515Z
LAST-MODIFIED:20230822T121235Z
UID:6254-1647801000-1647808200@massanuttenchurch.org
SUMMARY:Session Meeting
DESCRIPTION:Session Meeting
URL:https://massanuttenchurch.org/event/session-meeting-2022-03-20/
LOCATION:Fellowship Hall
END:VEVENT
BEGIN:VEVENT
DTSTART;TZID=America/New_York:20220320T110000
DTEND;TZID=America/New_York:20220320T113000
DTSTAMP:20260425T110055
CREATED:20220209T222029Z
LAST-MODIFIED:20220427T161311Z
UID:9487-1647774000-1647775800@massanuttenchurch.org
SUMMARY:Godly Play
DESCRIPTION:
URL:https://massanuttenchurch.org/event/godly-play-2022-03-20/
LOCATION:50 Indian Trail Road\, Penn Laird\, VA\, 22846\, United States
END:VEVENT
BEGIN:VEVENT
DTSTART;TZID=America/New_York:20220320T103000
DTEND;TZID=America/New_York:20220320T113000
DTSTAMP:20260425T110055
CREATED:20210712T024206Z
LAST-MODIFIED:20230802T155158Z
UID:8308-1647772200-1647775800@massanuttenchurch.org
SUMMARY:Sunday Worship
DESCRIPTION:
URL:https://massanuttenchurch.org/event/sunday-worship-2-2022-03-20/
LOCATION:Sanctuary\, 50 Indian Trail Road\, Penn Laird\, 22846\, United States
END:VEVENT
BEGIN:VEVENT
DTSTART;TZID=America/New_York:20220320T093000
DTEND;TZID=America/New_York:20220320T102000
DTSTAMP:20260425T110055
CREATED:20211006T194504Z
LAST-MODIFIED:20220315T204552Z
UID:8753-1647768600-1647771600@massanuttenchurch.org
SUMMARY:Parent Fellowship
DESCRIPTION:
URL:https://massanuttenchurch.org/event/parent-fellowship-2022-03-20/
LOCATION:50 Indian Trail Road\, Penn Laird\, VA\, 22846\, United States
END:VEVENT
BEGIN:VEVENT
DTSTART;TZID=America/New_York:20220320T093000
DTEND;TZID=America/New_York:20220320T102000
DTSTAMP:20260425T110055
CREATED:20211006T191048Z
LAST-MODIFIED:20220309T160637Z
UID:8699-1647768600-1647771600@massanuttenchurch.org
SUMMARY:Faith Village
DESCRIPTION:
URL:https://massanuttenchurch.org/event/sunday-school-2-2022-03-20/
END:VEVENT
BEGIN:VEVENT
DTSTART;TZID=America/New_York:20220320T090000
DTEND;TZID=America/New_York:20220320T100000
DTSTAMP:20260425T110055
CREATED:20210915T182645Z
LAST-MODIFIED:20220105T171926Z
UID:9101-1647766800-1647770400@massanuttenchurch.org
SUMMARY:Adult Sunday School
DESCRIPTION:
URL:https://massanuttenchurch.org/event/adult-sunday-school-2022-03-20/
END:VEVENT
BEGIN:VEVENT
DTSTART;TZID=America/New_York:20220317T190000
DTEND;TZID=America/New_York:20220317T200000
DTSTAMP:20260425T110055
CREATED:20220302T194202Z
LAST-MODIFIED:20220406T175136Z
UID:9602-1647543600-1647547200@massanuttenchurch.org
SUMMARY:Lenten Devotional Group Study
DESCRIPTION:
URL:https://massanuttenchurch.org/event/lenten-devotional-group-study-2-2022-03-17/
LOCATION:50 Indian Trail Road\, Penn Laird\, VA\, 22846\, United States
END:VEVENT
BEGIN:VEVENT
DTSTART;TZID=America/New_York:20220316T190000
DTEND;TZID=America/New_York:20220316T200000
DTSTAMP:20260425T110055
CREATED:20210915T182021Z
LAST-MODIFIED:20220525T161431Z
UID:8479-1647457200-1647460800@massanuttenchurch.org
SUMMARY:Chancel Choir Rehearsal
DESCRIPTION:
URL:https://massanuttenchurch.org/event/chancel-choir-rehearsal-2022-03-16/
LOCATION:50 Indian Trail Road\, Penn Laird\, VA\, 22846\, United States
END:VEVENT
BEGIN:VEVENT
DTSTART;TZID=America/New_York:20220316T073000
DTEND;TZID=America/New_York:20220316T083000
DTSTAMP:20260425T110055
CREATED:20220126T154646Z
LAST-MODIFIED:20230104T181642Z
UID:9407-1647415800-1647419400@massanuttenchurch.org
SUMMARY:Men's Prayer Group
DESCRIPTION:
URL:https://massanuttenchurch.org/event/mens-prayer-group-2-2022-03-16/
LOCATION:50 Indian Trail Road\, Penn Laird\, VA\, 22846\, United States
END:VEVENT
BEGIN:VEVENT
DTSTART;TZID=America/New_York:20220314T130000
DTEND;TZID=America/New_York:20220314T140000
DTSTAMP:20260425T110055
CREATED:20220302T193859Z
LAST-MODIFIED:20220302T193859Z
UID:9594-1647262800-1647266400@massanuttenchurch.org
SUMMARY:Lenten Devotional Group Study
DESCRIPTION:
URL:https://massanuttenchurch.org/event/lenten-devotional-group-study-2022-03-14/
LOCATION:Gathering Area\, 50 Indian Trail Road\, Penn Laird\, 22846\, United States
END:VEVENT
BEGIN:VEVENT
DTSTART;TZID=America/New_York:20220314T100000
DTEND;TZID=America/New_York:20220314T110000
DTSTAMP:20260425T110055
CREATED:20220125T164107Z
LAST-MODIFIED:20220125T164107Z
UID:9548-1647252000-1647255600@massanuttenchurch.org
SUMMARY:Food Pantry
DESCRIPTION:
URL:https://massanuttenchurch.org/event/food-pantry-5-2022-03-14/
LOCATION:50 Indian Trail Road\, Penn Laird\, VA\, 22846\, United States
END:VEVENT
BEGIN:VEVENT
DTSTART;TZID=America/New_York:20220313T110000
DTEND;TZID=America/New_York:20220313T113000
DTSTAMP:20260425T110055
CREATED:20220209T222029Z
LAST-MODIFIED:20220427T161310Z
UID:9486-1647169200-1647171000@massanuttenchurch.org
SUMMARY:Godly Play
DESCRIPTION:
URL:https://massanuttenchurch.org/event/godly-play-2022-03-13/
LOCATION:50 Indian Trail Road\, Penn Laird\, VA\, 22846\, United States
END:VEVENT
END:VCALENDAR