BEGIN:VCALENDAR
VERSION:2.0
PRODID:-//Massanutten Presbyterian Church - ECPv6.15.20//NONSGML v1.0//EN
CALSCALE:GREGORIAN
METHOD:PUBLISH
X-WR-CALNAME:Massanutten Presbyterian Church
X-ORIGINAL-URL:https://massanuttenchurch.org
X-WR-CALDESC:Events for Massanutten Presbyterian Church
REFRESH-INTERVAL;VALUE=DURATION:PT1H
X-Robots-Tag:noindex
X-PUBLISHED-TTL:PT1H
BEGIN:VTIMEZONE
TZID:America/New_York
BEGIN:DAYLIGHT
TZOFFSETFROM:-0500
TZOFFSETTO:-0400
TZNAME:EDT
DTSTART:20200308T070000
END:DAYLIGHT
BEGIN:STANDARD
TZOFFSETFROM:-0400
TZOFFSETTO:-0500
TZNAME:EST
DTSTART:20201101T060000
END:STANDARD
BEGIN:DAYLIGHT
TZOFFSETFROM:-0500
TZOFFSETTO:-0400
TZNAME:EDT
DTSTART:20210314T070000
END:DAYLIGHT
BEGIN:STANDARD
TZOFFSETFROM:-0400
TZOFFSETTO:-0500
TZNAME:EST
DTSTART:20211107T060000
END:STANDARD
BEGIN:DAYLIGHT
TZOFFSETFROM:-0500
TZOFFSETTO:-0400
TZNAME:EDT
DTSTART:20220313T070000
END:DAYLIGHT
BEGIN:STANDARD
TZOFFSETFROM:-0400
TZOFFSETTO:-0500
TZNAME:EST
DTSTART:20221106T060000
END:STANDARD
BEGIN:DAYLIGHT
TZOFFSETFROM:-0500
TZOFFSETTO:-0400
TZNAME:EDT
DTSTART:20230312T070000
END:DAYLIGHT
BEGIN:STANDARD
TZOFFSETFROM:-0400
TZOFFSETTO:-0500
TZNAME:EST
DTSTART:20231105T060000
END:STANDARD
END:VTIMEZONE
BEGIN:VTIMEZONE
TZID:UTC
BEGIN:STANDARD
TZOFFSETFROM:+0000
TZOFFSETTO:+0000
TZNAME:UTC
DTSTART:20160101T000000
END:STANDARD
END:VTIMEZONE
BEGIN:VEVENT
DTSTART;TZID=America/New_York:20220227T103000
DTEND;TZID=America/New_York:20220227T113000
DTSTAMP:20260425T115529
CREATED:20210712T024206Z
LAST-MODIFIED:20230802T155158Z
UID:8305-1645957800-1645961400@massanuttenchurch.org
SUMMARY:Sunday Worship
DESCRIPTION:
URL:https://massanuttenchurch.org/event/sunday-worship-2-2022-02-27/
LOCATION:Sanctuary\, 50 Indian Trail Road\, Penn Laird\, 22846\, United States
END:VEVENT
BEGIN:VEVENT
DTSTART;TZID=America/New_York:20220227T090000
DTEND;TZID=America/New_York:20220227T100000
DTSTAMP:20260425T115529
CREATED:20210915T182645Z
LAST-MODIFIED:20220105T171924Z
UID:9098-1645952400-1645956000@massanuttenchurch.org
SUMMARY:Adult Sunday School
DESCRIPTION:
URL:https://massanuttenchurch.org/event/adult-sunday-school-2022-02-27/
END:VEVENT
BEGIN:VEVENT
DTSTART;TZID=America/New_York:20220223T190000
DTEND;TZID=America/New_York:20220223T200000
DTSTAMP:20260425T115529
CREATED:20210915T182021Z
LAST-MODIFIED:20220525T161429Z
UID:8476-1645642800-1645646400@massanuttenchurch.org
SUMMARY:Chancel Choir Rehearsal
DESCRIPTION:
URL:https://massanuttenchurch.org/event/chancel-choir-rehearsal-2022-02-23/
LOCATION:50 Indian Trail Road\, Penn Laird\, VA\, 22846\, United States
END:VEVENT
BEGIN:VEVENT
DTSTART;TZID=America/New_York:20220223T073000
DTEND;TZID=America/New_York:20220223T083000
DTSTAMP:20260425T115529
CREATED:20220126T154646Z
LAST-MODIFIED:20230104T181640Z
UID:9404-1645601400-1645605000@massanuttenchurch.org
SUMMARY:Men's Prayer Group
DESCRIPTION:
URL:https://massanuttenchurch.org/event/mens-prayer-group-2-2022-02-23/
LOCATION:50 Indian Trail Road\, Penn Laird\, VA\, 22846\, United States
END:VEVENT
BEGIN:VEVENT
DTSTART;TZID=UTC:20220220T183000
DTEND;TZID=UTC:20220220T203000
DTSTAMP:20260425T115529
CREATED:20170425T032515Z
LAST-MODIFIED:20230822T121233Z
UID:6194-1645381800-1645389000@massanuttenchurch.org
SUMMARY:Session Meeting
DESCRIPTION:Session Meeting
URL:https://massanuttenchurch.org/event/session-meeting-2022-02-20/
LOCATION:Fellowship Hall
END:VEVENT
BEGIN:VEVENT
DTSTART;TZID=America/New_York:20220220T180000
DTEND;TZID=America/New_York:20220220T200000
DTSTAMP:20260425T115529
CREATED:20211006T192404Z
LAST-MODIFIED:20220421T163444Z
UID:9681-1645380000-1645387200@massanuttenchurch.org
SUMMARY:Youth Group
DESCRIPTION:
URL:https://massanuttenchurch.org/event/youth-group-2022-02-20/
LOCATION:50 Indian Trail Road\, Penn Laird\, VA\, 22846\, United States
END:VEVENT
BEGIN:VEVENT
DTSTART;TZID=America/New_York:20220220T170000
DTEND;TZID=America/New_York:20220220T180000
DTSTAMP:20260425T115529
CREATED:20220126T154036Z
LAST-MODIFIED:20220426T175518Z
UID:9491-1645376400-1645380000@massanuttenchurch.org
SUMMARY:Fun With Handbells
DESCRIPTION:
URL:https://massanuttenchurch.org/event/fun-with-handbells-2022-02-20/
LOCATION:50 Indian Trail Road\, Penn Laird\, VA\, 22846\, United States
END:VEVENT
BEGIN:VEVENT
DTSTART;TZID=America/New_York:20220220T110000
DTEND;TZID=America/New_York:20220220T113000
DTSTAMP:20260425T115529
CREATED:20220209T222029Z
LAST-MODIFIED:20220427T161309Z
UID:9479-1645354800-1645356600@massanuttenchurch.org
SUMMARY:Godly Play
DESCRIPTION:
URL:https://massanuttenchurch.org/event/godly-play-2022-02-20/
LOCATION:50 Indian Trail Road\, Penn Laird\, VA\, 22846\, United States
END:VEVENT
BEGIN:VEVENT
DTSTART;TZID=America/New_York:20220220T103000
DTEND;TZID=America/New_York:20220220T113000
DTSTAMP:20260425T115529
CREATED:20210712T024206Z
LAST-MODIFIED:20230802T154030Z
UID:8304-1645353000-1645356600@massanuttenchurch.org
SUMMARY:Sunday Worship
DESCRIPTION:
URL:https://massanuttenchurch.org/event/sunday-worship-2-2022-02-20/
LOCATION:Sanctuary\, 50 Indian Trail Road\, Penn Laird\, 22846\, United States
END:VEVENT
BEGIN:VEVENT
DTSTART;TZID=America/New_York:20220220T093000
DTEND;TZID=America/New_York:20220220T102000
DTSTAMP:20260425T115529
CREATED:20211006T194504Z
LAST-MODIFIED:20220315T204549Z
UID:8750-1645349400-1645352400@massanuttenchurch.org
SUMMARY:Parent Fellowship
DESCRIPTION:
URL:https://massanuttenchurch.org/event/parent-fellowship-2022-02-20/
LOCATION:50 Indian Trail Road\, Penn Laird\, VA\, 22846\, United States
END:VEVENT
BEGIN:VEVENT
DTSTART;TZID=America/New_York:20220220T093000
DTEND;TZID=America/New_York:20220220T102000
DTSTAMP:20260425T115529
CREATED:20211006T191048Z
LAST-MODIFIED:20220309T160635Z
UID:8696-1645349400-1645352400@massanuttenchurch.org
SUMMARY:Faith Village
DESCRIPTION:
URL:https://massanuttenchurch.org/event/sunday-school-2-2022-02-20/
END:VEVENT
BEGIN:VEVENT
DTSTART;TZID=America/New_York:20220220T090000
DTEND;TZID=America/New_York:20220220T100000
DTSTAMP:20260425T115529
CREATED:20210915T182645Z
LAST-MODIFIED:20220105T171923Z
UID:9097-1645347600-1645351200@massanuttenchurch.org
SUMMARY:Adult Sunday School
DESCRIPTION:
URL:https://massanuttenchurch.org/event/adult-sunday-school-2022-02-20/
END:VEVENT
BEGIN:VEVENT
DTSTART;TZID=America/New_York:20220214T100000
DTEND;TZID=America/New_York:20220214T110000
DTSTAMP:20260425T115529
CREATED:20220125T164107Z
LAST-MODIFIED:20220222T163234Z
UID:9393-1644832800-1644836400@massanuttenchurch.org
SUMMARY:Food Pantry
DESCRIPTION:
URL:https://massanuttenchurch.org/event/food-pantry-5/
LOCATION:50 Indian Trail Road\, Penn Laird\, VA\, 22846\, United States
END:VEVENT
BEGIN:VEVENT
DTSTART;TZID=America/New_York:20220213T113000
DTEND;TZID=America/New_York:20220213T123000
DTSTAMP:20260425T115529
CREATED:20220209T222358Z
LAST-MODIFIED:20220427T161214Z
UID:9480-1644751800-1644755400@massanuttenchurch.org
SUMMARY:Confirmation
DESCRIPTION:
URL:https://massanuttenchurch.org/event/confirmation/
LOCATION:50 Indian Trail Road\, Penn Laird\, VA\, 22846\, United States
END:VEVENT
BEGIN:VEVENT
DTSTART;TZID=America/New_York:20220213T110000
DTEND;TZID=America/New_York:20220213T113000
DTSTAMP:20260425T115529
CREATED:20220209T222029Z
LAST-MODIFIED:20220427T161308Z
UID:9477-1644750000-1644751800@massanuttenchurch.org
SUMMARY:Godly Play
DESCRIPTION:
URL:https://massanuttenchurch.org/event/godly-play/
LOCATION:50 Indian Trail Road\, Penn Laird\, VA\, 22846\, United States
END:VEVENT
BEGIN:VEVENT
DTSTART;TZID=America/New_York:20220210T190000
DTEND;TZID=America/New_York:20220210T200000
DTSTAMP:20260425T115529
CREATED:20220125T164240Z
LAST-MODIFIED:20220222T163225Z
UID:9395-1644519600-1644523200@massanuttenchurch.org
SUMMARY:Food Pantry
DESCRIPTION:
URL:https://massanuttenchurch.org/event/food-pantry-6/
LOCATION:50 Indian Trail Road\, Penn Laird\, VA\, 22846\, United States
END:VEVENT
BEGIN:VEVENT
DTSTART;TZID=America/New_York:20220206T170000
DTEND;TZID=America/New_York:20220206T180000
DTSTAMP:20260425T115529
CREATED:20220126T154036Z
LAST-MODIFIED:20220426T175515Z
UID:9398-1644166800-1644170400@massanuttenchurch.org
SUMMARY:Fun With Handbells
DESCRIPTION:
URL:https://massanuttenchurch.org/event/fun-with-handbells/
LOCATION:50 Indian Trail Road\, Penn Laird\, VA\, 22846\, United States
END:VEVENT
BEGIN:VEVENT
DTSTART;TZID=America/New_York:20220202T073000
DTEND;TZID=America/New_York:20220202T083000
DTSTAMP:20260425T115529
CREATED:20220126T154646Z
LAST-MODIFIED:20230104T181637Z
UID:9400-1643787000-1643790600@massanuttenchurch.org
SUMMARY:Men's Prayer Group
DESCRIPTION:
URL:https://massanuttenchurch.org/event/mens-prayer-group-2/
LOCATION:50 Indian Trail Road\, Penn Laird\, VA\, 22846\, United States
END:VEVENT
BEGIN:VEVENT
DTSTART;TZID=America/New_York:20211017T093000
DTEND;TZID=America/New_York:20211017T102000
DTSTAMP:20260425T115529
CREATED:20211006T194504Z
LAST-MODIFIED:20220315T204525Z
UID:8736-1634463000-1634466000@massanuttenchurch.org
SUMMARY:Parent Fellowship
DESCRIPTION:
URL:https://massanuttenchurch.org/event/parent-fellowship/
LOCATION:50 Indian Trail Road\, Penn Laird\, VA\, 22846\, United States
END:VEVENT
BEGIN:VEVENT
DTSTART;TZID=America/New_York:20211017T093000
DTEND;TZID=America/New_York:20211017T102000
DTSTAMP:20260425T115529
CREATED:20211006T191048Z
LAST-MODIFIED:20220309T160609Z
UID:8658-1634463000-1634466000@massanuttenchurch.org
SUMMARY:Faith Village
DESCRIPTION:
URL:https://massanuttenchurch.org/event/sunday-school-2/
END:VEVENT
BEGIN:VEVENT
DTSTART;TZID=America/New_York:20211010T180000
DTEND;TZID=America/New_York:20211010T200000
DTSTAMP:20260425T115529
CREATED:20211006T192404Z
LAST-MODIFIED:20220421T163438Z
UID:8706-1633888800-1633896000@massanuttenchurch.org
SUMMARY:Youth Group
DESCRIPTION:
URL:https://massanuttenchurch.org/event/youth-group/
LOCATION:50 Indian Trail Road\, Penn Laird\, VA\, 22846\, United States
END:VEVENT
BEGIN:VEVENT
DTSTART;TZID=America/New_York:20210922T190000
DTEND;TZID=America/New_York:20210922T200000
DTSTAMP:20260425T115529
CREATED:20210915T182021Z
LAST-MODIFIED:20220525T161414Z
UID:8453-1632337200-1632340800@massanuttenchurch.org
SUMMARY:Chancel Choir Rehearsal
DESCRIPTION:
URL:https://massanuttenchurch.org/event/chancel-choir-rehearsal/
LOCATION:50 Indian Trail Road\, Penn Laird\, VA\, 22846\, United States
END:VEVENT
BEGIN:VEVENT
DTSTART;TZID=America/New_York:20210919T090000
DTEND;TZID=America/New_York:20210919T100000
DTSTAMP:20260425T115529
CREATED:20210915T182645Z
LAST-MODIFIED:20220105T171845Z
UID:8564-1632042000-1632045600@massanuttenchurch.org
SUMMARY:Adult Sunday School
DESCRIPTION:
URL:https://massanuttenchurch.org/event/adult-sunday-school/
END:VEVENT
BEGIN:VEVENT
DTSTART;TZID=America/New_York:20210801T103000
DTEND;TZID=America/New_York:20210801T113000
DTSTAMP:20260425T115529
CREATED:20210712T024206Z
LAST-MODIFIED:20230802T154010Z
UID:8271-1627813800-1627817400@massanuttenchurch.org
SUMMARY:Sunday Worship
DESCRIPTION:
URL:https://massanuttenchurch.org/event/sunday-worship-2/
LOCATION:Sanctuary\, 50 Indian Trail Road\, Penn Laird\, 22846\, United States
END:VEVENT
BEGIN:VEVENT
DTSTART;TZID=UTC:20170521T183000
DTEND;TZID=UTC:20170521T203000
DTSTAMP:20260425T115529
CREATED:20170425T032515Z
LAST-MODIFIED:20230822T121229Z
UID:51-1495391400-1495398600@massanuttenchurch.org
SUMMARY:Session Meeting
DESCRIPTION:Session Meeting
URL:https://massanuttenchurch.org/event/session-meeting/
LOCATION:Fellowship Hall
END:VEVENT
END:VCALENDAR