BEGIN:VCALENDAR
VERSION:2.0
PRODID:-//Massanutten Presbyterian Church - ECPv6.15.20//NONSGML v1.0//EN
CALSCALE:GREGORIAN
METHOD:PUBLISH
X-WR-CALNAME:Massanutten Presbyterian Church
X-ORIGINAL-URL:https://massanuttenchurch.org
X-WR-CALDESC:Events for Massanutten Presbyterian Church
REFRESH-INTERVAL;VALUE=DURATION:PT1H
X-Robots-Tag:noindex
X-PUBLISHED-TTL:PT1H
BEGIN:VTIMEZONE
TZID:America/New_York
BEGIN:DAYLIGHT
TZOFFSETFROM:-0500
TZOFFSETTO:-0400
TZNAME:EDT
DTSTART:20210314T070000
END:DAYLIGHT
BEGIN:STANDARD
TZOFFSETFROM:-0400
TZOFFSETTO:-0500
TZNAME:EST
DTSTART:20211107T060000
END:STANDARD
BEGIN:DAYLIGHT
TZOFFSETFROM:-0500
TZOFFSETTO:-0400
TZNAME:EDT
DTSTART:20220313T070000
END:DAYLIGHT
BEGIN:STANDARD
TZOFFSETFROM:-0400
TZOFFSETTO:-0500
TZNAME:EST
DTSTART:20221106T060000
END:STANDARD
BEGIN:DAYLIGHT
TZOFFSETFROM:-0500
TZOFFSETTO:-0400
TZNAME:EDT
DTSTART:20230312T070000
END:DAYLIGHT
BEGIN:STANDARD
TZOFFSETFROM:-0400
TZOFFSETTO:-0500
TZNAME:EST
DTSTART:20231105T060000
END:STANDARD
END:VTIMEZONE
BEGIN:VTIMEZONE
TZID:UTC
BEGIN:STANDARD
TZOFFSETFROM:+0000
TZOFFSETTO:+0000
TZNAME:UTC
DTSTART:20210101T000000
END:STANDARD
END:VTIMEZONE
BEGIN:VEVENT
DTSTART;TZID=America/New_York:20220713T190000
DTEND;TZID=America/New_York:20220713T190000
DTSTAMP:20260425T125327
CREATED:20220525T163805Z
LAST-MODIFIED:20230518T144020Z
UID:10212-1657738800-1657738800@massanuttenchurch.org
SUMMARY:Chancel Choir Rehearsal
DESCRIPTION:
URL:https://massanuttenchurch.org/event/chancel-choir-rehearsal-3-2022-07-13/
LOCATION:50 Indian Trail Road\, Penn Laird\, VA\, 22846\, United States
END:VEVENT
BEGIN:VEVENT
DTSTART;TZID=America/New_York:20220713T073000
DTEND;TZID=America/New_York:20220713T083000
DTSTAMP:20260425T125327
CREATED:20220126T154646Z
LAST-MODIFIED:20230104T181656Z
UID:9424-1657697400-1657701000@massanuttenchurch.org
SUMMARY:Men's Prayer Group
DESCRIPTION:
URL:https://massanuttenchurch.org/event/mens-prayer-group-2-2022-07-13/
LOCATION:50 Indian Trail Road\, Penn Laird\, VA\, 22846\, United States
END:VEVENT
BEGIN:VEVENT
DTSTART;TZID=America/New_York:20220710T103000
DTEND;TZID=America/New_York:20220710T113000
DTSTAMP:20260425T125327
CREATED:20210712T024206Z
LAST-MODIFIED:20230802T155200Z
UID:8324-1657449000-1657452600@massanuttenchurch.org
SUMMARY:Sunday Worship
DESCRIPTION:
URL:https://massanuttenchurch.org/event/sunday-worship-2-2022-07-10/
LOCATION:Sanctuary\, 50 Indian Trail Road\, Penn Laird\, 22846\, United States
END:VEVENT
BEGIN:VEVENT
DTSTART;TZID=America/New_York:20220706T190000
DTEND;TZID=America/New_York:20220706T190000
DTSTAMP:20260425T125327
CREATED:20220525T163805Z
LAST-MODIFIED:20230518T144019Z
UID:10211-1657134000-1657134000@massanuttenchurch.org
SUMMARY:Chancel Choir Rehearsal
DESCRIPTION:
URL:https://massanuttenchurch.org/event/chancel-choir-rehearsal-3-2022-07-06/
LOCATION:50 Indian Trail Road\, Penn Laird\, VA\, 22846\, United States
END:VEVENT
BEGIN:VEVENT
DTSTART;TZID=America/New_York:20220706T073000
DTEND;TZID=America/New_York:20220706T083000
DTSTAMP:20260425T125327
CREATED:20220126T154646Z
LAST-MODIFIED:20230104T181655Z
UID:9423-1657092600-1657096200@massanuttenchurch.org
SUMMARY:Men's Prayer Group
DESCRIPTION:
URL:https://massanuttenchurch.org/event/mens-prayer-group-2-2022-07-06/
LOCATION:50 Indian Trail Road\, Penn Laird\, VA\, 22846\, United States
END:VEVENT
BEGIN:VEVENT
DTSTART;TZID=America/New_York:20220703T103000
DTEND;TZID=America/New_York:20220703T113000
DTSTAMP:20260425T125327
CREATED:20210712T024206Z
LAST-MODIFIED:20230802T155200Z
UID:8323-1656844200-1656847800@massanuttenchurch.org
SUMMARY:Sunday Worship
DESCRIPTION:
URL:https://massanuttenchurch.org/event/sunday-worship-2-2022-07-03/
LOCATION:Sanctuary\, 50 Indian Trail Road\, Penn Laird\, 22846\, United States
END:VEVENT
BEGIN:VEVENT
DTSTART;TZID=America/New_York:20220629T190000
DTEND;TZID=America/New_York:20220629T190000
DTSTAMP:20260425T125327
CREATED:20220525T163805Z
LAST-MODIFIED:20230518T144019Z
UID:10210-1656529200-1656529200@massanuttenchurch.org
SUMMARY:Chancel Choir Rehearsal
DESCRIPTION:
URL:https://massanuttenchurch.org/event/chancel-choir-rehearsal-3-2022-06-29/
LOCATION:50 Indian Trail Road\, Penn Laird\, VA\, 22846\, United States
END:VEVENT
BEGIN:VEVENT
DTSTART;TZID=America/New_York:20220629T073000
DTEND;TZID=America/New_York:20220629T083000
DTSTAMP:20260425T125327
CREATED:20220126T154646Z
LAST-MODIFIED:20230104T181655Z
UID:9422-1656487800-1656491400@massanuttenchurch.org
SUMMARY:Men's Prayer Group
DESCRIPTION:
URL:https://massanuttenchurch.org/event/mens-prayer-group-2-2022-06-29/
LOCATION:50 Indian Trail Road\, Penn Laird\, VA\, 22846\, United States
END:VEVENT
BEGIN:VEVENT
DTSTART;TZID=America/New_York:20220626T103000
DTEND;TZID=America/New_York:20220626T113000
DTSTAMP:20260425T125327
CREATED:20210712T024206Z
LAST-MODIFIED:20230802T155200Z
UID:8322-1656239400-1656243000@massanuttenchurch.org
SUMMARY:Sunday Worship
DESCRIPTION:
URL:https://massanuttenchurch.org/event/sunday-worship-2-2022-06-26/
LOCATION:Sanctuary\, 50 Indian Trail Road\, Penn Laird\, 22846\, United States
END:VEVENT
BEGIN:VEVENT
DTSTART;TZID=America/New_York:20220622T190000
DTEND;TZID=America/New_York:20220622T190000
DTSTAMP:20260425T125327
CREATED:20220525T163805Z
LAST-MODIFIED:20230518T144018Z
UID:10209-1655924400-1655924400@massanuttenchurch.org
SUMMARY:Chancel Choir Rehearsal
DESCRIPTION:
URL:https://massanuttenchurch.org/event/chancel-choir-rehearsal-3-2022-06-22/
LOCATION:50 Indian Trail Road\, Penn Laird\, VA\, 22846\, United States
END:VEVENT
BEGIN:VEVENT
DTSTART;TZID=America/New_York:20220622T073000
DTEND;TZID=America/New_York:20220622T083000
DTSTAMP:20260425T125327
CREATED:20220126T154646Z
LAST-MODIFIED:20230104T181654Z
UID:9421-1655883000-1655886600@massanuttenchurch.org
SUMMARY:Men's Prayer Group
DESCRIPTION:
URL:https://massanuttenchurch.org/event/mens-prayer-group-2-2022-06-22/
LOCATION:50 Indian Trail Road\, Penn Laird\, VA\, 22846\, United States
END:VEVENT
BEGIN:VEVENT
DTSTART;TZID=UTC:20220619T183000
DTEND;TZID=UTC:20220619T203000
DTSTAMP:20260425T125327
CREATED:20170425T032515Z
LAST-MODIFIED:20230822T121239Z
UID:6640-1655663400-1655670600@massanuttenchurch.org
SUMMARY:Session Meeting
DESCRIPTION:Session Meeting
URL:https://massanuttenchurch.org/event/session-meeting-2022-06-19/
LOCATION:Fellowship Hall
END:VEVENT
BEGIN:VEVENT
DTSTART;TZID=America/New_York:20220619T103000
DTEND;TZID=America/New_York:20220619T113000
DTSTAMP:20260425T125327
CREATED:20210712T024206Z
LAST-MODIFIED:20230802T155200Z
UID:8321-1655634600-1655638200@massanuttenchurch.org
SUMMARY:Sunday Worship
DESCRIPTION:
URL:https://massanuttenchurch.org/event/sunday-worship-2-2022-06-19/
LOCATION:Sanctuary\, 50 Indian Trail Road\, Penn Laird\, 22846\, United States
END:VEVENT
BEGIN:VEVENT
DTSTART;TZID=America/New_York:20220615T190000
DTEND;TZID=America/New_York:20220615T190000
DTSTAMP:20260425T125327
CREATED:20220525T163805Z
LAST-MODIFIED:20230518T144018Z
UID:10208-1655319600-1655319600@massanuttenchurch.org
SUMMARY:Chancel Choir Rehearsal
DESCRIPTION:
URL:https://massanuttenchurch.org/event/chancel-choir-rehearsal-3-2022-06-15/
LOCATION:50 Indian Trail Road\, Penn Laird\, VA\, 22846\, United States
END:VEVENT
BEGIN:VEVENT
DTSTART;TZID=America/New_York:20220615T073000
DTEND;TZID=America/New_York:20220615T083000
DTSTAMP:20260425T125327
CREATED:20220126T154646Z
LAST-MODIFIED:20230104T181652Z
UID:9420-1655278200-1655281800@massanuttenchurch.org
SUMMARY:Men's Prayer Group
DESCRIPTION:
URL:https://massanuttenchurch.org/event/mens-prayer-group-2-2022-06-15/
LOCATION:50 Indian Trail Road\, Penn Laird\, VA\, 22846\, United States
END:VEVENT
BEGIN:VEVENT
DTSTART;TZID=America/New_York:20220612T103000
DTEND;TZID=America/New_York:20220612T113000
DTSTAMP:20260425T125327
CREATED:20210712T024206Z
LAST-MODIFIED:20230802T155200Z
UID:8320-1655029800-1655033400@massanuttenchurch.org
SUMMARY:Sunday Worship
DESCRIPTION:
URL:https://massanuttenchurch.org/event/sunday-worship-2-2022-06-12/
LOCATION:Sanctuary\, 50 Indian Trail Road\, Penn Laird\, 22846\, United States
END:VEVENT
BEGIN:VEVENT
DTSTART;TZID=America/New_York:20220608T190000
DTEND;TZID=America/New_York:20220608T190000
DTSTAMP:20260425T125327
CREATED:20220525T163805Z
LAST-MODIFIED:20230518T144017Z
UID:10207-1654714800-1654714800@massanuttenchurch.org
SUMMARY:Chancel Choir Rehearsal
DESCRIPTION:
URL:https://massanuttenchurch.org/event/chancel-choir-rehearsal-3-2022-06-08/
LOCATION:50 Indian Trail Road\, Penn Laird\, VA\, 22846\, United States
END:VEVENT
BEGIN:VEVENT
DTSTART;TZID=America/New_York:20220608T073000
DTEND;TZID=America/New_York:20220608T083000
DTSTAMP:20260425T125327
CREATED:20220126T154646Z
LAST-MODIFIED:20230104T181652Z
UID:9419-1654673400-1654677000@massanuttenchurch.org
SUMMARY:Men's Prayer Group
DESCRIPTION:
URL:https://massanuttenchurch.org/event/mens-prayer-group-2-2022-06-08/
LOCATION:50 Indian Trail Road\, Penn Laird\, VA\, 22846\, United States
END:VEVENT
BEGIN:VEVENT
DTSTART;TZID=America/New_York:20220605T103000
DTEND;TZID=America/New_York:20220605T113000
DTSTAMP:20260425T125327
CREATED:20220524T170614Z
LAST-MODIFIED:20230510T163731Z
UID:10015-1654425000-1654428600@massanuttenchurch.org
SUMMARY:Senior Recognition Sunday
DESCRIPTION:
URL:https://massanuttenchurch.org/event/senior-recognition-sunday/
LOCATION:VA
END:VEVENT
BEGIN:VEVENT
DTSTART;TZID=America/New_York:20220605T103000
DTEND;TZID=America/New_York:20220605T113000
DTSTAMP:20260425T125327
CREATED:20210712T024206Z
LAST-MODIFIED:20230802T155159Z
UID:8319-1654425000-1654428600@massanuttenchurch.org
SUMMARY:Sunday Worship
DESCRIPTION:
URL:https://massanuttenchurch.org/event/sunday-worship-2-2022-06-05/
LOCATION:Sanctuary\, 50 Indian Trail Road\, Penn Laird\, 22846\, United States
END:VEVENT
BEGIN:VEVENT
DTSTART;TZID=America/New_York:20220601T190000
DTEND;TZID=America/New_York:20220601T190000
DTSTAMP:20260425T125327
CREATED:20220525T163805Z
LAST-MODIFIED:20230518T144017Z
UID:10206-1654110000-1654110000@massanuttenchurch.org
SUMMARY:Chancel Choir Rehearsal
DESCRIPTION:
URL:https://massanuttenchurch.org/event/chancel-choir-rehearsal-3-2022-06-01/
LOCATION:50 Indian Trail Road\, Penn Laird\, VA\, 22846\, United States
END:VEVENT
BEGIN:VEVENT
DTSTART;TZID=America/New_York:20220601T073000
DTEND;TZID=America/New_York:20220601T083000
DTSTAMP:20260425T125327
CREATED:20220126T154646Z
LAST-MODIFIED:20230104T181651Z
UID:9418-1654068600-1654072200@massanuttenchurch.org
SUMMARY:Men's Prayer Group
DESCRIPTION:
URL:https://massanuttenchurch.org/event/mens-prayer-group-2-2022-06-01/
LOCATION:50 Indian Trail Road\, Penn Laird\, VA\, 22846\, United States
END:VEVENT
BEGIN:VEVENT
DTSTART;TZID=America/New_York:20220529T190000
DTEND;TZID=America/New_York:20220529T190000
DTSTAMP:20260425T125327
CREATED:20220525T163805Z
LAST-MODIFIED:20230518T144008Z
UID:10019-1653850800-1653850800@massanuttenchurch.org
SUMMARY:Chancel Choir Rehearsal
DESCRIPTION:
URL:https://massanuttenchurch.org/event/chancel-choir-rehearsal-3/
LOCATION:50 Indian Trail Road\, Penn Laird\, VA\, 22846\, United States
END:VEVENT
BEGIN:VEVENT
DTSTART;TZID=America/New_York:20220529T103000
DTEND;TZID=America/New_York:20220529T113000
DTSTAMP:20260425T125327
CREATED:20210712T024206Z
LAST-MODIFIED:20230802T155159Z
UID:8318-1653820200-1653823800@massanuttenchurch.org
SUMMARY:Sunday Worship
DESCRIPTION:
URL:https://massanuttenchurch.org/event/sunday-worship-2-2022-05-29/
LOCATION:Sanctuary\, 50 Indian Trail Road\, Penn Laird\, 22846\, United States
END:VEVENT
BEGIN:VEVENT
DTSTART;TZID=America/New_York:20220525T190000
DTEND;TZID=America/New_York:20220525T200000
DTSTAMP:20260425T125327
CREATED:20210915T182021Z
LAST-MODIFIED:20220525T161437Z
UID:8489-1653505200-1653508800@massanuttenchurch.org
SUMMARY:Chancel Choir Rehearsal
DESCRIPTION:
URL:https://massanuttenchurch.org/event/chancel-choir-rehearsal-2022-05-25/
LOCATION:50 Indian Trail Road\, Penn Laird\, VA\, 22846\, United States
END:VEVENT
BEGIN:VEVENT
DTSTART;TZID=America/New_York:20220525T073000
DTEND;TZID=America/New_York:20220525T083000
DTSTAMP:20260425T125327
CREATED:20220126T154646Z
LAST-MODIFIED:20230104T181651Z
UID:9417-1653463800-1653467400@massanuttenchurch.org
SUMMARY:Men's Prayer Group
DESCRIPTION:
URL:https://massanuttenchurch.org/event/mens-prayer-group-2-2022-05-25/
LOCATION:50 Indian Trail Road\, Penn Laird\, VA\, 22846\, United States
END:VEVENT
BEGIN:VEVENT
DTSTART;TZID=America/New_York:20220522T180000
DTEND;TZID=America/New_York:20220522T200000
DTSTAMP:20260425T125327
CREATED:20211006T192404Z
LAST-MODIFIED:20220421T163449Z
UID:9837-1653242400-1653249600@massanuttenchurch.org
SUMMARY:Youth Group
DESCRIPTION:
URL:https://massanuttenchurch.org/event/youth-group-2022-05-22/
LOCATION:50 Indian Trail Road\, Penn Laird\, VA\, 22846\, United States
END:VEVENT
BEGIN:VEVENT
DTSTART;TZID=America/New_York:20220522T170000
DTEND;TZID=America/New_York:20220522T180000
DTSTAMP:20260425T125327
CREATED:20220126T154036Z
LAST-MODIFIED:20220426T175525Z
UID:9903-1653238800-1653242400@massanuttenchurch.org
SUMMARY:Fun With Handbells
DESCRIPTION:
URL:https://massanuttenchurch.org/event/fun-with-handbells-2022-05-22/
LOCATION:50 Indian Trail Road\, Penn Laird\, VA\, 22846\, United States
END:VEVENT
BEGIN:VEVENT
DTSTART;TZID=America/New_York:20220522T110000
DTEND;TZID=America/New_York:20220522T113000
DTSTAMP:20260425T125327
CREATED:20220209T222029Z
LAST-MODIFIED:20220427T161313Z
UID:9836-1653217200-1653219000@massanuttenchurch.org
SUMMARY:Godly Play
DESCRIPTION:
URL:https://massanuttenchurch.org/event/godly-play-2022-05-22/
LOCATION:50 Indian Trail Road\, Penn Laird\, VA\, 22846\, United States
END:VEVENT
BEGIN:VEVENT
DTSTART;TZID=America/New_York:20220522T103000
DTEND;TZID=America/New_York:20220522T113000
DTSTAMP:20260425T125327
CREATED:20210712T024206Z
LAST-MODIFIED:20230802T155159Z
UID:8317-1653215400-1653219000@massanuttenchurch.org
SUMMARY:Sunday Worship
DESCRIPTION:
URL:https://massanuttenchurch.org/event/sunday-worship-2-2022-05-22/
LOCATION:Sanctuary\, 50 Indian Trail Road\, Penn Laird\, 22846\, United States
END:VEVENT
END:VCALENDAR