BEGIN:VCALENDAR
VERSION:2.0
PRODID:-//Massanutten Presbyterian Church - ECPv6.15.20//NONSGML v1.0//EN
CALSCALE:GREGORIAN
METHOD:PUBLISH
X-WR-CALNAME:Massanutten Presbyterian Church
X-ORIGINAL-URL:https://massanuttenchurch.org
X-WR-CALDESC:Events for Massanutten Presbyterian Church
REFRESH-INTERVAL;VALUE=DURATION:PT1H
X-Robots-Tag:noindex
X-PUBLISHED-TTL:PT1H
BEGIN:VTIMEZONE
TZID:America/New_York
BEGIN:DAYLIGHT
TZOFFSETFROM:-0500
TZOFFSETTO:-0400
TZNAME:EDT
DTSTART:20210314T070000
END:DAYLIGHT
BEGIN:STANDARD
TZOFFSETFROM:-0400
TZOFFSETTO:-0500
TZNAME:EST
DTSTART:20211107T060000
END:STANDARD
BEGIN:DAYLIGHT
TZOFFSETFROM:-0500
TZOFFSETTO:-0400
TZNAME:EDT
DTSTART:20220313T070000
END:DAYLIGHT
BEGIN:STANDARD
TZOFFSETFROM:-0400
TZOFFSETTO:-0500
TZNAME:EST
DTSTART:20221106T060000
END:STANDARD
BEGIN:DAYLIGHT
TZOFFSETFROM:-0500
TZOFFSETTO:-0400
TZNAME:EDT
DTSTART:20230312T070000
END:DAYLIGHT
BEGIN:STANDARD
TZOFFSETFROM:-0400
TZOFFSETTO:-0500
TZNAME:EST
DTSTART:20231105T060000
END:STANDARD
END:VTIMEZONE
BEGIN:VTIMEZONE
TZID:UTC
BEGIN:STANDARD
TZOFFSETFROM:+0000
TZOFFSETTO:+0000
TZNAME:UTC
DTSTART:20210101T000000
END:STANDARD
END:VTIMEZONE
BEGIN:VEVENT
DTSTART;TZID=America/New_York:20220515T093000
DTEND;TZID=America/New_York:20220515T102000
DTSTAMP:20260425T122752
CREATED:20211006T191048Z
LAST-MODIFIED:20220309T160644Z
UID:8704-1652607000-1652610000@massanuttenchurch.org
SUMMARY:Faith Village
DESCRIPTION:
URL:https://massanuttenchurch.org/event/sunday-school-2-2022-05-15/
LOCATION:VA
END:VEVENT
BEGIN:VEVENT
DTSTART;TZID=America/New_York:20220515T090000
DTEND;TZID=America/New_York:20220515T100000
DTSTAMP:20260425T122752
CREATED:20210915T182645Z
LAST-MODIFIED:20220105T171940Z
UID:9109-1652605200-1652608800@massanuttenchurch.org
SUMMARY:Adult Sunday School
DESCRIPTION:
URL:https://massanuttenchurch.org/event/adult-sunday-school-2022-05-15/
LOCATION:VA
END:VEVENT
BEGIN:VEVENT
DTSTART;TZID=America/New_York:20220511T190000
DTEND;TZID=America/New_York:20220511T200000
DTSTAMP:20260425T122752
CREATED:20210915T182021Z
LAST-MODIFIED:20220525T161436Z
UID:8487-1652295600-1652299200@massanuttenchurch.org
SUMMARY:Chancel Choir Rehearsal
DESCRIPTION:
URL:https://massanuttenchurch.org/event/chancel-choir-rehearsal-2022-05-11/
LOCATION:50 Indian Trail Road\, Penn Laird\, VA\, 22846\, United States
END:VEVENT
BEGIN:VEVENT
DTSTART;TZID=America/New_York:20220511T073000
DTEND;TZID=America/New_York:20220511T083000
DTSTAMP:20260425T122752
CREATED:20220126T154646Z
LAST-MODIFIED:20230104T181649Z
UID:9415-1652254200-1652257800@massanuttenchurch.org
SUMMARY:Men's Prayer Group
DESCRIPTION:
URL:https://massanuttenchurch.org/event/mens-prayer-group-2-2022-05-11/
LOCATION:50 Indian Trail Road\, Penn Laird\, VA\, 22846\, United States
END:VEVENT
BEGIN:VEVENT
DTSTART;TZID=America/New_York:20220509T190000
DTEND;TZID=America/New_York:20220509T200000
DTSTAMP:20260425T122752
CREATED:20220323T144858Z
LAST-MODIFIED:20220511T230803Z
UID:9763-1652122800-1652126400@massanuttenchurch.org
SUMMARY:Massanutten Ringers
DESCRIPTION:
URL:https://massanuttenchurch.org/event/massanetta-ringers-2022-05-09/
LOCATION:50 Indian Trail Road\, Penn Laird\, VA\, 22846\, United States
END:VEVENT
BEGIN:VEVENT
DTSTART;TZID=America/New_York:20220508T110000
DTEND;TZID=America/New_York:20220508T113000
DTSTAMP:20260425T122752
CREATED:20220209T222029Z
LAST-MODIFIED:20220209T222029Z
UID:9956-1652007600-1652009400@massanuttenchurch.org
SUMMARY:Godly Play
DESCRIPTION:
URL:https://massanuttenchurch.org/event/godly-play-2022-05-08/
LOCATION:50 Indian Trail Road\, Penn Laird\, VA\, 22846\, United States
END:VEVENT
BEGIN:VEVENT
DTSTART;TZID=America/New_York:20220508T103000
DTEND;TZID=America/New_York:20220508T113000
DTSTAMP:20260425T122752
CREATED:20210712T024206Z
LAST-MODIFIED:20230802T155159Z
UID:8315-1652005800-1652009400@massanuttenchurch.org
SUMMARY:Sunday Worship
DESCRIPTION:
URL:https://massanuttenchurch.org/event/sunday-worship-2-2022-05-08/
LOCATION:Sanctuary\, 50 Indian Trail Road\, Penn Laird\, 22846\, United States
END:VEVENT
BEGIN:VEVENT
DTSTART;TZID=America/New_York:20220508T090000
DTEND;TZID=America/New_York:20220508T100000
DTSTAMP:20260425T122752
CREATED:20210915T182645Z
LAST-MODIFIED:20220105T171939Z
UID:9108-1652000400-1652004000@massanuttenchurch.org
SUMMARY:Adult Sunday School
DESCRIPTION:
URL:https://massanuttenchurch.org/event/adult-sunday-school-2022-05-08/
LOCATION:VA
END:VEVENT
BEGIN:VEVENT
DTSTART;TZID=America/New_York:20220504T190000
DTEND;TZID=America/New_York:20220504T200000
DTSTAMP:20260425T122752
CREATED:20210915T182021Z
LAST-MODIFIED:20220525T161435Z
UID:8486-1651690800-1651694400@massanuttenchurch.org
SUMMARY:Chancel Choir Rehearsal
DESCRIPTION:
URL:https://massanuttenchurch.org/event/chancel-choir-rehearsal-2022-05-04/
LOCATION:50 Indian Trail Road\, Penn Laird\, VA\, 22846\, United States
END:VEVENT
BEGIN:VEVENT
DTSTART;TZID=America/New_York:20220504T073000
DTEND;TZID=America/New_York:20220504T083000
DTSTAMP:20260425T122752
CREATED:20220126T154646Z
LAST-MODIFIED:20230104T181649Z
UID:9414-1651649400-1651653000@massanuttenchurch.org
SUMMARY:Men's Prayer Group
DESCRIPTION:
URL:https://massanuttenchurch.org/event/mens-prayer-group-2-2022-05-04/
LOCATION:50 Indian Trail Road\, Penn Laird\, VA\, 22846\, United States
END:VEVENT
BEGIN:VEVENT
DTSTART;TZID=America/New_York:20220502T190000
DTEND;TZID=America/New_York:20220502T200000
DTSTAMP:20260425T122752
CREATED:20220323T144858Z
LAST-MODIFIED:20220511T230803Z
UID:9762-1651518000-1651521600@massanuttenchurch.org
SUMMARY:Massanutten Ringers
DESCRIPTION:
URL:https://massanuttenchurch.org/event/massanetta-ringers-2022-05-02/
LOCATION:50 Indian Trail Road\, Penn Laird\, VA\, 22846\, United States
END:VEVENT
BEGIN:VEVENT
DTSTART;TZID=America/New_York:20220501T180000
DTEND;TZID=America/New_York:20220501T200000
DTSTAMP:20260425T122752
CREATED:20211006T192404Z
LAST-MODIFIED:20220421T163448Z
UID:9689-1651428000-1651435200@massanuttenchurch.org
SUMMARY:Youth Group
DESCRIPTION:
URL:https://massanuttenchurch.org/event/youth-group-2022-05-01/
LOCATION:50 Indian Trail Road\, Penn Laird\, VA\, 22846\, United States
END:VEVENT
BEGIN:VEVENT
DTSTART;TZID=America/New_York:20220501T170000
DTEND;TZID=America/New_York:20220501T180000
DTSTAMP:20260425T122752
CREATED:20220126T154036Z
LAST-MODIFIED:20220426T175521Z
UID:9900-1651424400-1651428000@massanuttenchurch.org
SUMMARY:Fun With Handbells
DESCRIPTION:
URL:https://massanuttenchurch.org/event/fun-with-handbells-2022-05-01/
LOCATION:50 Indian Trail Road\, Penn Laird\, VA\, 22846\, United States
END:VEVENT
BEGIN:VEVENT
DTSTART;TZID=America/New_York:20220501T103000
DTEND;TZID=America/New_York:20220501T113000
DTSTAMP:20260425T122752
CREATED:20210712T024206Z
LAST-MODIFIED:20230802T155159Z
UID:8314-1651401000-1651404600@massanuttenchurch.org
SUMMARY:Sunday Worship
DESCRIPTION:
URL:https://massanuttenchurch.org/event/sunday-worship-2-2022-05-01/
LOCATION:Sanctuary\, 50 Indian Trail Road\, Penn Laird\, 22846\, United States
END:VEVENT
BEGIN:VEVENT
DTSTART;TZID=America/New_York:20220501T093000
DTEND;TZID=America/New_York:20220501T102000
DTSTAMP:20260425T122752
CREATED:20211006T194504Z
LAST-MODIFIED:20220315T204556Z
UID:8757-1651397400-1651400400@massanuttenchurch.org
SUMMARY:Parent Fellowship
DESCRIPTION:
URL:https://massanuttenchurch.org/event/parent-fellowship-2022-05-01/
LOCATION:50 Indian Trail Road\, Penn Laird\, VA\, 22846\, United States
END:VEVENT
BEGIN:VEVENT
DTSTART;TZID=America/New_York:20220501T093000
DTEND;TZID=America/New_York:20220501T102000
DTSTAMP:20260425T122752
CREATED:20211006T191048Z
LAST-MODIFIED:20220309T160643Z
UID:8703-1651397400-1651400400@massanuttenchurch.org
SUMMARY:Faith Village
DESCRIPTION:
URL:https://massanuttenchurch.org/event/sunday-school-2-2022-05-01/
LOCATION:VA
END:VEVENT
BEGIN:VEVENT
DTSTART;TZID=America/New_York:20220501T090000
DTEND;TZID=America/New_York:20220501T100000
DTSTAMP:20260425T122752
CREATED:20210915T182645Z
LAST-MODIFIED:20220105T171938Z
UID:9107-1651395600-1651399200@massanuttenchurch.org
SUMMARY:Adult Sunday School
DESCRIPTION:
URL:https://massanuttenchurch.org/event/adult-sunday-school-2022-05-01/
LOCATION:VA
END:VEVENT
BEGIN:VEVENT
DTSTART;TZID=America/New_York:20220427T190000
DTEND;TZID=America/New_York:20220427T200000
DTSTAMP:20260425T122752
CREATED:20210915T182021Z
LAST-MODIFIED:20220525T161435Z
UID:8485-1651086000-1651089600@massanuttenchurch.org
SUMMARY:Chancel Choir Rehearsal
DESCRIPTION:
URL:https://massanuttenchurch.org/event/chancel-choir-rehearsal-2022-04-27/
LOCATION:50 Indian Trail Road\, Penn Laird\, VA\, 22846\, United States
END:VEVENT
BEGIN:VEVENT
DTSTART;TZID=America/New_York:20220427T073000
DTEND;TZID=America/New_York:20220427T083000
DTSTAMP:20260425T122752
CREATED:20220126T154646Z
LAST-MODIFIED:20230104T181648Z
UID:9413-1651044600-1651048200@massanuttenchurch.org
SUMMARY:Men's Prayer Group
DESCRIPTION:
URL:https://massanuttenchurch.org/event/mens-prayer-group-2-2022-04-27/
LOCATION:50 Indian Trail Road\, Penn Laird\, VA\, 22846\, United States
END:VEVENT
BEGIN:VEVENT
DTSTART;TZID=America/New_York:20220425T190000
DTEND;TZID=America/New_York:20220425T200000
DTSTAMP:20260425T122752
CREATED:20220323T144858Z
LAST-MODIFIED:20220511T230802Z
UID:9761-1650913200-1650916800@massanuttenchurch.org
SUMMARY:Massanutten Ringers
DESCRIPTION:
URL:https://massanuttenchurch.org/event/massanetta-ringers-2022-04-25/
LOCATION:50 Indian Trail Road\, Penn Laird\, VA\, 22846\, United States
END:VEVENT
BEGIN:VEVENT
DTSTART;TZID=UTC:20220424T183000
DTEND;TZID=UTC:20220424T203000
DTSTAMP:20260425T122752
CREATED:20170425T032515Z
LAST-MODIFIED:20230822T121235Z
UID:9852-1650825000-1650832200@massanuttenchurch.org
SUMMARY:Session Meeting
DESCRIPTION:Session Meeting
URL:https://massanuttenchurch.org/event/session-meeting-2022-04-24/
LOCATION:Fellowship Hall
END:VEVENT
BEGIN:VEVENT
DTSTART;TZID=America/New_York:20220424T180000
DTEND;TZID=America/New_York:20220424T200000
DTSTAMP:20260425T122752
CREATED:20211006T192404Z
LAST-MODIFIED:20220421T163448Z
UID:9688-1650823200-1650830400@massanuttenchurch.org
SUMMARY:Youth Group
DESCRIPTION:
URL:https://massanuttenchurch.org/event/youth-group-2022-04-24/
LOCATION:50 Indian Trail Road\, Penn Laird\, VA\, 22846\, United States
END:VEVENT
BEGIN:VEVENT
DTSTART;TZID=America/New_York:20220424T170000
DTEND;TZID=America/New_York:20220424T180000
DTSTAMP:20260425T122752
CREATED:20220126T154036Z
LAST-MODIFIED:20220426T175520Z
UID:9500-1650819600-1650823200@massanuttenchurch.org
SUMMARY:Fun With Handbells
DESCRIPTION:
URL:https://massanuttenchurch.org/event/fun-with-handbells-2022-04-24/
LOCATION:50 Indian Trail Road\, Penn Laird\, VA\, 22846\, United States
END:VEVENT
BEGIN:VEVENT
DTSTART;TZID=America/New_York:20220424T113000
DTEND;TZID=America/New_York:20220424T123000
DTSTAMP:20260425T122752
CREATED:20220209T222358Z
LAST-MODIFIED:20220427T161218Z
UID:9532-1650799800-1650803400@massanuttenchurch.org
SUMMARY:Confirmation
DESCRIPTION:
URL:https://massanuttenchurch.org/event/confirmation-2022-04-24/
LOCATION:50 Indian Trail Road\, Penn Laird\, VA\, 22846\, United States
END:VEVENT
BEGIN:VEVENT
DTSTART;TZID=America/New_York:20220424T110000
DTEND;TZID=America/New_York:20220424T113000
DTSTAMP:20260425T122752
CREATED:20220209T222029Z
LAST-MODIFIED:20220427T161312Z
UID:9626-1650798000-1650799800@massanuttenchurch.org
SUMMARY:Godly Play
DESCRIPTION:
URL:https://massanuttenchurch.org/event/godly-play-2022-04-24/
LOCATION:50 Indian Trail Road\, Penn Laird\, VA\, 22846\, United States
END:VEVENT
BEGIN:VEVENT
DTSTART;TZID=America/New_York:20220424T103000
DTEND;TZID=America/New_York:20220424T113000
DTSTAMP:20260425T122752
CREATED:20210712T024206Z
LAST-MODIFIED:20230802T155159Z
UID:8313-1650796200-1650799800@massanuttenchurch.org
SUMMARY:Sunday Worship
DESCRIPTION:
URL:https://massanuttenchurch.org/event/sunday-worship-2-2022-04-24/
LOCATION:Sanctuary\, 50 Indian Trail Road\, Penn Laird\, 22846\, United States
END:VEVENT
BEGIN:VEVENT
DTSTART;TZID=America/New_York:20220424T093000
DTEND;TZID=America/New_York:20220424T102000
DTSTAMP:20260425T122752
CREATED:20211006T194504Z
LAST-MODIFIED:20220315T204555Z
UID:8756-1650792600-1650795600@massanuttenchurch.org
SUMMARY:Parent Fellowship
DESCRIPTION:
URL:https://massanuttenchurch.org/event/parent-fellowship-2022-04-24/
LOCATION:50 Indian Trail Road\, Penn Laird\, VA\, 22846\, United States
END:VEVENT
BEGIN:VEVENT
DTSTART;TZID=America/New_York:20220424T093000
DTEND;TZID=America/New_York:20220424T102000
DTSTAMP:20260425T122752
CREATED:20211006T191048Z
LAST-MODIFIED:20220309T160643Z
UID:8702-1650792600-1650795600@massanuttenchurch.org
SUMMARY:Faith Village
DESCRIPTION:
URL:https://massanuttenchurch.org/event/sunday-school-2-2022-04-24/
LOCATION:VA
END:VEVENT
BEGIN:VEVENT
DTSTART;TZID=America/New_York:20220424T090000
DTEND;TZID=America/New_York:20220424T100000
DTSTAMP:20260425T122752
CREATED:20210915T182645Z
LAST-MODIFIED:20220105T171936Z
UID:9106-1650790800-1650794400@massanuttenchurch.org
SUMMARY:Adult Sunday School
DESCRIPTION:
URL:https://massanuttenchurch.org/event/adult-sunday-school-2022-04-24/
LOCATION:VA
END:VEVENT
BEGIN:VEVENT
DTSTART;TZID=America/New_York:20220421T190000
DTEND;TZID=America/New_York:20220421T200000
DTSTAMP:20260425T122752
CREATED:20220302T194202Z
LAST-MODIFIED:20220406T175137Z
UID:9607-1650567600-1650571200@massanuttenchurch.org
SUMMARY:Lenten Devotional Group Study
DESCRIPTION:
URL:https://massanuttenchurch.org/event/lenten-devotional-group-study-2-2022-04-21/
LOCATION:50 Indian Trail Road\, Penn Laird\, VA\, 22846\, United States
END:VEVENT
END:VCALENDAR