BEGIN:VCALENDAR
VERSION:2.0
PRODID:-//Massanutten Presbyterian Church - ECPv6.15.20//NONSGML v1.0//EN
CALSCALE:GREGORIAN
METHOD:PUBLISH
X-WR-CALNAME:Massanutten Presbyterian Church
X-ORIGINAL-URL:https://massanuttenchurch.org
X-WR-CALDESC:Events for Massanutten Presbyterian Church
REFRESH-INTERVAL;VALUE=DURATION:PT1H
X-Robots-Tag:noindex
X-PUBLISHED-TTL:PT1H
BEGIN:VTIMEZONE
TZID:America/New_York
BEGIN:DAYLIGHT
TZOFFSETFROM:-0500
TZOFFSETTO:-0400
TZNAME:EDT
DTSTART:20210314T070000
END:DAYLIGHT
BEGIN:STANDARD
TZOFFSETFROM:-0400
TZOFFSETTO:-0500
TZNAME:EST
DTSTART:20211107T060000
END:STANDARD
BEGIN:DAYLIGHT
TZOFFSETFROM:-0500
TZOFFSETTO:-0400
TZNAME:EDT
DTSTART:20220313T070000
END:DAYLIGHT
BEGIN:STANDARD
TZOFFSETFROM:-0400
TZOFFSETTO:-0500
TZNAME:EST
DTSTART:20221106T060000
END:STANDARD
BEGIN:DAYLIGHT
TZOFFSETFROM:-0500
TZOFFSETTO:-0400
TZNAME:EDT
DTSTART:20230312T070000
END:DAYLIGHT
BEGIN:STANDARD
TZOFFSETFROM:-0400
TZOFFSETTO:-0500
TZNAME:EST
DTSTART:20231105T060000
END:STANDARD
END:VTIMEZONE
BEGIN:VTIMEZONE
TZID:UTC
BEGIN:STANDARD
TZOFFSETFROM:+0000
TZOFFSETTO:+0000
TZNAME:UTC
DTSTART:20210101T000000
END:STANDARD
END:VTIMEZONE
BEGIN:VEVENT
DTSTART;TZID=America/New_York:20221002T090000
DTEND;TZID=America/New_York:20221002T090000
DTSTAMP:20260426T001107
CREATED:20220907T172809Z
LAST-MODIFIED:20230517T153738Z
UID:10280-1664701200-1664701200@massanuttenchurch.org
SUMMARY:Covenant Class
DESCRIPTION:
URL:https://massanuttenchurch.org/event/covenant-class-2022-10-02/
LOCATION:Room 117
END:VEVENT
BEGIN:VEVENT
DTSTART;TZID=America/New_York:20220928T190000
DTEND;TZID=America/New_York:20220928T190000
DTSTAMP:20260426T001107
CREATED:20220525T163805Z
LAST-MODIFIED:20230518T144025Z
UID:10223-1664391600-1664391600@massanuttenchurch.org
SUMMARY:Chancel Choir Rehearsal
DESCRIPTION:
URL:https://massanuttenchurch.org/event/chancel-choir-rehearsal-3-2022-09-28/
LOCATION:50 Indian Trail Road\, Penn Laird\, VA\, 22846\, United States
END:VEVENT
BEGIN:VEVENT
DTSTART;TZID=America/New_York:20220928T073000
DTEND;TZID=America/New_York:20220928T083000
DTSTAMP:20260426T001107
CREATED:20220126T154646Z
LAST-MODIFIED:20230104T181703Z
UID:9435-1664350200-1664353800@massanuttenchurch.org
SUMMARY:Men's Prayer Group
DESCRIPTION:
URL:https://massanuttenchurch.org/event/mens-prayer-group-2-2022-09-28/
LOCATION:50 Indian Trail Road\, Penn Laird\, VA\, 22846\, United States
END:VEVENT
BEGIN:VEVENT
DTSTART;TZID=America/New_York:20220927T100000
DTEND;TZID=America/New_York:20220927T100000
DTSTAMP:20260426T001107
CREATED:20220907T174626Z
LAST-MODIFIED:20230118T195952Z
UID:10369-1664272800-1664272800@massanuttenchurch.org
SUMMARY:Presbyterian Women Coordinating Team Meeting
DESCRIPTION:
URL:https://massanuttenchurch.org/event/presbyterian-women-coordinating-team-meeting/
LOCATION:Fellowship Hall
END:VEVENT
BEGIN:VEVENT
DTSTART;TZID=America/New_York:20220926T190000
DTEND;TZID=America/New_York:20220926T190000
DTSTAMP:20260426T001107
CREATED:20220914T170136Z
LAST-MODIFIED:20240115T154041Z
UID:10619-1664218800-1664218800@massanuttenchurch.org
SUMMARY:Massanutten Ringers
DESCRIPTION:
URL:https://massanuttenchurch.org/event/massanutten-ringers-2-2022-09-26/
LOCATION:50 Indian Trail Road\, Penn Laird\, VA\, 22846\, United States
END:VEVENT
BEGIN:VEVENT
DTSTART;TZID=America/New_York:20220925T180000
DTEND;TZID=America/New_York:20220925T200000
DTSTAMP:20260426T001107
CREATED:20220907T175428Z
LAST-MODIFIED:20230412T160659Z
UID:12034-1664128800-1664136000@massanuttenchurch.org
SUMMARY:Youth Group
DESCRIPTION:
URL:https://massanuttenchurch.org/event/youth-group-2-2022-09-25/
LOCATION:50 Indian Trail Road\, Penn Laird\, VA\, 22846\, United States
END:VEVENT
BEGIN:VEVENT
DTSTART;TZID=America/New_York:20220925T170000
DTEND;TZID=America/New_York:20220925T170000
DTSTAMP:20260426T001107
CREATED:20220907T175517Z
LAST-MODIFIED:20240212T143349Z
UID:10491-1664125200-1664125200@massanuttenchurch.org
SUMMARY:Fun With Handbells
DESCRIPTION:
URL:https://massanuttenchurch.org/event/fun-with-handbells-2-2022-09-25/
LOCATION:50 Indian Trail Road\, Penn Laird\, VA\, 22846\, United States
END:VEVENT
BEGIN:VEVENT
DTSTART;TZID=America/New_York:20220925T110000
DTEND;TZID=America/New_York:20220925T110000
DTSTAMP:20260426T001107
CREATED:20220907T175235Z
LAST-MODIFIED:20230412T160300Z
UID:10417-1664103600-1664103600@massanuttenchurch.org
SUMMARY:Godly Play
DESCRIPTION:
URL:https://massanuttenchurch.org/event/godly-play-2-2022-09-25/
LOCATION:50 Indian Trail Road\, Penn Laird\, VA\, 22846\, United States
END:VEVENT
BEGIN:VEVENT
DTSTART;TZID=America/New_York:20220925T103000
DTEND;TZID=America/New_York:20220925T113000
DTSTAMP:20260426T001107
CREATED:20210712T024206Z
LAST-MODIFIED:20230802T155202Z
UID:8335-1664101800-1664105400@massanuttenchurch.org
SUMMARY:Sunday Worship
DESCRIPTION:
URL:https://massanuttenchurch.org/event/sunday-worship-2-2022-09-25/
LOCATION:Sanctuary\, 50 Indian Trail Road\, Penn Laird\, 22846\, United States
END:VEVENT
BEGIN:VEVENT
DTSTART;TZID=America/New_York:20220925T093000
DTEND;TZID=America/New_York:20220925T102000
DTSTAMP:20260426T001107
CREATED:20220910T174303Z
LAST-MODIFIED:20230503T182228Z
UID:10574-1664098200-1664101200@massanuttenchurch.org
SUMMARY:Parent Fellowship
DESCRIPTION:
URL:https://massanuttenchurch.org/event/parent-fellowship-2-2022-09-25/
LOCATION:50 Indian Trail Road\, Penn Laird\, VA\, 22846\, United States
END:VEVENT
BEGIN:VEVENT
DTSTART;TZID=America/New_York:20220925T093000
DTEND;TZID=America/New_York:20220925T102000
DTSTAMP:20260426T001107
CREATED:20220907T175133Z
LAST-MODIFIED:20230210T193332Z
UID:10380-1664098200-1664101200@massanuttenchurch.org
SUMMARY:Faith Village
DESCRIPTION:
URL:https://massanuttenchurch.org/event/faith-village-2022-09-25/
LOCATION:50 Indian Trail Road\, Penn Laird\, VA\, 22846\, United States
END:VEVENT
BEGIN:VEVENT
DTSTART;TZID=America/New_York:20220925T090000
DTEND;TZID=America/New_York:20220925T090000
DTSTAMP:20260426T001107
CREATED:20220907T172908Z
LAST-MODIFIED:20230517T153824Z
UID:10301-1664096400-1664096400@massanuttenchurch.org
SUMMARY:Faithful Conversations
DESCRIPTION:
URL:https://massanuttenchurch.org/event/faithful-conversations-2022-09-25/
LOCATION:Room 119\, United States
END:VEVENT
BEGIN:VEVENT
DTSTART;TZID=America/New_York:20220925T090000
DTEND;TZID=America/New_York:20220925T090000
DTSTAMP:20260426T001107
CREATED:20220907T172809Z
LAST-MODIFIED:20230517T153737Z
UID:10279-1664096400-1664096400@massanuttenchurch.org
SUMMARY:Covenant Class
DESCRIPTION:
URL:https://massanuttenchurch.org/event/covenant-class-2022-09-25/
LOCATION:Room 117
END:VEVENT
BEGIN:VEVENT
DTSTART;TZID=America/New_York:20220921T190000
DTEND;TZID=America/New_York:20220921T190000
DTSTAMP:20260426T001107
CREATED:20220525T163805Z
LAST-MODIFIED:20230518T144025Z
UID:10222-1663786800-1663786800@massanuttenchurch.org
SUMMARY:Chancel Choir Rehearsal
DESCRIPTION:
URL:https://massanuttenchurch.org/event/chancel-choir-rehearsal-3-2022-09-21/
LOCATION:50 Indian Trail Road\, Penn Laird\, VA\, 22846\, United States
END:VEVENT
BEGIN:VEVENT
DTSTART;TZID=America/New_York:20220921T160000
DTEND;TZID=America/New_York:20220921T160000
DTSTAMP:20260426T001107
CREATED:20220907T174154Z
LAST-MODIFIED:20230503T173733Z
UID:10360-1663776000-1663776000@massanuttenchurch.org
SUMMARY:Presbyterian Women (Evening Circle)
DESCRIPTION:
URL:https://massanuttenchurch.org/event/presbyterian-women-evening-circle/
LOCATION:Fellowship Hall
END:VEVENT
BEGIN:VEVENT
DTSTART;TZID=America/New_York:20220921T073000
DTEND;TZID=America/New_York:20220921T083000
DTSTAMP:20260426T001107
CREATED:20220126T154646Z
LAST-MODIFIED:20230104T181703Z
UID:9434-1663745400-1663749000@massanuttenchurch.org
SUMMARY:Men's Prayer Group
DESCRIPTION:
URL:https://massanuttenchurch.org/event/mens-prayer-group-2-2022-09-21/
LOCATION:50 Indian Trail Road\, Penn Laird\, VA\, 22846\, United States
END:VEVENT
BEGIN:VEVENT
DTSTART;TZID=America/New_York:20220919T190000
DTEND;TZID=America/New_York:20220919T190000
DTSTAMP:20260426T001107
CREATED:20220914T170136Z
LAST-MODIFIED:20240115T154039Z
UID:10614-1663614000-1663614000@massanuttenchurch.org
SUMMARY:Massanutten Ringers
DESCRIPTION:
URL:https://massanuttenchurch.org/event/massanutten-ringers-2/
LOCATION:50 Indian Trail Road\, Penn Laird\, VA\, 22846\, United States
END:VEVENT
BEGIN:VEVENT
DTSTART;TZID=UTC:20220918T183000
DTEND;TZID=UTC:20220918T203000
DTSTAMP:20260426T001107
CREATED:20170425T032515Z
LAST-MODIFIED:20230822T121240Z
UID:7151-1663525800-1663533000@massanuttenchurch.org
SUMMARY:Session Meeting
DESCRIPTION:Session Meeting
URL:https://massanuttenchurch.org/event/session-meeting-2022-09-18/
LOCATION:Fellowship Hall
END:VEVENT
BEGIN:VEVENT
DTSTART;TZID=America/New_York:20220918T180000
DTEND;TZID=America/New_York:20220918T200000
DTSTAMP:20260426T001107
CREATED:20220907T175428Z
LAST-MODIFIED:20230412T160658Z
UID:10452-1663524000-1663531200@massanuttenchurch.org
SUMMARY:Youth Group
DESCRIPTION:
URL:https://massanuttenchurch.org/event/youth-group-2/
LOCATION:50 Indian Trail Road\, Penn Laird\, VA\, 22846\, United States
END:VEVENT
BEGIN:VEVENT
DTSTART;TZID=America/New_York:20220918T170000
DTEND;TZID=America/New_York:20220918T170000
DTSTAMP:20260426T001107
CREATED:20220907T175517Z
LAST-MODIFIED:20240212T143348Z
UID:10489-1663520400-1663520400@massanuttenchurch.org
SUMMARY:Fun With Handbells
DESCRIPTION:
URL:https://massanuttenchurch.org/event/fun-with-handbells-2/
LOCATION:50 Indian Trail Road\, Penn Laird\, VA\, 22846\, United States
END:VEVENT
BEGIN:VEVENT
DTSTART;TZID=America/New_York:20220918T110000
DTEND;TZID=America/New_York:20220918T110000
DTSTAMP:20260426T001107
CREATED:20220907T175235Z
LAST-MODIFIED:20230412T160259Z
UID:10410-1663498800-1663498800@massanuttenchurch.org
SUMMARY:Godly Play
DESCRIPTION:
URL:https://massanuttenchurch.org/event/godly-play-2/
LOCATION:50 Indian Trail Road\, Penn Laird\, VA\, 22846\, United States
END:VEVENT
BEGIN:VEVENT
DTSTART;TZID=America/New_York:20220918T103000
DTEND;TZID=America/New_York:20220918T113000
DTSTAMP:20260426T001107
CREATED:20210712T024206Z
LAST-MODIFIED:20230802T155202Z
UID:8334-1663497000-1663500600@massanuttenchurch.org
SUMMARY:Sunday Worship
DESCRIPTION:
URL:https://massanuttenchurch.org/event/sunday-worship-2-2022-09-18/
LOCATION:Sanctuary\, 50 Indian Trail Road\, Penn Laird\, 22846\, United States
END:VEVENT
BEGIN:VEVENT
DTSTART;TZID=America/New_York:20220918T093000
DTEND;TZID=America/New_York:20220918T102000
DTSTAMP:20260426T001107
CREATED:20220910T174303Z
LAST-MODIFIED:20230503T182228Z
UID:10572-1663493400-1663496400@massanuttenchurch.org
SUMMARY:Parent Fellowship
DESCRIPTION:
URL:https://massanuttenchurch.org/event/parent-fellowship-2/
LOCATION:50 Indian Trail Road\, Penn Laird\, VA\, 22846\, United States
END:VEVENT
BEGIN:VEVENT
DTSTART;TZID=America/New_York:20220918T093000
DTEND;TZID=America/New_York:20220918T102000
DTSTAMP:20260426T001107
CREATED:20220907T175133Z
LAST-MODIFIED:20230210T193328Z
UID:10378-1663493400-1663496400@massanuttenchurch.org
SUMMARY:Faith Village
DESCRIPTION:
URL:https://massanuttenchurch.org/event/faith-village/
LOCATION:50 Indian Trail Road\, Penn Laird\, VA\, 22846\, United States
END:VEVENT
BEGIN:VEVENT
DTSTART;TZID=America/New_York:20220918T090000
DTEND;TZID=America/New_York:20220918T090000
DTSTAMP:20260426T001107
CREATED:20220907T172908Z
LAST-MODIFIED:20230517T153823Z
UID:10300-1663491600-1663491600@massanuttenchurch.org
SUMMARY:Faithful Conversations
DESCRIPTION:
URL:https://massanuttenchurch.org/event/faithful-conversations-2022-09-18/
LOCATION:Room 119\, United States
END:VEVENT
BEGIN:VEVENT
DTSTART;TZID=America/New_York:20220918T090000
DTEND;TZID=America/New_York:20220918T090000
DTSTAMP:20260426T001107
CREATED:20220907T172809Z
LAST-MODIFIED:20230517T153737Z
UID:10278-1663491600-1663491600@massanuttenchurch.org
SUMMARY:Covenant Class
DESCRIPTION:
URL:https://massanuttenchurch.org/event/covenant-class-2022-09-18/
LOCATION:Room 117
END:VEVENT
BEGIN:VEVENT
DTSTART;TZID=America/New_York:20220914T190000
DTEND;TZID=America/New_York:20220914T190000
DTSTAMP:20260426T001107
CREATED:20220525T163805Z
LAST-MODIFIED:20230518T144024Z
UID:10221-1663182000-1663182000@massanuttenchurch.org
SUMMARY:Chancel Choir Rehearsal
DESCRIPTION:
URL:https://massanuttenchurch.org/event/chancel-choir-rehearsal-3-2022-09-14/
LOCATION:50 Indian Trail Road\, Penn Laird\, VA\, 22846\, United States
END:VEVENT
BEGIN:VEVENT
DTSTART;TZID=America/New_York:20220914T140000
DTEND;TZID=America/New_York:20220914T140000
DTSTAMP:20260426T001107
CREATED:20220907T174006Z
LAST-MODIFIED:20220907T174006Z
UID:10351-1663164000-1663164000@massanuttenchurch.org
SUMMARY:Presbyterian Women (Bethel Circle)
DESCRIPTION:
URL:https://massanuttenchurch.org/event/presbyterian-women-bethel-circle/
LOCATION:Sunnyside\, 3935 Sunnyside Dr\, Harrisonburg\, VA\, 22801\, United States
END:VEVENT
BEGIN:VEVENT
DTSTART;TZID=America/New_York:20220914T073000
DTEND;TZID=America/New_York:20220914T083000
DTSTAMP:20260426T001107
CREATED:20220126T154646Z
LAST-MODIFIED:20230104T181702Z
UID:9433-1663140600-1663144200@massanuttenchurch.org
SUMMARY:Men's Prayer Group
DESCRIPTION:
URL:https://massanuttenchurch.org/event/mens-prayer-group-2-2022-09-14/
LOCATION:50 Indian Trail Road\, Penn Laird\, VA\, 22846\, United States
END:VEVENT
BEGIN:VEVENT
DTSTART;TZID=America/New_York:20220913T100000
DTEND;TZID=America/New_York:20220913T100000
DTSTAMP:20260426T001107
CREATED:20220907T173555Z
LAST-MODIFIED:20230503T182141Z
UID:10342-1663063200-1663063200@massanuttenchurch.org
SUMMARY:Presbyterian Women (Morning Circle)
DESCRIPTION:
URL:https://massanuttenchurch.org/event/presbyterian-women-morning-circle/
LOCATION:Fellowship Hall
END:VEVENT
END:VCALENDAR