BEGIN:VCALENDAR
VERSION:2.0
PRODID:-//Massanutten Presbyterian Church - ECPv6.15.20//NONSGML v1.0//EN
CALSCALE:GREGORIAN
METHOD:PUBLISH
X-WR-CALNAME:Massanutten Presbyterian Church
X-ORIGINAL-URL:https://massanuttenchurch.org
X-WR-CALDESC:Events for Massanutten Presbyterian Church
REFRESH-INTERVAL;VALUE=DURATION:PT1H
X-Robots-Tag:noindex
X-PUBLISHED-TTL:PT1H
BEGIN:VTIMEZONE
TZID:America/New_York
BEGIN:DAYLIGHT
TZOFFSETFROM:-0500
TZOFFSETTO:-0400
TZNAME:EDT
DTSTART:20210314T070000
END:DAYLIGHT
BEGIN:STANDARD
TZOFFSETFROM:-0400
TZOFFSETTO:-0500
TZNAME:EST
DTSTART:20211107T060000
END:STANDARD
BEGIN:DAYLIGHT
TZOFFSETFROM:-0500
TZOFFSETTO:-0400
TZNAME:EDT
DTSTART:20220313T070000
END:DAYLIGHT
BEGIN:STANDARD
TZOFFSETFROM:-0400
TZOFFSETTO:-0500
TZNAME:EST
DTSTART:20221106T060000
END:STANDARD
BEGIN:DAYLIGHT
TZOFFSETFROM:-0500
TZOFFSETTO:-0400
TZNAME:EDT
DTSTART:20230312T070000
END:DAYLIGHT
BEGIN:STANDARD
TZOFFSETFROM:-0400
TZOFFSETTO:-0500
TZNAME:EST
DTSTART:20231105T060000
END:STANDARD
END:VTIMEZONE
BEGIN:VTIMEZONE
TZID:UTC
BEGIN:STANDARD
TZOFFSETFROM:+0000
TZOFFSETTO:+0000
TZNAME:UTC
DTSTART:20210101T000000
END:STANDARD
END:VTIMEZONE
BEGIN:VEVENT
DTSTART;TZID=America/New_York:20221023T090000
DTEND;TZID=America/New_York:20221023T090000
DTSTAMP:20260425T192803
CREATED:20220907T172908Z
LAST-MODIFIED:20230517T153826Z
UID:10305-1666515600-1666515600@massanuttenchurch.org
SUMMARY:Faithful Conversations
DESCRIPTION:
URL:https://massanuttenchurch.org/event/faithful-conversations-2022-10-23/
LOCATION:Room 119\, United States
END:VEVENT
BEGIN:VEVENT
DTSTART;TZID=America/New_York:20221023T090000
DTEND;TZID=America/New_York:20221023T090000
DTSTAMP:20260425T192803
CREATED:20220907T172809Z
LAST-MODIFIED:20230517T153741Z
UID:10283-1666515600-1666515600@massanuttenchurch.org
SUMMARY:Covenant Class
DESCRIPTION:
URL:https://massanuttenchurch.org/event/covenant-class-2022-10-23/
LOCATION:Room 117
END:VEVENT
BEGIN:VEVENT
DTSTART;TZID=America/New_York:20221019T190000
DTEND;TZID=America/New_York:20221019T190000
DTSTAMP:20260425T192803
CREATED:20220525T163805Z
LAST-MODIFIED:20230518T144027Z
UID:10226-1666206000-1666206000@massanuttenchurch.org
SUMMARY:Chancel Choir Rehearsal
DESCRIPTION:
URL:https://massanuttenchurch.org/event/chancel-choir-rehearsal-3-2022-10-19/
LOCATION:50 Indian Trail Road\, Penn Laird\, VA\, 22846\, United States
END:VEVENT
BEGIN:VEVENT
DTSTART;TZID=America/New_York:20221019T073000
DTEND;TZID=America/New_York:20221019T083000
DTSTAMP:20260425T192803
CREATED:20220126T154646Z
LAST-MODIFIED:20230104T181705Z
UID:9438-1666164600-1666168200@massanuttenchurch.org
SUMMARY:Men's Prayer Group
DESCRIPTION:
URL:https://massanuttenchurch.org/event/mens-prayer-group-2-2022-10-19/
LOCATION:50 Indian Trail Road\, Penn Laird\, VA\, 22846\, United States
END:VEVENT
BEGIN:VEVENT
DTSTART;TZID=America/New_York:20221017T190000
DTEND;TZID=America/New_York:20221017T190000
DTSTAMP:20260425T192803
CREATED:20220914T170136Z
LAST-MODIFIED:20240115T154042Z
UID:10622-1666033200-1666033200@massanuttenchurch.org
SUMMARY:Massanutten Ringers
DESCRIPTION:
URL:https://massanuttenchurch.org/event/massanutten-ringers-2-2022-10-17/
LOCATION:50 Indian Trail Road\, Penn Laird\, VA\, 22846\, United States
END:VEVENT
BEGIN:VEVENT
DTSTART;TZID=UTC:20221016T183000
DTEND;TZID=UTC:20221016T203000
DTSTAMP:20260425T192803
CREATED:20170425T032515Z
LAST-MODIFIED:20230822T121241Z
UID:7194-1665945000-1665952200@massanuttenchurch.org
SUMMARY:Session Meeting
DESCRIPTION:Session Meeting
URL:https://massanuttenchurch.org/event/session-meeting-2022-10-16/
LOCATION:Fellowship Hall
END:VEVENT
BEGIN:VEVENT
DTSTART;TZID=America/New_York:20221016T180000
DTEND;TZID=America/New_York:20221016T200000
DTSTAMP:20260425T192803
CREATED:20220907T175428Z
LAST-MODIFIED:20230412T160700Z
UID:12037-1665943200-1665950400@massanuttenchurch.org
SUMMARY:Youth Group
DESCRIPTION:
URL:https://massanuttenchurch.org/event/youth-group-2-2022-10-16/
LOCATION:50 Indian Trail Road\, Penn Laird\, VA\, 22846\, United States
END:VEVENT
BEGIN:VEVENT
DTSTART;TZID=America/New_York:20221016T170000
DTEND;TZID=America/New_York:20221016T170000
DTSTAMP:20260425T192803
CREATED:20220907T175517Z
LAST-MODIFIED:20240212T143350Z
UID:10494-1665939600-1665939600@massanuttenchurch.org
SUMMARY:Fun With Handbells
DESCRIPTION:
URL:https://massanuttenchurch.org/event/fun-with-handbells-2-2022-10-16/
LOCATION:50 Indian Trail Road\, Penn Laird\, VA\, 22846\, United States
END:VEVENT
BEGIN:VEVENT
DTSTART;TZID=America/New_York:20221016T110000
DTEND;TZID=America/New_York:20221016T110000
DTSTAMP:20260425T192803
CREATED:20220907T175235Z
LAST-MODIFIED:20230412T160304Z
UID:10420-1665918000-1665918000@massanuttenchurch.org
SUMMARY:Godly Play
DESCRIPTION:
URL:https://massanuttenchurch.org/event/godly-play-2-2022-10-16/
LOCATION:50 Indian Trail Road\, Penn Laird\, VA\, 22846\, United States
END:VEVENT
BEGIN:VEVENT
DTSTART;TZID=America/New_York:20221016T103000
DTEND;TZID=America/New_York:20221016T113000
DTSTAMP:20260425T192803
CREATED:20210712T024206Z
LAST-MODIFIED:20230802T155202Z
UID:8338-1665916200-1665919800@massanuttenchurch.org
SUMMARY:Sunday Worship
DESCRIPTION:
URL:https://massanuttenchurch.org/event/sunday-worship-2-2022-10-16/
LOCATION:Sanctuary\, 50 Indian Trail Road\, Penn Laird\, 22846\, United States
END:VEVENT
BEGIN:VEVENT
DTSTART;TZID=America/New_York:20221016T093000
DTEND;TZID=America/New_York:20221016T102000
DTSTAMP:20260425T192803
CREATED:20220910T174303Z
LAST-MODIFIED:20230503T182230Z
UID:10577-1665912600-1665915600@massanuttenchurch.org
SUMMARY:Parent Fellowship
DESCRIPTION:
URL:https://massanuttenchurch.org/event/parent-fellowship-2-2022-10-16/
LOCATION:50 Indian Trail Road\, Penn Laird\, VA\, 22846\, United States
END:VEVENT
BEGIN:VEVENT
DTSTART;TZID=America/New_York:20221016T093000
DTEND;TZID=America/New_York:20221016T102000
DTSTAMP:20260425T192803
CREATED:20220907T175133Z
LAST-MODIFIED:20230210T193334Z
UID:10383-1665912600-1665915600@massanuttenchurch.org
SUMMARY:Faith Village
DESCRIPTION:
URL:https://massanuttenchurch.org/event/faith-village-2022-10-16/
LOCATION:50 Indian Trail Road\, Penn Laird\, VA\, 22846\, United States
END:VEVENT
BEGIN:VEVENT
DTSTART;TZID=America/New_York:20221016T090000
DTEND;TZID=America/New_York:20221016T090000
DTSTAMP:20260425T192803
CREATED:20220907T172908Z
LAST-MODIFIED:20230517T153825Z
UID:10304-1665910800-1665910800@massanuttenchurch.org
SUMMARY:Faithful Conversations
DESCRIPTION:
URL:https://massanuttenchurch.org/event/faithful-conversations-2022-10-16/
LOCATION:Room 119\, United States
END:VEVENT
BEGIN:VEVENT
DTSTART;TZID=America/New_York:20221016T090000
DTEND;TZID=America/New_York:20221016T090000
DTSTAMP:20260425T192803
CREATED:20220907T172809Z
LAST-MODIFIED:20230517T153740Z
UID:10282-1665910800-1665910800@massanuttenchurch.org
SUMMARY:Covenant Class
DESCRIPTION:
URL:https://massanuttenchurch.org/event/covenant-class-2022-10-16/
LOCATION:Room 117
END:VEVENT
BEGIN:VEVENT
DTSTART;TZID=America/New_York:20221012T190000
DTEND;TZID=America/New_York:20221012T190000
DTSTAMP:20260425T192803
CREATED:20220525T163805Z
LAST-MODIFIED:20230518T144026Z
UID:10225-1665601200-1665601200@massanuttenchurch.org
SUMMARY:Chancel Choir Rehearsal
DESCRIPTION:
URL:https://massanuttenchurch.org/event/chancel-choir-rehearsal-3-2022-10-12/
LOCATION:50 Indian Trail Road\, Penn Laird\, VA\, 22846\, United States
END:VEVENT
BEGIN:VEVENT
DTSTART;TZID=America/New_York:20221012T160000
DTEND;TZID=America/New_York:20221012T160000
DTSTAMP:20260425T192803
CREATED:20220907T174154Z
LAST-MODIFIED:20230503T173734Z
UID:10710-1665590400-1665590400@massanuttenchurch.org
SUMMARY:Presbyterian Women (Evening Circle)
DESCRIPTION:
URL:https://massanuttenchurch.org/event/presbyterian-women-evening-circle-2022-10-12/
LOCATION:Fellowship Hall
END:VEVENT
BEGIN:VEVENT
DTSTART;TZID=America/New_York:20221012T140000
DTEND;TZID=America/New_York:20221012T140000
DTSTAMP:20260425T192803
CREATED:20220907T174006Z
LAST-MODIFIED:20220907T174006Z
UID:10353-1665583200-1665583200@massanuttenchurch.org
SUMMARY:Presbyterian Women (Bethel Circle)
DESCRIPTION:
URL:https://massanuttenchurch.org/event/presbyterian-women-bethel-circle-2022-10-12/
LOCATION:Sunnyside\, 3935 Sunnyside Dr\, Harrisonburg\, VA\, 22801\, United States
END:VEVENT
BEGIN:VEVENT
DTSTART;TZID=America/New_York:20221012T073000
DTEND;TZID=America/New_York:20221012T083000
DTSTAMP:20260425T192803
CREATED:20220126T154646Z
LAST-MODIFIED:20230104T181705Z
UID:9437-1665559800-1665563400@massanuttenchurch.org
SUMMARY:Men's Prayer Group
DESCRIPTION:
URL:https://massanuttenchurch.org/event/mens-prayer-group-2-2022-10-12/
LOCATION:50 Indian Trail Road\, Penn Laird\, VA\, 22846\, United States
END:VEVENT
BEGIN:VEVENT
DTSTART;TZID=America/New_York:20221011T100000
DTEND;TZID=America/New_York:20221011T100000
DTSTAMP:20260425T192803
CREATED:20220907T173555Z
LAST-MODIFIED:20230503T182142Z
UID:10344-1665482400-1665482400@massanuttenchurch.org
SUMMARY:Presbyterian Women (Morning Circle)
DESCRIPTION:
URL:https://massanuttenchurch.org/event/presbyterian-women-morning-circle-2022-10-11/
LOCATION:Fellowship Hall
END:VEVENT
BEGIN:VEVENT
DTSTART;TZID=America/New_York:20221010T190000
DTEND;TZID=America/New_York:20221010T190000
DTSTAMP:20260425T192803
CREATED:20220914T170136Z
LAST-MODIFIED:20240115T154042Z
UID:10621-1665428400-1665428400@massanuttenchurch.org
SUMMARY:Massanutten Ringers
DESCRIPTION:
URL:https://massanuttenchurch.org/event/massanutten-ringers-2-2022-10-10/
LOCATION:50 Indian Trail Road\, Penn Laird\, VA\, 22846\, United States
END:VEVENT
BEGIN:VEVENT
DTSTART;TZID=America/New_York:20221009T180000
DTEND;TZID=America/New_York:20221009T200000
DTSTAMP:20260425T192803
CREATED:20220907T175428Z
LAST-MODIFIED:20230412T160700Z
UID:12036-1665338400-1665345600@massanuttenchurch.org
SUMMARY:Youth Group
DESCRIPTION:
URL:https://massanuttenchurch.org/event/youth-group-2-2022-10-09/
LOCATION:50 Indian Trail Road\, Penn Laird\, VA\, 22846\, United States
END:VEVENT
BEGIN:VEVENT
DTSTART;TZID=America/New_York:20221009T170000
DTEND;TZID=America/New_York:20221009T170000
DTSTAMP:20260425T192803
CREATED:20220907T175517Z
LAST-MODIFIED:20240212T143350Z
UID:10493-1665334800-1665334800@massanuttenchurch.org
SUMMARY:Fun With Handbells
DESCRIPTION:
URL:https://massanuttenchurch.org/event/fun-with-handbells-2-2022-10-09/
LOCATION:50 Indian Trail Road\, Penn Laird\, VA\, 22846\, United States
END:VEVENT
BEGIN:VEVENT
DTSTART;TZID=America/New_York:20221009T110000
DTEND;TZID=America/New_York:20221009T110000
DTSTAMP:20260425T192803
CREATED:20220907T175235Z
LAST-MODIFIED:20230412T160301Z
UID:10419-1665313200-1665313200@massanuttenchurch.org
SUMMARY:Godly Play
DESCRIPTION:
URL:https://massanuttenchurch.org/event/godly-play-2-2022-10-09/
LOCATION:50 Indian Trail Road\, Penn Laird\, VA\, 22846\, United States
END:VEVENT
BEGIN:VEVENT
DTSTART;TZID=America/New_York:20221009T103000
DTEND;TZID=America/New_York:20221009T113000
DTSTAMP:20260425T192803
CREATED:20210712T024206Z
LAST-MODIFIED:20230802T155202Z
UID:8337-1665311400-1665315000@massanuttenchurch.org
SUMMARY:Sunday Worship
DESCRIPTION:
URL:https://massanuttenchurch.org/event/sunday-worship-2-2022-10-09/
LOCATION:Sanctuary\, 50 Indian Trail Road\, Penn Laird\, 22846\, United States
END:VEVENT
BEGIN:VEVENT
DTSTART;TZID=America/New_York:20221009T093000
DTEND;TZID=America/New_York:20221009T102000
DTSTAMP:20260425T192803
CREATED:20220910T174303Z
LAST-MODIFIED:20230503T182229Z
UID:10576-1665307800-1665310800@massanuttenchurch.org
SUMMARY:Parent Fellowship
DESCRIPTION:
URL:https://massanuttenchurch.org/event/parent-fellowship-2-2022-10-09/
LOCATION:50 Indian Trail Road\, Penn Laird\, VA\, 22846\, United States
END:VEVENT
BEGIN:VEVENT
DTSTART;TZID=America/New_York:20221009T093000
DTEND;TZID=America/New_York:20221009T102000
DTSTAMP:20260425T192803
CREATED:20220907T175133Z
LAST-MODIFIED:20230210T193333Z
UID:10382-1665307800-1665310800@massanuttenchurch.org
SUMMARY:Faith Village
DESCRIPTION:
URL:https://massanuttenchurch.org/event/faith-village-2022-10-09/
LOCATION:50 Indian Trail Road\, Penn Laird\, VA\, 22846\, United States
END:VEVENT
BEGIN:VEVENT
DTSTART;TZID=America/New_York:20221009T090000
DTEND;TZID=America/New_York:20221009T090000
DTSTAMP:20260425T192803
CREATED:20220907T172908Z
LAST-MODIFIED:20230517T153825Z
UID:10303-1665306000-1665306000@massanuttenchurch.org
SUMMARY:Faithful Conversations
DESCRIPTION:
URL:https://massanuttenchurch.org/event/faithful-conversations-2022-10-09/
LOCATION:Room 119\, United States
END:VEVENT
BEGIN:VEVENT
DTSTART;TZID=America/New_York:20221009T090000
DTEND;TZID=America/New_York:20221009T090000
DTSTAMP:20260425T192803
CREATED:20220907T172809Z
LAST-MODIFIED:20230517T153739Z
UID:10281-1665306000-1665306000@massanuttenchurch.org
SUMMARY:Covenant Class
DESCRIPTION:
URL:https://massanuttenchurch.org/event/covenant-class-2022-10-09/
LOCATION:Room 117
END:VEVENT
BEGIN:VEVENT
DTSTART;TZID=America/New_York:20221005T190000
DTEND;TZID=America/New_York:20221005T190000
DTSTAMP:20260425T192803
CREATED:20220525T163805Z
LAST-MODIFIED:20230518T144026Z
UID:10224-1664996400-1664996400@massanuttenchurch.org
SUMMARY:Chancel Choir Rehearsal
DESCRIPTION:
URL:https://massanuttenchurch.org/event/chancel-choir-rehearsal-3-2022-10-05/
LOCATION:50 Indian Trail Road\, Penn Laird\, VA\, 22846\, United States
END:VEVENT
BEGIN:VEVENT
DTSTART;TZID=America/New_York:20221005T073000
DTEND;TZID=America/New_York:20221005T083000
DTSTAMP:20260425T192803
CREATED:20220126T154646Z
LAST-MODIFIED:20230104T181704Z
UID:9436-1664955000-1664958600@massanuttenchurch.org
SUMMARY:Men's Prayer Group
DESCRIPTION:
URL:https://massanuttenchurch.org/event/mens-prayer-group-2-2022-10-05/
LOCATION:50 Indian Trail Road\, Penn Laird\, VA\, 22846\, United States
END:VEVENT
END:VCALENDAR