BEGIN:VCALENDAR
VERSION:2.0
PRODID:-//Massanutten Presbyterian Church - ECPv6.15.20//NONSGML v1.0//EN
CALSCALE:GREGORIAN
METHOD:PUBLISH
X-WR-CALNAME:Massanutten Presbyterian Church
X-ORIGINAL-URL:https://massanuttenchurch.org
X-WR-CALDESC:Events for Massanutten Presbyterian Church
REFRESH-INTERVAL;VALUE=DURATION:PT1H
X-Robots-Tag:noindex
X-PUBLISHED-TTL:PT1H
BEGIN:VTIMEZONE
TZID:America/New_York
BEGIN:DAYLIGHT
TZOFFSETFROM:-0500
TZOFFSETTO:-0400
TZNAME:EDT
DTSTART:20250309T070000
END:DAYLIGHT
BEGIN:STANDARD
TZOFFSETFROM:-0400
TZOFFSETTO:-0500
TZNAME:EST
DTSTART:20251102T060000
END:STANDARD
BEGIN:DAYLIGHT
TZOFFSETFROM:-0500
TZOFFSETTO:-0400
TZNAME:EDT
DTSTART:20260308T070000
END:DAYLIGHT
BEGIN:STANDARD
TZOFFSETFROM:-0400
TZOFFSETTO:-0500
TZNAME:EST
DTSTART:20261101T060000
END:STANDARD
BEGIN:DAYLIGHT
TZOFFSETFROM:-0500
TZOFFSETTO:-0400
TZNAME:EDT
DTSTART:20270314T070000
END:DAYLIGHT
BEGIN:STANDARD
TZOFFSETFROM:-0400
TZOFFSETTO:-0500
TZNAME:EST
DTSTART:20271107T060000
END:STANDARD
END:VTIMEZONE
BEGIN:VEVENT
DTSTART;TZID=America/New_York:20260412T093000
DTEND;TZID=America/New_York:20260412T102000
DTSTAMP:20260425T092734
CREATED:20250904T134652Z
LAST-MODIFIED:20250904T134652Z
UID:14941-1775986200-1775989200@massanuttenchurch.org
SUMMARY:Faith Village
DESCRIPTION:
URL:https://massanuttenchurch.org/event/faith-village-28/
END:VEVENT
BEGIN:VEVENT
DTSTART;TZID=America/New_York:20260412T093000
DTEND;TZID=America/New_York:20260412T102000
DTSTAMP:20260425T092734
CREATED:20250904T140403Z
LAST-MODIFIED:20250904T140403Z
UID:15003-1775986200-1775989200@massanuttenchurch.org
SUMMARY:Middle School Sunday School
DESCRIPTION:
URL:https://massanuttenchurch.org/event/middle-school-sunday-school-26/
END:VEVENT
BEGIN:VEVENT
DTSTART;TZID=America/New_York:20260412T093000
DTEND;TZID=America/New_York:20260412T102000
DTSTAMP:20260425T092734
CREATED:20250904T142539Z
LAST-MODIFIED:20250904T142539Z
UID:15053-1775986200-1775989200@massanuttenchurch.org
SUMMARY:High School Breakfast
DESCRIPTION:
URL:https://massanuttenchurch.org/event/high-school-breakfast-23/
END:VEVENT
BEGIN:VEVENT
DTSTART;TZID=America/New_York:20260412T093000
DTEND;TZID=America/New_York:20260412T102000
DTSTAMP:20260425T092734
CREATED:20250904T144500Z
LAST-MODIFIED:20250904T144500Z
UID:15116-1775986200-1775989200@massanuttenchurch.org
SUMMARY:Parent Fellowship
DESCRIPTION:
URL:https://massanuttenchurch.org/event/parent-fellowship-29/
END:VEVENT
BEGIN:VEVENT
DTSTART;TZID=America/New_York:20260412T104500
DTEND;TZID=America/New_York:20260412T111500
DTSTAMP:20260425T092734
CREATED:20250904T153302Z
LAST-MODIFIED:20250904T153302Z
UID:15178-1775990700-1775992500@massanuttenchurch.org
SUMMARY:Godly Play
DESCRIPTION:
URL:https://massanuttenchurch.org/event/godly-play-29/
END:VEVENT
BEGIN:VEVENT
DTSTART;TZID=America/New_York:20260412T170000
DTEND;TZID=America/New_York:20260412T180000
DTSTAMP:20260425T092734
CREATED:20250904T162906Z
LAST-MODIFIED:20250904T162906Z
UID:15280-1776013200-1776016800@massanuttenchurch.org
SUMMARY:Fun with Handbells
DESCRIPTION:
URL:https://massanuttenchurch.org/event/fun-with-handbells-22/
END:VEVENT
BEGIN:VEVENT
DTSTART;TZID=America/New_York:20260412T180000
DTEND;TZID=America/New_York:20260412T200000
DTSTAMP:20260425T092734
CREATED:20250904T160628Z
LAST-MODIFIED:20250904T160628Z
UID:15230-1776016800-1776024000@massanuttenchurch.org
SUMMARY:Youth Group
DESCRIPTION:
URL:https://massanuttenchurch.org/event/youth-group-23/
END:VEVENT
BEGIN:VEVENT
DTSTART;TZID=America/New_York:20260413T100000
DTEND;TZID=America/New_York:20260413T110000
DTSTAMP:20260425T092734
CREATED:20250904T132636Z
LAST-MODIFIED:20250904T132636Z
UID:14883-1776074400-1776078000@massanuttenchurch.org
SUMMARY:Food Pantry
DESCRIPTION:
URL:https://massanuttenchurch.org/event/food-pantry-14/
END:VEVENT
BEGIN:VEVENT
DTSTART;TZID=America/New_York:20260419T090000
DTEND;TZID=America/New_York:20260419T100000
DTSTAMP:20260425T092734
CREATED:20250910T154326Z
LAST-MODIFIED:20250910T154326Z
UID:15419-1776589200-1776592800@massanuttenchurch.org
SUMMARY:Covenant Class
DESCRIPTION:
URL:https://massanuttenchurch.org/event/covenant-class-33/
LOCATION:Room 117
END:VEVENT
BEGIN:VEVENT
DTSTART;TZID=America/New_York:20260419T090000
DTEND;TZID=America/New_York:20260419T100000
DTSTAMP:20260425T092734
CREATED:20250910T165045Z
LAST-MODIFIED:20250910T165045Z
UID:15490-1776589200-1776592800@massanuttenchurch.org
SUMMARY:Faithful Conversations
DESCRIPTION:
URL:https://massanuttenchurch.org/event/faithful-conversations-33/
LOCATION:Room 119\, United States
END:VEVENT
BEGIN:VEVENT
DTSTART;TZID=America/New_York:20260419T093000
DTEND;TZID=America/New_York:20260419T102000
DTSTAMP:20260425T092734
CREATED:20250904T134714Z
LAST-MODIFIED:20250904T134714Z
UID:14943-1776591000-1776594000@massanuttenchurch.org
SUMMARY:Faith Village
DESCRIPTION:
URL:https://massanuttenchurch.org/event/faith-village-29/
END:VEVENT
BEGIN:VEVENT
DTSTART;TZID=America/New_York:20260419T093000
DTEND;TZID=America/New_York:20260419T102000
DTSTAMP:20260425T092734
CREATED:20250904T140422Z
LAST-MODIFIED:20250904T140422Z
UID:15005-1776591000-1776594000@massanuttenchurch.org
SUMMARY:Middle School Sunday School
DESCRIPTION:
URL:https://massanuttenchurch.org/event/middle-school-sunday-school-27/
END:VEVENT
BEGIN:VEVENT
DTSTART;TZID=America/New_York:20260419T093000
DTEND;TZID=America/New_York:20260419T102000
DTSTAMP:20260425T092734
CREATED:20250904T142601Z
LAST-MODIFIED:20250904T142601Z
UID:15055-1776591000-1776594000@massanuttenchurch.org
SUMMARY:High School Breakfast
DESCRIPTION:
URL:https://massanuttenchurch.org/event/high-school-breakfast-24/
END:VEVENT
BEGIN:VEVENT
DTSTART;TZID=America/New_York:20260419T093000
DTEND;TZID=America/New_York:20260419T102000
DTSTAMP:20260425T092734
CREATED:20250904T144552Z
LAST-MODIFIED:20250904T144552Z
UID:15118-1776591000-1776594000@massanuttenchurch.org
SUMMARY:Parent Fellowship
DESCRIPTION:
URL:https://massanuttenchurch.org/event/parent-fellowship-30/
END:VEVENT
BEGIN:VEVENT
DTSTART;TZID=America/New_York:20260419T104500
DTEND;TZID=America/New_York:20260419T111500
DTSTAMP:20260425T092734
CREATED:20250904T153325Z
LAST-MODIFIED:20250904T153325Z
UID:15180-1776595500-1776597300@massanuttenchurch.org
SUMMARY:Godly Play
DESCRIPTION:
URL:https://massanuttenchurch.org/event/godly-play-30/
END:VEVENT
BEGIN:VEVENT
DTSTART;TZID=America/New_York:20260419T170000
DTEND;TZID=America/New_York:20260419T180000
DTSTAMP:20260425T092734
CREATED:20250904T162925Z
LAST-MODIFIED:20250904T162925Z
UID:15282-1776618000-1776621600@massanuttenchurch.org
SUMMARY:Fun with Handbells
DESCRIPTION:
URL:https://massanuttenchurch.org/event/fun-with-handbells-23/
END:VEVENT
BEGIN:VEVENT
DTSTART;TZID=America/New_York:20260419T180000
DTEND;TZID=America/New_York:20260419T200000
DTSTAMP:20260425T092734
CREATED:20250904T160649Z
LAST-MODIFIED:20250904T160649Z
UID:15232-1776621600-1776628800@massanuttenchurch.org
SUMMARY:Youth Group
DESCRIPTION:
URL:https://massanuttenchurch.org/event/youth-group-24/
END:VEVENT
BEGIN:VEVENT
DTSTART;TZID=America/New_York:20260422T173000
DTEND;TZID=America/New_York:20260422T173000
DTSTAMP:20260425T092734
CREATED:20250904T170132Z
LAST-MODIFIED:20250904T170133Z
UID:15324-1776879000-1776879000@massanuttenchurch.org
SUMMARY:Deep Dive Bible Study
DESCRIPTION:
URL:https://massanuttenchurch.org/event/deep-dive-bible-study-7/
LOCATION:Library
END:VEVENT
BEGIN:VEVENT
DTSTART;TZID=America/New_York:20260426T090000
DTEND;TZID=America/New_York:20260426T100000
DTSTAMP:20260425T092734
CREATED:20250910T154349Z
LAST-MODIFIED:20250910T154349Z
UID:15421-1777194000-1777197600@massanuttenchurch.org
SUMMARY:Covenant Class
DESCRIPTION:
URL:https://massanuttenchurch.org/event/covenant-class-34/
LOCATION:Room 117
END:VEVENT
BEGIN:VEVENT
DTSTART;TZID=America/New_York:20260426T090000
DTEND;TZID=America/New_York:20260426T220000
DTSTAMP:20260425T092734
CREATED:20250910T165106Z
LAST-MODIFIED:20250910T165106Z
UID:15492-1777194000-1777240800@massanuttenchurch.org
SUMMARY:Faithful Conversations
DESCRIPTION:
URL:https://massanuttenchurch.org/event/faithful-conversations-34/
LOCATION:Room 119\, United States
END:VEVENT
BEGIN:VEVENT
DTSTART;TZID=America/New_York:20260426T093000
DTEND;TZID=America/New_York:20260426T102000
DTSTAMP:20260425T092734
CREATED:20250904T134737Z
LAST-MODIFIED:20250904T134737Z
UID:14945-1777195800-1777198800@massanuttenchurch.org
SUMMARY:Faith Village
DESCRIPTION:
URL:https://massanuttenchurch.org/event/faith-village-30/
END:VEVENT
BEGIN:VEVENT
DTSTART;TZID=America/New_York:20260426T093000
DTEND;TZID=America/New_York:20260426T102000
DTSTAMP:20260425T092734
CREATED:20250904T140443Z
LAST-MODIFIED:20250904T140443Z
UID:15007-1777195800-1777198800@massanuttenchurch.org
SUMMARY:Middle School Sunday School
DESCRIPTION:
URL:https://massanuttenchurch.org/event/middle-school-sunday-school-28/
END:VEVENT
BEGIN:VEVENT
DTSTART;TZID=America/New_York:20260426T093000
DTEND;TZID=America/New_York:20260426T102000
DTSTAMP:20260425T092734
CREATED:20250904T142625Z
LAST-MODIFIED:20250904T142625Z
UID:15057-1777195800-1777198800@massanuttenchurch.org
SUMMARY:High School Breakfast
DESCRIPTION:
URL:https://massanuttenchurch.org/event/high-school-breakfast-25/
END:VEVENT
BEGIN:VEVENT
DTSTART;TZID=America/New_York:20260426T093000
DTEND;TZID=America/New_York:20260426T102000
DTSTAMP:20260425T092734
CREATED:20250904T144613Z
LAST-MODIFIED:20250904T144613Z
UID:15120-1777195800-1777198800@massanuttenchurch.org
SUMMARY:Parent Fellowship
DESCRIPTION:
URL:https://massanuttenchurch.org/event/parent-fellowship-31/
END:VEVENT
BEGIN:VEVENT
DTSTART;TZID=America/New_York:20260426T104500
DTEND;TZID=America/New_York:20260426T111500
DTSTAMP:20260425T092734
CREATED:20250904T153425Z
LAST-MODIFIED:20250904T153425Z
UID:15182-1777200300-1777202100@massanuttenchurch.org
SUMMARY:Godly Play
DESCRIPTION:
URL:https://massanuttenchurch.org/event/godly-play-31/
END:VEVENT
BEGIN:VEVENT
DTSTART;TZID=America/New_York:20260426T170000
DTEND;TZID=America/New_York:20260426T180000
DTSTAMP:20260425T092734
CREATED:20250904T162949Z
LAST-MODIFIED:20250904T162949Z
UID:15284-1777222800-1777226400@massanuttenchurch.org
SUMMARY:Fun with Handbells
DESCRIPTION:
URL:https://massanuttenchurch.org/event/fun-with-handbells-24/
END:VEVENT
BEGIN:VEVENT
DTSTART;TZID=America/New_York:20260426T180000
DTEND;TZID=America/New_York:20260426T200000
DTSTAMP:20260425T092734
CREATED:20250904T160734Z
LAST-MODIFIED:20250904T160734Z
UID:15234-1777226400-1777233600@massanuttenchurch.org
SUMMARY:Youth Group
DESCRIPTION:
URL:https://massanuttenchurch.org/event/youth-group-25/
END:VEVENT
BEGIN:VEVENT
DTSTART;TZID=America/New_York:20260503T090000
DTEND;TZID=America/New_York:20260503T100000
DTSTAMP:20260425T092734
CREATED:20250910T154418Z
LAST-MODIFIED:20250910T154418Z
UID:15423-1777798800-1777802400@massanuttenchurch.org
SUMMARY:Covenant Class
DESCRIPTION:
URL:https://massanuttenchurch.org/event/covenant-class-35/
LOCATION:Room 117
END:VEVENT
BEGIN:VEVENT
DTSTART;TZID=America/New_York:20260503T090000
DTEND;TZID=America/New_York:20260503T100000
DTSTAMP:20260425T092734
CREATED:20250910T165135Z
LAST-MODIFIED:20250910T165135Z
UID:15494-1777798800-1777802400@massanuttenchurch.org
SUMMARY:Faithful Conversations
DESCRIPTION:
URL:https://massanuttenchurch.org/event/faithful-conversations-35/
LOCATION:Room 119\, United States
END:VEVENT
BEGIN:VEVENT
DTSTART;TZID=America/New_York:20260503T093000
DTEND;TZID=America/New_York:20260503T102000
DTSTAMP:20260425T092734
CREATED:20250904T134810Z
LAST-MODIFIED:20250904T134810Z
UID:14947-1777800600-1777803600@massanuttenchurch.org
SUMMARY:Faith Village
DESCRIPTION:
URL:https://massanuttenchurch.org/event/faith-village-31/
END:VEVENT
END:VCALENDAR