BEGIN:VCALENDAR
VERSION:2.0
PRODID:-//Massanutten Presbyterian Church - ECPv6.15.20//NONSGML v1.0//EN
CALSCALE:GREGORIAN
METHOD:PUBLISH
X-WR-CALNAME:Massanutten Presbyterian Church
X-ORIGINAL-URL:https://massanuttenchurch.org
X-WR-CALDESC:Events for Massanutten Presbyterian Church
REFRESH-INTERVAL;VALUE=DURATION:PT1H
X-Robots-Tag:noindex
X-PUBLISHED-TTL:PT1H
BEGIN:VTIMEZONE
TZID:America/New_York
BEGIN:DAYLIGHT
TZOFFSETFROM:-0500
TZOFFSETTO:-0400
TZNAME:EDT
DTSTART:20230312T070000
END:DAYLIGHT
BEGIN:STANDARD
TZOFFSETFROM:-0400
TZOFFSETTO:-0500
TZNAME:EST
DTSTART:20231105T060000
END:STANDARD
BEGIN:DAYLIGHT
TZOFFSETFROM:-0500
TZOFFSETTO:-0400
TZNAME:EDT
DTSTART:20240310T070000
END:DAYLIGHT
BEGIN:STANDARD
TZOFFSETFROM:-0400
TZOFFSETTO:-0500
TZNAME:EST
DTSTART:20241103T060000
END:STANDARD
BEGIN:DAYLIGHT
TZOFFSETFROM:-0500
TZOFFSETTO:-0400
TZNAME:EDT
DTSTART:20250309T070000
END:DAYLIGHT
BEGIN:STANDARD
TZOFFSETFROM:-0400
TZOFFSETTO:-0500
TZNAME:EST
DTSTART:20251102T060000
END:STANDARD
END:VTIMEZONE
BEGIN:VTIMEZONE
TZID:UTC
BEGIN:STANDARD
TZOFFSETFROM:+0000
TZOFFSETTO:+0000
TZNAME:UTC
DTSTART:20230101T000000
END:STANDARD
END:VTIMEZONE
BEGIN:VEVENT
DTSTART;TZID=America/New_York:20240626T190000
DTEND;TZID=America/New_York:20240626T190000
DTSTAMP:20260425T123322
CREATED:20230817T140504Z
LAST-MODIFIED:20231115T172204Z
UID:12423-1719428400-1719428400@massanuttenchurch.org
SUMMARY:Chancel Choir Rehearsal
DESCRIPTION:
URL:https://massanuttenchurch.org/event/chancel-choir-rehearsal-4-2024-06-26/
LOCATION:50 Indian Trail Road\, Penn Laird\, VA\, 22846\, United States
END:VEVENT
BEGIN:VEVENT
DTSTART;TZID=America/New_York:20240623T103000
DTEND;TZID=America/New_York:20240623T113000
DTSTAMP:20260425T123322
CREATED:20210712T024206Z
LAST-MODIFIED:20230802T165052Z
UID:11329-1719138600-1719142200@massanuttenchurch.org
SUMMARY:Sunday Worship
DESCRIPTION:
URL:https://massanuttenchurch.org/event/sunday-worship-2-2024-06-23/
LOCATION:Sanctuary\, 50 Indian Trail Road\, Penn Laird\, 22846\, United States
END:VEVENT
BEGIN:VEVENT
DTSTART;TZID=America/New_York:20240619T190000
DTEND;TZID=America/New_York:20240619T190000
DTSTAMP:20260425T123322
CREATED:20230817T140504Z
LAST-MODIFIED:20231115T172203Z
UID:12422-1718823600-1718823600@massanuttenchurch.org
SUMMARY:Chancel Choir Rehearsal
DESCRIPTION:
URL:https://massanuttenchurch.org/event/chancel-choir-rehearsal-4-2024-06-19/
LOCATION:50 Indian Trail Road\, Penn Laird\, VA\, 22846\, United States
END:VEVENT
BEGIN:VEVENT
DTSTART;TZID=UTC:20240616T183000
DTEND;TZID=UTC:20240616T203000
DTSTAMP:20260425T123322
CREATED:20170425T032515Z
LAST-MODIFIED:20230822T121253Z
UID:10074-1718562600-1718569800@massanuttenchurch.org
SUMMARY:Session Meeting
DESCRIPTION:Session Meeting
URL:https://massanuttenchurch.org/event/session-meeting-2024-06-16/
LOCATION:Fellowship Hall
END:VEVENT
BEGIN:VEVENT
DTSTART;TZID=America/New_York:20240616T103000
DTEND;TZID=America/New_York:20240616T113000
DTSTAMP:20260425T123322
CREATED:20210712T024206Z
LAST-MODIFIED:20230802T165052Z
UID:11328-1718533800-1718537400@massanuttenchurch.org
SUMMARY:Sunday Worship
DESCRIPTION:
URL:https://massanuttenchurch.org/event/sunday-worship-2-2024-06-16/
LOCATION:Sanctuary\, 50 Indian Trail Road\, Penn Laird\, 22846\, United States
END:VEVENT
BEGIN:VEVENT
DTSTART;TZID=America/New_York:20240613T190000
DTEND;TZID=America/New_York:20240613T200000
DTSTAMP:20260425T123322
CREATED:20230321T123715Z
LAST-MODIFIED:20230321T123715Z
UID:11927-1718305200-1718308800@massanuttenchurch.org
SUMMARY:Food Pantry
DESCRIPTION:
URL:https://massanuttenchurch.org/event/food-pantry-2024-06-13/
LOCATION:50 Indian Trail Road\, Penn Laird\, VA\, 22846\, United States
END:VEVENT
BEGIN:VEVENT
DTSTART;TZID=America/New_York:20240612T190000
DTEND;TZID=America/New_York:20240612T190000
DTSTAMP:20260425T123322
CREATED:20230817T140504Z
LAST-MODIFIED:20231115T172202Z
UID:12421-1718218800-1718218800@massanuttenchurch.org
SUMMARY:Chancel Choir Rehearsal
DESCRIPTION:
URL:https://massanuttenchurch.org/event/chancel-choir-rehearsal-4-2024-06-12/
LOCATION:50 Indian Trail Road\, Penn Laird\, VA\, 22846\, United States
END:VEVENT
BEGIN:VEVENT
DTSTART;TZID=America/New_York:20240610T100000
DTEND;TZID=America/New_York:20240610T110000
DTSTAMP:20260425T123322
CREATED:20230321T123715Z
LAST-MODIFIED:20230321T123715Z
UID:11926-1718013600-1718017200@massanuttenchurch.org
SUMMARY:Food Pantry
DESCRIPTION:
URL:https://massanuttenchurch.org/event/food-pantry-2024-06-10/
LOCATION:50 Indian Trail Road\, Penn Laird\, VA\, 22846\, United States
END:VEVENT
BEGIN:VEVENT
DTSTART;TZID=America/New_York:20240609T103000
DTEND;TZID=America/New_York:20240609T113000
DTSTAMP:20260425T123322
CREATED:20210712T024206Z
LAST-MODIFIED:20230802T165052Z
UID:11327-1717929000-1717932600@massanuttenchurch.org
SUMMARY:Sunday Worship
DESCRIPTION:
URL:https://massanuttenchurch.org/event/sunday-worship-2-2024-06-09/
LOCATION:Sanctuary\, 50 Indian Trail Road\, Penn Laird\, 22846\, United States
END:VEVENT
BEGIN:VEVENT
DTSTART;TZID=America/New_York:20240605T190000
DTEND;TZID=America/New_York:20240605T190000
DTSTAMP:20260425T123322
CREATED:20230817T140504Z
LAST-MODIFIED:20231115T172202Z
UID:12420-1717614000-1717614000@massanuttenchurch.org
SUMMARY:Chancel Choir Rehearsal
DESCRIPTION:
URL:https://massanuttenchurch.org/event/chancel-choir-rehearsal-4-2024-06-05/
LOCATION:50 Indian Trail Road\, Penn Laird\, VA\, 22846\, United States
END:VEVENT
BEGIN:VEVENT
DTSTART;TZID=America/New_York:20240602T103000
DTEND;TZID=America/New_York:20240602T113000
DTSTAMP:20260425T123322
CREATED:20230802T154450Z
LAST-MODIFIED:20230802T154450Z
UID:12334-1717324200-1717327800@massanuttenchurch.org
SUMMARY:Sunday Worship with Communion
DESCRIPTION:
URL:https://massanuttenchurch.org/event/sunday-worship-with-communion-2024-06-02/
END:VEVENT
BEGIN:VEVENT
DTSTART;TZID=America/New_York:20240529T190000
DTEND;TZID=America/New_York:20240529T190000
DTSTAMP:20260425T123322
CREATED:20230817T140504Z
LAST-MODIFIED:20231115T172201Z
UID:12419-1717009200-1717009200@massanuttenchurch.org
SUMMARY:Chancel Choir Rehearsal
DESCRIPTION:
URL:https://massanuttenchurch.org/event/chancel-choir-rehearsal-4-2024-05-29/
LOCATION:50 Indian Trail Road\, Penn Laird\, VA\, 22846\, United States
END:VEVENT
BEGIN:VEVENT
DTSTART;TZID=America/New_York:20240526T103000
DTEND;TZID=America/New_York:20240526T113000
DTSTAMP:20260425T123322
CREATED:20210712T024206Z
LAST-MODIFIED:20230802T165051Z
UID:11325-1716719400-1716723000@massanuttenchurch.org
SUMMARY:Sunday Worship
DESCRIPTION:
URL:https://massanuttenchurch.org/event/sunday-worship-2-2024-05-26/
LOCATION:Sanctuary\, 50 Indian Trail Road\, Penn Laird\, 22846\, United States
END:VEVENT
BEGIN:VEVENT
DTSTART;TZID=America/New_York:20240522T190000
DTEND;TZID=America/New_York:20240522T190000
DTSTAMP:20260425T123322
CREATED:20230817T140504Z
LAST-MODIFIED:20231115T172201Z
UID:12418-1716404400-1716404400@massanuttenchurch.org
SUMMARY:Chancel Choir Rehearsal
DESCRIPTION:
URL:https://massanuttenchurch.org/event/chancel-choir-rehearsal-4-2024-05-22/
LOCATION:50 Indian Trail Road\, Penn Laird\, VA\, 22846\, United States
END:VEVENT
BEGIN:VEVENT
DTSTART;TZID=UTC:20240519T183000
DTEND;TZID=UTC:20240519T203000
DTSTAMP:20260425T123322
CREATED:20170425T032515Z
LAST-MODIFIED:20230822T121252Z
UID:10009-1716143400-1716150600@massanuttenchurch.org
SUMMARY:Session Meeting
DESCRIPTION:Session Meeting
URL:https://massanuttenchurch.org/event/session-meeting-2024-05-19/
LOCATION:Fellowship Hall
END:VEVENT
BEGIN:VEVENT
DTSTART;TZID=America/New_York:20240519T180000
DTEND;TZID=America/New_York:20240519T180000
DTSTAMP:20260425T123322
CREATED:20230830T161207Z
LAST-MODIFIED:20230830T161207Z
UID:12641-1716141600-1716141600@massanuttenchurch.org
SUMMARY:Youth Group
DESCRIPTION:
URL:https://massanuttenchurch.org/event/youth-group-3-2024-05-19/
LOCATION:50 Indian Trail Road\, Penn Laird\, VA\, 22846\, United States
END:VEVENT
BEGIN:VEVENT
DTSTART;TZID=America/New_York:20240519T170000
DTEND;TZID=America/New_York:20240519T170000
DTSTAMP:20260425T123322
CREATED:20220907T175517Z
LAST-MODIFIED:20240212T143405Z
UID:13281-1716138000-1716138000@massanuttenchurch.org
SUMMARY:Fun With Handbells
DESCRIPTION:
URL:https://massanuttenchurch.org/event/fun-with-handbells-2-2024-05-19/
LOCATION:50 Indian Trail Road\, Penn Laird\, VA\, 22846\, United States
END:VEVENT
BEGIN:VEVENT
DTSTART;TZID=America/New_York:20240519T104500
DTEND;TZID=America/New_York:20240519T111500
DTSTAMP:20260425T123322
CREATED:20230830T154529Z
LAST-MODIFIED:20230830T154529Z
UID:12878-1716115500-1716117300@massanuttenchurch.org
SUMMARY:Godly Play
DESCRIPTION:
URL:https://massanuttenchurch.org/event/godly-play-3-2024-05-19/
LOCATION:50 Indian Trail Road\, Penn Laird\, VA\, 22846\, United States
END:VEVENT
BEGIN:VEVENT
DTSTART;TZID=America/New_York:20240519T103000
DTEND;TZID=America/New_York:20240519T113000
DTSTAMP:20260425T123322
CREATED:20210712T024206Z
LAST-MODIFIED:20230802T165051Z
UID:11324-1716114600-1716118200@massanuttenchurch.org
SUMMARY:Sunday Worship
DESCRIPTION:
URL:https://massanuttenchurch.org/event/sunday-worship-2-2024-05-19/
LOCATION:Sanctuary\, 50 Indian Trail Road\, Penn Laird\, 22846\, United States
END:VEVENT
BEGIN:VEVENT
DTSTART;TZID=America/New_York:20240519T093000
DTEND;TZID=America/New_York:20240519T102000
DTSTAMP:20260425T123322
CREATED:20230830T185524Z
LAST-MODIFIED:20230925T131548Z
UID:12782-1716111000-1716114000@massanuttenchurch.org
SUMMARY:High School Breakfast
DESCRIPTION:
URL:https://massanuttenchurch.org/event/high-school-breakfast-3-2024-05-19/
LOCATION:50 Indian Trail Road\, Penn Laird\, VA\, 22846\, United States
END:VEVENT
BEGIN:VEVENT
DTSTART;TZID=America/New_York:20240519T093000
DTEND;TZID=America/New_York:20240519T102000
DTSTAMP:20260425T123322
CREATED:20230828T153941Z
LAST-MODIFIED:20240221T145910Z
UID:12507-1716111000-1716114000@massanuttenchurch.org
SUMMARY:Parent Fellowship
DESCRIPTION:
URL:https://massanuttenchurch.org/event/parent-fellowship-3-2024-05-19/
END:VEVENT
BEGIN:VEVENT
DTSTART;TZID=America/New_York:20240519T093000
DTEND;TZID=America/New_York:20240519T102000
DTSTAMP:20260425T123322
CREATED:20230828T153531Z
LAST-MODIFIED:20230828T153531Z
UID:12479-1716111000-1716114000@massanuttenchurch.org
SUMMARY:Faith Village
DESCRIPTION:
URL:https://massanuttenchurch.org/event/faith-village-2-2024-05-19/
LOCATION:50 Indian Trail Road\, Penn Laird\, VA\, 22846\, United States
END:VEVENT
BEGIN:VEVENT
DTSTART;TZID=America/New_York:20240519T090000
DTEND;TZID=America/New_York:20240519T100000
DTSTAMP:20260425T123322
CREATED:20230830T170330Z
LAST-MODIFIED:20231206T185134Z
UID:12737-1716109200-1716112800@massanuttenchurch.org
SUMMARY:Faithful Conversations
DESCRIPTION:
URL:https://massanuttenchurch.org/event/faithful-conversations-2-2024-05-19/
LOCATION:Room 119\, United States
END:VEVENT
BEGIN:VEVENT
DTSTART;TZID=America/New_York:20240519T090000
DTEND;TZID=America/New_York:20240519T100000
DTSTAMP:20260425T123322
CREATED:20230830T170048Z
LAST-MODIFIED:20231206T182707Z
UID:12743-1716109200-1716112800@massanuttenchurch.org
SUMMARY:Covenant Class
DESCRIPTION:
URL:https://massanuttenchurch.org/event/covenant-class-2-2024-05-19/
LOCATION:Room 117
END:VEVENT
BEGIN:VEVENT
DTSTART;TZID=America/New_York:20240515T190000
DTEND;TZID=America/New_York:20240515T190000
DTSTAMP:20260425T123322
CREATED:20230817T140504Z
LAST-MODIFIED:20231115T172201Z
UID:12417-1715799600-1715799600@massanuttenchurch.org
SUMMARY:Chancel Choir Rehearsal
DESCRIPTION:
URL:https://massanuttenchurch.org/event/chancel-choir-rehearsal-4-2024-05-15/
LOCATION:50 Indian Trail Road\, Penn Laird\, VA\, 22846\, United States
END:VEVENT
BEGIN:VEVENT
DTSTART;TZID=America/New_York:20240513T190000
DTEND;TZID=America/New_York:20240513T190000
DTSTAMP:20260425T123322
CREATED:20220914T170136Z
LAST-MODIFIED:20240115T154116Z
UID:13262-1715626800-1715626800@massanuttenchurch.org
SUMMARY:Massanutten Ringers
DESCRIPTION:
URL:https://massanuttenchurch.org/event/massanutten-ringers-2-2024-05-13/
LOCATION:50 Indian Trail Road\, Penn Laird\, VA\, 22846\, United States
END:VEVENT
BEGIN:VEVENT
DTSTART;TZID=America/New_York:20240513T100000
DTEND;TZID=America/New_York:20240513T110000
DTSTAMP:20260425T123322
CREATED:20230321T123715Z
LAST-MODIFIED:20230321T123715Z
UID:11925-1715594400-1715598000@massanuttenchurch.org
SUMMARY:Food Pantry
DESCRIPTION:
URL:https://massanuttenchurch.org/event/food-pantry-2024-05-13/
LOCATION:50 Indian Trail Road\, Penn Laird\, VA\, 22846\, United States
END:VEVENT
BEGIN:VEVENT
DTSTART;TZID=America/New_York:20240512T180000
DTEND;TZID=America/New_York:20240512T180000
DTSTAMP:20260425T123322
CREATED:20230830T161207Z
LAST-MODIFIED:20230830T161207Z
UID:12640-1715536800-1715536800@massanuttenchurch.org
SUMMARY:Youth Group
DESCRIPTION:
URL:https://massanuttenchurch.org/event/youth-group-3-2024-05-12/
LOCATION:50 Indian Trail Road\, Penn Laird\, VA\, 22846\, United States
END:VEVENT
BEGIN:VEVENT
DTSTART;TZID=America/New_York:20240512T170000
DTEND;TZID=America/New_York:20240512T170000
DTSTAMP:20260425T123322
CREATED:20220907T175517Z
LAST-MODIFIED:20240212T143405Z
UID:13280-1715533200-1715533200@massanuttenchurch.org
SUMMARY:Fun With Handbells
DESCRIPTION:
URL:https://massanuttenchurch.org/event/fun-with-handbells-2-2024-05-12/
LOCATION:50 Indian Trail Road\, Penn Laird\, VA\, 22846\, United States
END:VEVENT
BEGIN:VEVENT
DTSTART;TZID=America/New_York:20240512T104500
DTEND;TZID=America/New_York:20240512T111500
DTSTAMP:20260425T123322
CREATED:20230830T154529Z
LAST-MODIFIED:20230830T154529Z
UID:12877-1715510700-1715512500@massanuttenchurch.org
SUMMARY:Godly Play
DESCRIPTION:
URL:https://massanuttenchurch.org/event/godly-play-3-2024-05-12/
LOCATION:50 Indian Trail Road\, Penn Laird\, VA\, 22846\, United States
END:VEVENT
END:VCALENDAR