BEGIN:VCALENDAR
VERSION:2.0
PRODID:-//Massanutten Presbyterian Church - ECPv6.15.20//NONSGML v1.0//EN
CALSCALE:GREGORIAN
METHOD:PUBLISH
X-ORIGINAL-URL:https://massanuttenchurch.org
X-WR-CALDESC:Events for Massanutten Presbyterian Church
REFRESH-INTERVAL;VALUE=DURATION:PT1H
X-Robots-Tag:noindex
X-PUBLISHED-TTL:PT1H
BEGIN:VTIMEZONE
TZID:America/New_York
BEGIN:DAYLIGHT
TZOFFSETFROM:-0500
TZOFFSETTO:-0400
TZNAME:EDT
DTSTART:20210314T070000
END:DAYLIGHT
BEGIN:STANDARD
TZOFFSETFROM:-0400
TZOFFSETTO:-0500
TZNAME:EST
DTSTART:20211107T060000
END:STANDARD
BEGIN:DAYLIGHT
TZOFFSETFROM:-0500
TZOFFSETTO:-0400
TZNAME:EDT
DTSTART:20220313T070000
END:DAYLIGHT
BEGIN:STANDARD
TZOFFSETFROM:-0400
TZOFFSETTO:-0500
TZNAME:EST
DTSTART:20221106T060000
END:STANDARD
BEGIN:DAYLIGHT
TZOFFSETFROM:-0500
TZOFFSETTO:-0400
TZNAME:EDT
DTSTART:20230312T070000
END:DAYLIGHT
BEGIN:STANDARD
TZOFFSETFROM:-0400
TZOFFSETTO:-0500
TZNAME:EST
DTSTART:20231105T060000
END:STANDARD
END:VTIMEZONE
BEGIN:VTIMEZONE
TZID:UTC
BEGIN:STANDARD
TZOFFSETFROM:+0000
TZOFFSETTO:+0000
TZNAME:UTC
DTSTART:20210101T000000
END:STANDARD
END:VTIMEZONE
BEGIN:VEVENT
DTSTART;TZID=America/New_York:20221204T090000
DTEND;TZID=America/New_York:20221204T090000
DTSTAMP:20260425T220235
CREATED:20220907T172809Z
LAST-MODIFIED:20230517T153746Z
UID:10289-1670144400-1670144400@massanuttenchurch.org
SUMMARY:Covenant Class
DESCRIPTION:
URL:https://massanuttenchurch.org/event/covenant-class-2022-12-04/
LOCATION:Room 117
END:VEVENT
BEGIN:VEVENT
DTSTART;TZID=America/New_York:20221130T190000
DTEND;TZID=America/New_York:20221130T190000
DTSTAMP:20260425T220235
CREATED:20220525T163805Z
LAST-MODIFIED:20230518T144031Z
UID:10232-1669834800-1669834800@massanuttenchurch.org
SUMMARY:Chancel Choir Rehearsal
DESCRIPTION:
URL:https://massanuttenchurch.org/event/chancel-choir-rehearsal-3-2022-11-30/
LOCATION:50 Indian Trail Road\, Penn Laird\, VA\, 22846\, United States
END:VEVENT
BEGIN:VEVENT
DTSTART;TZID=America/New_York:20221130T073000
DTEND;TZID=America/New_York:20221130T083000
DTSTAMP:20260425T220235
CREATED:20220126T154646Z
LAST-MODIFIED:20230104T181709Z
UID:9444-1669793400-1669797000@massanuttenchurch.org
SUMMARY:Men's Prayer Group
DESCRIPTION:
URL:https://massanuttenchurch.org/event/mens-prayer-group-2-2022-11-30/
LOCATION:50 Indian Trail Road\, Penn Laird\, VA\, 22846\, United States
END:VEVENT
BEGIN:VEVENT
DTSTART;TZID=America/New_York:20221129T100000
DTEND;TZID=America/New_York:20221129T100000
DTSTAMP:20260425T220235
CREATED:20220907T174626Z
LAST-MODIFIED:20230118T195956Z
UID:11034-1669716000-1669716000@massanuttenchurch.org
SUMMARY:Presbyterian Women Coordinating Team Meeting
DESCRIPTION:
URL:https://massanuttenchurch.org/event/presbyterian-women-coordinating-team-meeting-2022-11-29/
LOCATION:Fellowship Hall
END:VEVENT
BEGIN:VEVENT
DTSTART;TZID=America/New_York:20221128T190000
DTEND;TZID=America/New_York:20221128T190000
DTSTAMP:20260425T220235
CREATED:20220914T170136Z
LAST-MODIFIED:20240115T154047Z
UID:10628-1669662000-1669662000@massanuttenchurch.org
SUMMARY:Massanutten Ringers
DESCRIPTION:
URL:https://massanuttenchurch.org/event/massanutten-ringers-2-2022-11-28/
LOCATION:50 Indian Trail Road\, Penn Laird\, VA\, 22846\, United States
END:VEVENT
BEGIN:VEVENT
DTSTART;TZID=America/New_York:20221127T103000
DTEND;TZID=America/New_York:20221127T113000
DTSTAMP:20260425T220235
CREATED:20210712T024206Z
LAST-MODIFIED:20230802T155203Z
UID:8344-1669545000-1669548600@massanuttenchurch.org
SUMMARY:Sunday Worship
DESCRIPTION:
URL:https://massanuttenchurch.org/event/sunday-worship-2-2022-11-27/
LOCATION:Sanctuary\, 50 Indian Trail Road\, Penn Laird\, 22846\, United States
END:VEVENT
BEGIN:VEVENT
DTSTART;TZID=America/New_York:20221127T090000
DTEND;TZID=America/New_York:20221127T090000
DTSTAMP:20260425T220235
CREATED:20220907T172908Z
LAST-MODIFIED:20230517T153831Z
UID:10310-1669539600-1669539600@massanuttenchurch.org
SUMMARY:Faithful Conversations
DESCRIPTION:
URL:https://massanuttenchurch.org/event/faithful-conversations-2022-11-27/
LOCATION:Room 119\, United States
END:VEVENT
BEGIN:VEVENT
DTSTART;TZID=America/New_York:20221127T090000
DTEND;TZID=America/New_York:20221127T090000
DTSTAMP:20260425T220235
CREATED:20220907T172809Z
LAST-MODIFIED:20230517T153745Z
UID:10288-1669539600-1669539600@massanuttenchurch.org
SUMMARY:Covenant Class
DESCRIPTION:
URL:https://massanuttenchurch.org/event/covenant-class-2022-11-27/
LOCATION:Room 117
END:VEVENT
BEGIN:VEVENT
DTSTART;TZID=America/New_York:20221123T190000
DTEND;TZID=America/New_York:20221123T190000
DTSTAMP:20260425T220235
CREATED:20220525T163805Z
LAST-MODIFIED:20230518T144030Z
UID:10231-1669230000-1669230000@massanuttenchurch.org
SUMMARY:Chancel Choir Rehearsal
DESCRIPTION:
URL:https://massanuttenchurch.org/event/chancel-choir-rehearsal-3-2022-11-23/
LOCATION:50 Indian Trail Road\, Penn Laird\, VA\, 22846\, United States
END:VEVENT
BEGIN:VEVENT
DTSTART;TZID=America/New_York:20221123T073000
DTEND;TZID=America/New_York:20221123T083000
DTSTAMP:20260425T220235
CREATED:20220126T154646Z
LAST-MODIFIED:20230104T181708Z
UID:9443-1669188600-1669192200@massanuttenchurch.org
SUMMARY:Men's Prayer Group
DESCRIPTION:
URL:https://massanuttenchurch.org/event/mens-prayer-group-2-2022-11-23/
LOCATION:50 Indian Trail Road\, Penn Laird\, VA\, 22846\, United States
END:VEVENT
BEGIN:VEVENT
DTSTART;TZID=America/New_York:20221121T190000
DTEND;TZID=America/New_York:20221121T190000
DTSTAMP:20260425T220235
CREATED:20220914T170136Z
LAST-MODIFIED:20240115T154047Z
UID:10627-1669057200-1669057200@massanuttenchurch.org
SUMMARY:Massanutten Ringers
DESCRIPTION:
URL:https://massanuttenchurch.org/event/massanutten-ringers-2-2022-11-21/
LOCATION:50 Indian Trail Road\, Penn Laird\, VA\, 22846\, United States
END:VEVENT
BEGIN:VEVENT
DTSTART;TZID=UTC:20221120T183000
DTEND;TZID=UTC:20221120T203000
DTSTAMP:20260425T220235
CREATED:20170425T032515Z
LAST-MODIFIED:20230822T121241Z
UID:7263-1668969000-1668976200@massanuttenchurch.org
SUMMARY:Session Meeting
DESCRIPTION:Session Meeting
URL:https://massanuttenchurch.org/event/session-meeting-2022-11-20/
LOCATION:Fellowship Hall
END:VEVENT
BEGIN:VEVENT
DTSTART;TZID=America/New_York:20221120T180000
DTEND;TZID=America/New_York:20221120T200000
DTSTAMP:20260425T220235
CREATED:20220907T175428Z
LAST-MODIFIED:20230412T160701Z
UID:12041-1668967200-1668974400@massanuttenchurch.org
SUMMARY:Youth Group
DESCRIPTION:
URL:https://massanuttenchurch.org/event/youth-group-2-2022-11-20/
LOCATION:50 Indian Trail Road\, Penn Laird\, VA\, 22846\, United States
END:VEVENT
BEGIN:VEVENT
DTSTART;TZID=America/New_York:20221120T170000
DTEND;TZID=America/New_York:20221120T170000
DTSTAMP:20260425T220235
CREATED:20220907T175517Z
LAST-MODIFIED:20240212T143351Z
UID:10499-1668963600-1668963600@massanuttenchurch.org
SUMMARY:Fun With Handbells
DESCRIPTION:
URL:https://massanuttenchurch.org/event/fun-with-handbells-2-2022-11-20/
LOCATION:50 Indian Trail Road\, Penn Laird\, VA\, 22846\, United States
END:VEVENT
BEGIN:VEVENT
DTSTART;TZID=America/New_York:20221120T110000
DTEND;TZID=America/New_York:20221120T110000
DTSTAMP:20260425T220235
CREATED:20220907T175235Z
LAST-MODIFIED:20230412T160306Z
UID:10425-1668942000-1668942000@massanuttenchurch.org
SUMMARY:Godly Play
DESCRIPTION:
URL:https://massanuttenchurch.org/event/godly-play-2-2022-11-20/
LOCATION:50 Indian Trail Road\, Penn Laird\, VA\, 22846\, United States
END:VEVENT
BEGIN:VEVENT
DTSTART;TZID=America/New_York:20221120T103000
DTEND;TZID=America/New_York:20221120T113000
DTSTAMP:20260425T220235
CREATED:20210712T024206Z
LAST-MODIFIED:20230802T155203Z
UID:8343-1668940200-1668943800@massanuttenchurch.org
SUMMARY:Sunday Worship
DESCRIPTION:
URL:https://massanuttenchurch.org/event/sunday-worship-2-2022-11-20/
LOCATION:Sanctuary\, 50 Indian Trail Road\, Penn Laird\, 22846\, United States
END:VEVENT
BEGIN:VEVENT
DTSTART;TZID=America/New_York:20221120T093000
DTEND;TZID=America/New_York:20221120T102000
DTSTAMP:20260425T220235
CREATED:20220910T174303Z
LAST-MODIFIED:20230503T182232Z
UID:10582-1668936600-1668939600@massanuttenchurch.org
SUMMARY:Parent Fellowship
DESCRIPTION:
URL:https://massanuttenchurch.org/event/parent-fellowship-2-2022-11-20/
LOCATION:50 Indian Trail Road\, Penn Laird\, VA\, 22846\, United States
END:VEVENT
BEGIN:VEVENT
DTSTART;TZID=America/New_York:20221120T093000
DTEND;TZID=America/New_York:20221120T102000
DTSTAMP:20260425T220235
CREATED:20220907T175133Z
LAST-MODIFIED:20230210T193338Z
UID:10388-1668936600-1668939600@massanuttenchurch.org
SUMMARY:Faith Village
DESCRIPTION:
URL:https://massanuttenchurch.org/event/faith-village-2022-11-20/
LOCATION:50 Indian Trail Road\, Penn Laird\, VA\, 22846\, United States
END:VEVENT
BEGIN:VEVENT
DTSTART;TZID=America/New_York:20221120T090000
DTEND;TZID=America/New_York:20221120T090000
DTSTAMP:20260425T220235
CREATED:20220907T172908Z
LAST-MODIFIED:20230517T153830Z
UID:10309-1668934800-1668934800@massanuttenchurch.org
SUMMARY:Faithful Conversations
DESCRIPTION:
URL:https://massanuttenchurch.org/event/faithful-conversations-2022-11-20/
LOCATION:Room 119\, United States
END:VEVENT
BEGIN:VEVENT
DTSTART;TZID=America/New_York:20221120T090000
DTEND;TZID=America/New_York:20221120T090000
DTSTAMP:20260425T220235
CREATED:20220907T172809Z
LAST-MODIFIED:20230517T153745Z
UID:10287-1668934800-1668934800@massanuttenchurch.org
SUMMARY:Covenant Class
DESCRIPTION:
URL:https://massanuttenchurch.org/event/covenant-class-2022-11-20/
LOCATION:Room 117
END:VEVENT
BEGIN:VEVENT
DTSTART;TZID=America/New_York:20221116T190000
DTEND;TZID=America/New_York:20221116T190000
DTSTAMP:20260425T220236
CREATED:20220525T163805Z
LAST-MODIFIED:20230518T144030Z
UID:10230-1668625200-1668625200@massanuttenchurch.org
SUMMARY:Chancel Choir Rehearsal
DESCRIPTION:
URL:https://massanuttenchurch.org/event/chancel-choir-rehearsal-3-2022-11-16/
LOCATION:50 Indian Trail Road\, Penn Laird\, VA\, 22846\, United States
END:VEVENT
BEGIN:VEVENT
DTSTART;TZID=America/New_York:20221116T073000
DTEND;TZID=America/New_York:20221116T083000
DTSTAMP:20260425T220236
CREATED:20220126T154646Z
LAST-MODIFIED:20230104T181708Z
UID:9442-1668583800-1668587400@massanuttenchurch.org
SUMMARY:Men's Prayer Group
DESCRIPTION:
URL:https://massanuttenchurch.org/event/mens-prayer-group-2-2022-11-16/
LOCATION:50 Indian Trail Road\, Penn Laird\, VA\, 22846\, United States
END:VEVENT
BEGIN:VEVENT
DTSTART;TZID=America/New_York:20221114T190000
DTEND;TZID=America/New_York:20221114T190000
DTSTAMP:20260425T220236
CREATED:20220914T170136Z
LAST-MODIFIED:20240115T154046Z
UID:10626-1668452400-1668452400@massanuttenchurch.org
SUMMARY:Massanutten Ringers
DESCRIPTION:
URL:https://massanuttenchurch.org/event/massanutten-ringers-2-2022-11-14/
LOCATION:50 Indian Trail Road\, Penn Laird\, VA\, 22846\, United States
END:VEVENT
BEGIN:VEVENT
DTSTART;TZID=America/New_York:20221113T180000
DTEND;TZID=America/New_York:20221113T200000
DTSTAMP:20260425T220236
CREATED:20220907T175428Z
LAST-MODIFIED:20230412T160700Z
UID:12040-1668362400-1668369600@massanuttenchurch.org
SUMMARY:Youth Group
DESCRIPTION:
URL:https://massanuttenchurch.org/event/youth-group-2-2022-11-13/
LOCATION:50 Indian Trail Road\, Penn Laird\, VA\, 22846\, United States
END:VEVENT
BEGIN:VEVENT
DTSTART;TZID=America/New_York:20221113T170000
DTEND;TZID=America/New_York:20221113T170000
DTSTAMP:20260425T220236
CREATED:20220907T175517Z
LAST-MODIFIED:20240212T143351Z
UID:10498-1668358800-1668358800@massanuttenchurch.org
SUMMARY:Fun With Handbells
DESCRIPTION:
URL:https://massanuttenchurch.org/event/fun-with-handbells-2-2022-11-13/
LOCATION:50 Indian Trail Road\, Penn Laird\, VA\, 22846\, United States
END:VEVENT
BEGIN:VEVENT
DTSTART;TZID=America/New_York:20221113T110000
DTEND;TZID=America/New_York:20221113T110000
DTSTAMP:20260425T220236
CREATED:20220907T175235Z
LAST-MODIFIED:20230412T160306Z
UID:10424-1668337200-1668337200@massanuttenchurch.org
SUMMARY:Godly Play
DESCRIPTION:
URL:https://massanuttenchurch.org/event/godly-play-2-2022-11-13/
LOCATION:50 Indian Trail Road\, Penn Laird\, VA\, 22846\, United States
END:VEVENT
BEGIN:VEVENT
DTSTART;TZID=America/New_York:20221113T103000
DTEND;TZID=America/New_York:20221113T113000
DTSTAMP:20260425T220236
CREATED:20210712T024206Z
LAST-MODIFIED:20230802T155203Z
UID:8342-1668335400-1668339000@massanuttenchurch.org
SUMMARY:Sunday Worship
DESCRIPTION:
URL:https://massanuttenchurch.org/event/sunday-worship-2-2022-11-13/
LOCATION:Sanctuary\, 50 Indian Trail Road\, Penn Laird\, 22846\, United States
END:VEVENT
BEGIN:VEVENT
DTSTART;TZID=America/New_York:20221113T093000
DTEND;TZID=America/New_York:20221113T102000
DTSTAMP:20260425T220236
CREATED:20220910T174303Z
LAST-MODIFIED:20230503T182231Z
UID:10581-1668331800-1668334800@massanuttenchurch.org
SUMMARY:Parent Fellowship
DESCRIPTION:
URL:https://massanuttenchurch.org/event/parent-fellowship-2-2022-11-13/
LOCATION:50 Indian Trail Road\, Penn Laird\, VA\, 22846\, United States
END:VEVENT
BEGIN:VEVENT
DTSTART;TZID=America/New_York:20221113T093000
DTEND;TZID=America/New_York:20221113T102000
DTSTAMP:20260425T220236
CREATED:20220907T175133Z
LAST-MODIFIED:20230210T193337Z
UID:10387-1668331800-1668334800@massanuttenchurch.org
SUMMARY:Faith Village
DESCRIPTION:
URL:https://massanuttenchurch.org/event/faith-village-2022-11-13/
LOCATION:50 Indian Trail Road\, Penn Laird\, VA\, 22846\, United States
END:VEVENT
BEGIN:VEVENT
DTSTART;TZID=America/New_York:20221113T090000
DTEND;TZID=America/New_York:20221113T090000
DTSTAMP:20260425T220236
CREATED:20220907T172908Z
LAST-MODIFIED:20230517T153828Z
UID:10308-1668330000-1668330000@massanuttenchurch.org
SUMMARY:Faithful Conversations
DESCRIPTION:
URL:https://massanuttenchurch.org/event/faithful-conversations-2022-11-13/
LOCATION:Room 119\, United States
END:VEVENT
END:VCALENDAR