BEGIN:VCALENDAR
VERSION:2.0
PRODID:-//Massanutten Presbyterian Church - ECPv6.15.20//NONSGML v1.0//EN
CALSCALE:GREGORIAN
METHOD:PUBLISH
X-WR-CALNAME:Massanutten Presbyterian Church
X-ORIGINAL-URL:https://massanuttenchurch.org
X-WR-CALDESC:Events for Massanutten Presbyterian Church
REFRESH-INTERVAL;VALUE=DURATION:PT1H
X-Robots-Tag:noindex
X-PUBLISHED-TTL:PT1H
BEGIN:VTIMEZONE
TZID:America/New_York
BEGIN:DAYLIGHT
TZOFFSETFROM:-0500
TZOFFSETTO:-0400
TZNAME:EDT
DTSTART:20210314T070000
END:DAYLIGHT
BEGIN:STANDARD
TZOFFSETFROM:-0400
TZOFFSETTO:-0500
TZNAME:EST
DTSTART:20211107T060000
END:STANDARD
BEGIN:DAYLIGHT
TZOFFSETFROM:-0500
TZOFFSETTO:-0400
TZNAME:EDT
DTSTART:20220313T070000
END:DAYLIGHT
BEGIN:STANDARD
TZOFFSETFROM:-0400
TZOFFSETTO:-0500
TZNAME:EST
DTSTART:20221106T060000
END:STANDARD
BEGIN:DAYLIGHT
TZOFFSETFROM:-0500
TZOFFSETTO:-0400
TZNAME:EDT
DTSTART:20230312T070000
END:DAYLIGHT
BEGIN:STANDARD
TZOFFSETFROM:-0400
TZOFFSETTO:-0500
TZNAME:EST
DTSTART:20231105T060000
END:STANDARD
END:VTIMEZONE
BEGIN:VEVENT
DTSTART;TZID=America/New_York:20221213T100000
DTEND;TZID=America/New_York:20221213T100000
DTSTAMP:20260425T233531
CREATED:20220907T174626Z
LAST-MODIFIED:20230118T195957Z
UID:10373-1670925600-1670925600@massanuttenchurch.org
SUMMARY:Presbyterian Women Coordinating Team Meeting
DESCRIPTION:
URL:https://massanuttenchurch.org/event/presbyterian-women-coordinating-team-meeting-2022-12-13/
LOCATION:Fellowship Hall
END:VEVENT
BEGIN:VEVENT
DTSTART;TZID=America/New_York:20221213T100000
DTEND;TZID=America/New_York:20221213T100000
DTSTAMP:20260425T233531
CREATED:20220907T173555Z
LAST-MODIFIED:20230503T182143Z
UID:10346-1670925600-1670925600@massanuttenchurch.org
SUMMARY:Presbyterian Women (Morning Circle)
DESCRIPTION:
URL:https://massanuttenchurch.org/event/presbyterian-women-morning-circle-2022-12-13/
LOCATION:Fellowship Hall
END:VEVENT
BEGIN:VEVENT
DTSTART;TZID=America/New_York:20221211T180000
DTEND;TZID=America/New_York:20221211T200000
DTSTAMP:20260425T233531
CREATED:20220907T175428Z
LAST-MODIFIED:20230412T160703Z
UID:12043-1670781600-1670788800@massanuttenchurch.org
SUMMARY:Youth Group
DESCRIPTION:
URL:https://massanuttenchurch.org/event/youth-group-2-2022-12-11/
LOCATION:50 Indian Trail Road\, Penn Laird\, VA\, 22846\, United States
END:VEVENT
BEGIN:VEVENT
DTSTART;TZID=America/New_York:20221211T110000
DTEND;TZID=America/New_York:20221211T110000
DTSTAMP:20260425T233531
CREATED:20220907T175235Z
LAST-MODIFIED:20230412T160309Z
UID:10428-1670756400-1670756400@massanuttenchurch.org
SUMMARY:Godly Play
DESCRIPTION:
URL:https://massanuttenchurch.org/event/godly-play-2-2022-12-11/
LOCATION:50 Indian Trail Road\, Penn Laird\, VA\, 22846\, United States
END:VEVENT
BEGIN:VEVENT
DTSTART;TZID=America/New_York:20221211T103000
DTEND;TZID=America/New_York:20221211T113000
DTSTAMP:20260425T233531
CREATED:20210712T024206Z
LAST-MODIFIED:20230802T155204Z
UID:8346-1670754600-1670758200@massanuttenchurch.org
SUMMARY:Sunday Worship
DESCRIPTION:
URL:https://massanuttenchurch.org/event/sunday-worship-2-2022-12-11/
LOCATION:Sanctuary\, 50 Indian Trail Road\, Penn Laird\, 22846\, United States
END:VEVENT
BEGIN:VEVENT
DTSTART;TZID=America/New_York:20221211T093000
DTEND;TZID=America/New_York:20221211T102000
DTSTAMP:20260425T233531
CREATED:20221207T191905Z
LAST-MODIFIED:20230419T150446Z
UID:11172-1670751000-1670754000@massanuttenchurch.org
SUMMARY:High School Breakfast
DESCRIPTION:
URL:https://massanuttenchurch.org/event/high-school-breakfast-2/
LOCATION:50 Indian Trail Road\, Penn Laird\, VA\, 22846\, United States
END:VEVENT
BEGIN:VEVENT
DTSTART;TZID=America/New_York:20221211T093000
DTEND;TZID=America/New_York:20221211T102000
DTSTAMP:20260425T233531
CREATED:20220910T174303Z
LAST-MODIFIED:20230503T182235Z
UID:10585-1670751000-1670754000@massanuttenchurch.org
SUMMARY:Parent Fellowship
DESCRIPTION:
URL:https://massanuttenchurch.org/event/parent-fellowship-2-2022-12-11/
LOCATION:50 Indian Trail Road\, Penn Laird\, VA\, 22846\, United States
END:VEVENT
BEGIN:VEVENT
DTSTART;TZID=America/New_York:20221211T093000
DTEND;TZID=America/New_York:20221211T102000
DTSTAMP:20260425T233531
CREATED:20220907T175133Z
LAST-MODIFIED:20230210T193341Z
UID:10391-1670751000-1670754000@massanuttenchurch.org
SUMMARY:Faith Village
DESCRIPTION:
URL:https://massanuttenchurch.org/event/faith-village-2022-12-11/
LOCATION:50 Indian Trail Road\, Penn Laird\, VA\, 22846\, United States
END:VEVENT
BEGIN:VEVENT
DTSTART;TZID=America/New_York:20221211T090000
DTEND;TZID=America/New_York:20221211T090000
DTSTAMP:20260425T233531
CREATED:20220907T172908Z
LAST-MODIFIED:20230517T153832Z
UID:10312-1670749200-1670749200@massanuttenchurch.org
SUMMARY:Faithful Conversations
DESCRIPTION:
URL:https://massanuttenchurch.org/event/faithful-conversations-2022-12-11/
LOCATION:Room 119\, United States
END:VEVENT
BEGIN:VEVENT
DTSTART;TZID=America/New_York:20221211T090000
DTEND;TZID=America/New_York:20221211T090000
DTSTAMP:20260425T233531
CREATED:20220907T172809Z
LAST-MODIFIED:20230517T153747Z
UID:10290-1670749200-1670749200@massanuttenchurch.org
SUMMARY:Covenant Class
DESCRIPTION:
URL:https://massanuttenchurch.org/event/covenant-class-2022-12-11/
LOCATION:Room 117
END:VEVENT
BEGIN:VEVENT
DTSTART;TZID=America/New_York:20221207T190000
DTEND;TZID=America/New_York:20221207T190000
DTSTAMP:20260425T233531
CREATED:20220525T163805Z
LAST-MODIFIED:20230518T144031Z
UID:10233-1670439600-1670439600@massanuttenchurch.org
SUMMARY:Chancel Choir Rehearsal
DESCRIPTION:
URL:https://massanuttenchurch.org/event/chancel-choir-rehearsal-3-2022-12-07/
LOCATION:50 Indian Trail Road\, Penn Laird\, VA\, 22846\, United States
END:VEVENT
BEGIN:VEVENT
DTSTART;TZID=America/New_York:20221207T073000
DTEND;TZID=America/New_York:20221207T083000
DTSTAMP:20260425T233531
CREATED:20220126T154646Z
LAST-MODIFIED:20230104T181709Z
UID:9445-1670398200-1670401800@massanuttenchurch.org
SUMMARY:Men's Prayer Group
DESCRIPTION:
URL:https://massanuttenchurch.org/event/mens-prayer-group-2-2022-12-07/
LOCATION:50 Indian Trail Road\, Penn Laird\, VA\, 22846\, United States
END:VEVENT
BEGIN:VEVENT
DTSTART;TZID=America/New_York:20221205T190000
DTEND;TZID=America/New_York:20221205T190000
DTSTAMP:20260425T233531
CREATED:20220914T170136Z
LAST-MODIFIED:20240115T154048Z
UID:10629-1670266800-1670266800@massanuttenchurch.org
SUMMARY:Massanutten Ringers
DESCRIPTION:
URL:https://massanuttenchurch.org/event/massanutten-ringers-2-2022-12-05/
LOCATION:50 Indian Trail Road\, Penn Laird\, VA\, 22846\, United States
END:VEVENT
BEGIN:VEVENT
DTSTART;TZID=America/New_York:20221204T180000
DTEND;TZID=America/New_York:20221204T200000
DTSTAMP:20260425T233531
CREATED:20220907T175428Z
LAST-MODIFIED:20230412T160701Z
UID:12042-1670176800-1670184000@massanuttenchurch.org
SUMMARY:Youth Group
DESCRIPTION:
URL:https://massanuttenchurch.org/event/youth-group-2-2022-12-04/
LOCATION:50 Indian Trail Road\, Penn Laird\, VA\, 22846\, United States
END:VEVENT
BEGIN:VEVENT
DTSTART;TZID=America/New_York:20221204T110000
DTEND;TZID=America/New_York:20221204T110000
DTSTAMP:20260425T233531
CREATED:20220907T175235Z
LAST-MODIFIED:20230412T160309Z
UID:10427-1670151600-1670151600@massanuttenchurch.org
SUMMARY:Godly Play
DESCRIPTION:
URL:https://massanuttenchurch.org/event/godly-play-2-2022-12-04/
LOCATION:50 Indian Trail Road\, Penn Laird\, VA\, 22846\, United States
END:VEVENT
BEGIN:VEVENT
DTSTART;TZID=America/New_York:20221204T103000
DTEND;TZID=America/New_York:20221204T113000
DTSTAMP:20260425T233531
CREATED:20210712T024206Z
LAST-MODIFIED:20230802T155203Z
UID:8345-1670149800-1670153400@massanuttenchurch.org
SUMMARY:Sunday Worship
DESCRIPTION:
URL:https://massanuttenchurch.org/event/sunday-worship-2-2022-12-04/
LOCATION:Sanctuary\, 50 Indian Trail Road\, Penn Laird\, 22846\, United States
END:VEVENT
BEGIN:VEVENT
DTSTART;TZID=America/New_York:20221204T100000
DTEND;TZID=America/New_York:20221204T102000
DTSTAMP:20260425T233531
CREATED:20220914T170704Z
LAST-MODIFIED:20230104T181957Z
UID:10656-1670148000-1670149200@massanuttenchurch.org
SUMMARY:Coffee Fellowship
DESCRIPTION:
URL:https://massanuttenchurch.org/event/coffee-fellowship-2022-12-04/
LOCATION:50 Indian Trail Road\, Penn Laird\, VA\, 22846\, United States
END:VEVENT
BEGIN:VEVENT
DTSTART;TZID=America/New_York:20221204T093000
DTEND;TZID=America/New_York:20221204T102000
DTSTAMP:20260425T233531
CREATED:20220910T174303Z
LAST-MODIFIED:20230503T182235Z
UID:10584-1670146200-1670149200@massanuttenchurch.org
SUMMARY:Parent Fellowship
DESCRIPTION:
URL:https://massanuttenchurch.org/event/parent-fellowship-2-2022-12-04/
LOCATION:50 Indian Trail Road\, Penn Laird\, VA\, 22846\, United States
END:VEVENT
BEGIN:VEVENT
DTSTART;TZID=America/New_York:20221204T093000
DTEND;TZID=America/New_York:20221204T102000
DTSTAMP:20260425T233531
CREATED:20220907T175133Z
LAST-MODIFIED:20230210T193339Z
UID:10390-1670146200-1670149200@massanuttenchurch.org
SUMMARY:Faith Village
DESCRIPTION:
URL:https://massanuttenchurch.org/event/faith-village-2022-12-04/
LOCATION:50 Indian Trail Road\, Penn Laird\, VA\, 22846\, United States
END:VEVENT
BEGIN:VEVENT
DTSTART;TZID=America/New_York:20221204T090000
DTEND;TZID=America/New_York:20221204T090000
DTSTAMP:20260425T233531
CREATED:20220907T172908Z
LAST-MODIFIED:20230517T153831Z
UID:10311-1670144400-1670144400@massanuttenchurch.org
SUMMARY:Faithful Conversations
DESCRIPTION:
URL:https://massanuttenchurch.org/event/faithful-conversations-2022-12-04/
LOCATION:Room 119\, United States
END:VEVENT
BEGIN:VEVENT
DTSTART;TZID=America/New_York:20221204T090000
DTEND;TZID=America/New_York:20221204T090000
DTSTAMP:20260425T233531
CREATED:20220907T172809Z
LAST-MODIFIED:20230517T153746Z
UID:10289-1670144400-1670144400@massanuttenchurch.org
SUMMARY:Covenant Class
DESCRIPTION:
URL:https://massanuttenchurch.org/event/covenant-class-2022-12-04/
LOCATION:Room 117
END:VEVENT
BEGIN:VEVENT
DTSTART;TZID=America/New_York:20221130T190000
DTEND;TZID=America/New_York:20221130T190000
DTSTAMP:20260425T233531
CREATED:20220525T163805Z
LAST-MODIFIED:20230518T144031Z
UID:10232-1669834800-1669834800@massanuttenchurch.org
SUMMARY:Chancel Choir Rehearsal
DESCRIPTION:
URL:https://massanuttenchurch.org/event/chancel-choir-rehearsal-3-2022-11-30/
LOCATION:50 Indian Trail Road\, Penn Laird\, VA\, 22846\, United States
END:VEVENT
BEGIN:VEVENT
DTSTART;TZID=America/New_York:20221130T073000
DTEND;TZID=America/New_York:20221130T083000
DTSTAMP:20260425T233531
CREATED:20220126T154646Z
LAST-MODIFIED:20230104T181709Z
UID:9444-1669793400-1669797000@massanuttenchurch.org
SUMMARY:Men's Prayer Group
DESCRIPTION:
URL:https://massanuttenchurch.org/event/mens-prayer-group-2-2022-11-30/
LOCATION:50 Indian Trail Road\, Penn Laird\, VA\, 22846\, United States
END:VEVENT
BEGIN:VEVENT
DTSTART;TZID=America/New_York:20221129T100000
DTEND;TZID=America/New_York:20221129T100000
DTSTAMP:20260425T233531
CREATED:20220907T174626Z
LAST-MODIFIED:20230118T195956Z
UID:11034-1669716000-1669716000@massanuttenchurch.org
SUMMARY:Presbyterian Women Coordinating Team Meeting
DESCRIPTION:
URL:https://massanuttenchurch.org/event/presbyterian-women-coordinating-team-meeting-2022-11-29/
LOCATION:Fellowship Hall
END:VEVENT
BEGIN:VEVENT
DTSTART;TZID=America/New_York:20221128T190000
DTEND;TZID=America/New_York:20221128T190000
DTSTAMP:20260425T233531
CREATED:20220914T170136Z
LAST-MODIFIED:20240115T154047Z
UID:10628-1669662000-1669662000@massanuttenchurch.org
SUMMARY:Massanutten Ringers
DESCRIPTION:
URL:https://massanuttenchurch.org/event/massanutten-ringers-2-2022-11-28/
LOCATION:50 Indian Trail Road\, Penn Laird\, VA\, 22846\, United States
END:VEVENT
BEGIN:VEVENT
DTSTART;TZID=America/New_York:20221127T103000
DTEND;TZID=America/New_York:20221127T113000
DTSTAMP:20260425T233531
CREATED:20210712T024206Z
LAST-MODIFIED:20230802T155203Z
UID:8344-1669545000-1669548600@massanuttenchurch.org
SUMMARY:Sunday Worship
DESCRIPTION:
URL:https://massanuttenchurch.org/event/sunday-worship-2-2022-11-27/
LOCATION:Sanctuary\, 50 Indian Trail Road\, Penn Laird\, 22846\, United States
END:VEVENT
BEGIN:VEVENT
DTSTART;TZID=America/New_York:20221127T090000
DTEND;TZID=America/New_York:20221127T090000
DTSTAMP:20260425T233531
CREATED:20220907T172908Z
LAST-MODIFIED:20230517T153831Z
UID:10310-1669539600-1669539600@massanuttenchurch.org
SUMMARY:Faithful Conversations
DESCRIPTION:
URL:https://massanuttenchurch.org/event/faithful-conversations-2022-11-27/
LOCATION:Room 119\, United States
END:VEVENT
BEGIN:VEVENT
DTSTART;TZID=America/New_York:20221127T090000
DTEND;TZID=America/New_York:20221127T090000
DTSTAMP:20260425T233531
CREATED:20220907T172809Z
LAST-MODIFIED:20230517T153745Z
UID:10288-1669539600-1669539600@massanuttenchurch.org
SUMMARY:Covenant Class
DESCRIPTION:
URL:https://massanuttenchurch.org/event/covenant-class-2022-11-27/
LOCATION:Room 117
END:VEVENT
BEGIN:VEVENT
DTSTART;TZID=America/New_York:20221123T190000
DTEND;TZID=America/New_York:20221123T190000
DTSTAMP:20260425T233531
CREATED:20220525T163805Z
LAST-MODIFIED:20230518T144030Z
UID:10231-1669230000-1669230000@massanuttenchurch.org
SUMMARY:Chancel Choir Rehearsal
DESCRIPTION:
URL:https://massanuttenchurch.org/event/chancel-choir-rehearsal-3-2022-11-23/
LOCATION:50 Indian Trail Road\, Penn Laird\, VA\, 22846\, United States
END:VEVENT
BEGIN:VEVENT
DTSTART;TZID=America/New_York:20221123T073000
DTEND;TZID=America/New_York:20221123T083000
DTSTAMP:20260425T233531
CREATED:20220126T154646Z
LAST-MODIFIED:20230104T181708Z
UID:9443-1669188600-1669192200@massanuttenchurch.org
SUMMARY:Men's Prayer Group
DESCRIPTION:
URL:https://massanuttenchurch.org/event/mens-prayer-group-2-2022-11-23/
LOCATION:50 Indian Trail Road\, Penn Laird\, VA\, 22846\, United States
END:VEVENT
END:VCALENDAR