BEGIN:VCALENDAR
VERSION:2.0
PRODID:-//Massanutten Presbyterian Church - ECPv6.15.20//NONSGML v1.0//EN
CALSCALE:GREGORIAN
METHOD:PUBLISH
X-WR-CALNAME:Massanutten Presbyterian Church
X-ORIGINAL-URL:https://massanuttenchurch.org
X-WR-CALDESC:Events for Massanutten Presbyterian Church
REFRESH-INTERVAL;VALUE=DURATION:PT1H
X-Robots-Tag:noindex
X-PUBLISHED-TTL:PT1H
BEGIN:VTIMEZONE
TZID:America/New_York
BEGIN:DAYLIGHT
TZOFFSETFROM:-0500
TZOFFSETTO:-0400
TZNAME:EDT
DTSTART:20240310T070000
END:DAYLIGHT
BEGIN:STANDARD
TZOFFSETFROM:-0400
TZOFFSETTO:-0500
TZNAME:EST
DTSTART:20241103T060000
END:STANDARD
BEGIN:DAYLIGHT
TZOFFSETFROM:-0500
TZOFFSETTO:-0400
TZNAME:EDT
DTSTART:20250309T070000
END:DAYLIGHT
BEGIN:STANDARD
TZOFFSETFROM:-0400
TZOFFSETTO:-0500
TZNAME:EST
DTSTART:20251102T060000
END:STANDARD
BEGIN:DAYLIGHT
TZOFFSETFROM:-0500
TZOFFSETTO:-0400
TZNAME:EDT
DTSTART:20260308T070000
END:DAYLIGHT
BEGIN:STANDARD
TZOFFSETFROM:-0400
TZOFFSETTO:-0500
TZNAME:EST
DTSTART:20261101T060000
END:STANDARD
END:VTIMEZONE
BEGIN:VTIMEZONE
TZID:UTC
BEGIN:STANDARD
TZOFFSETFROM:+0000
TZOFFSETTO:+0000
TZNAME:UTC
DTSTART:20240101T000000
END:STANDARD
END:VTIMEZONE
BEGIN:VEVENT
DTSTART;TZID=America/New_York:20250914T093000
DTEND;TZID=America/New_York:20250914T102000
DTSTAMP:20260425T113545
CREATED:20250904T135455Z
LAST-MODIFIED:20250904T135455Z
UID:14953-1757842200-1757845200@massanuttenchurch.org
SUMMARY:Middle School Sunday School
DESCRIPTION:
URL:https://massanuttenchurch.org/event/middle-school-sunday-school/
END:VEVENT
BEGIN:VEVENT
DTSTART;TZID=America/New_York:20250914T093000
DTEND;TZID=America/New_York:20250914T102000
DTSTAMP:20260425T113545
CREATED:20250904T133444Z
LAST-MODIFIED:20250904T133444Z
UID:14889-1757842200-1757845200@massanuttenchurch.org
SUMMARY:Faith Village
DESCRIPTION:
URL:https://massanuttenchurch.org/event/faith-village-3/
END:VEVENT
BEGIN:VEVENT
DTSTART;TZID=America/New_York:20250914T090000
DTEND;TZID=America/New_York:20250914T100000
DTSTAMP:20260425T113545
CREATED:20250910T154824Z
LAST-MODIFIED:20250910T154824Z
UID:15432-1757840400-1757844000@massanuttenchurch.org
SUMMARY:Faithful Conversations
DESCRIPTION:
URL:https://massanuttenchurch.org/event/faithful-conversations-4/
LOCATION:Room 119\, United States
END:VEVENT
BEGIN:VEVENT
DTSTART;TZID=America/New_York:20250914T090000
DTEND;TZID=America/New_York:20250914T100000
DTSTAMP:20260425T113545
CREATED:20250910T150335Z
LAST-MODIFIED:20250910T150335Z
UID:15361-1757840400-1757844000@massanuttenchurch.org
SUMMARY:Covenant Class
DESCRIPTION:
URL:https://massanuttenchurch.org/event/covenant-class-4/
LOCATION:Room 117
END:VEVENT
BEGIN:VEVENT
DTSTART;TZID=America/New_York:20250911T190000
DTEND;TZID=America/New_York:20250911T200000
DTSTAMP:20260425T113545
CREATED:20230321T123715Z
LAST-MODIFIED:20230321T123715Z
UID:12957-1757617200-1757620800@massanuttenchurch.org
SUMMARY:Food Pantry
DESCRIPTION:
URL:https://massanuttenchurch.org/event/food-pantry-2025-09-11/
LOCATION:50 Indian Trail Road\, Penn Laird\, VA\, 22846\, United States
END:VEVENT
BEGIN:VEVENT
DTSTART;TZID=America/New_York:20250910T190000
DTEND;TZID=America/New_York:20250910T190000
DTSTAMP:20260425T113545
CREATED:20250813T141814Z
LAST-MODIFIED:20250813T141814Z
UID:14817-1757530800-1757530800@massanuttenchurch.org
SUMMARY:Chancel Choir Rehearsal
DESCRIPTION:
URL:https://massanuttenchurch.org/event/chancel-choir-rehearsal-48/
LOCATION:Choir Room\, 50 Indian Trail Road\, Penn Laird\, 22846\, United States
END:VEVENT
BEGIN:VEVENT
DTSTART;TZID=America/New_York:20250908T100000
DTEND;TZID=America/New_York:20250908T110000
DTSTAMP:20260425T113545
CREATED:20230321T123715Z
LAST-MODIFIED:20230321T123715Z
UID:12812-1757325600-1757329200@massanuttenchurch.org
SUMMARY:Food Pantry
DESCRIPTION:
URL:https://massanuttenchurch.org/event/food-pantry-2025-09-08/
LOCATION:50 Indian Trail Road\, Penn Laird\, VA\, 22846\, United States
END:VEVENT
BEGIN:VEVENT
DTSTART;TZID=America/New_York:20250907T090000
DTEND;TZID=America/New_York:20250907T100000
DTSTAMP:20260425T113545
CREATED:20250910T154801Z
LAST-MODIFIED:20250910T154801Z
UID:15430-1757235600-1757239200@massanuttenchurch.org
SUMMARY:Faithful Conversations
DESCRIPTION:
URL:https://massanuttenchurch.org/event/faithful-conversations-3/
LOCATION:Room 119\, United States
END:VEVENT
BEGIN:VEVENT
DTSTART;TZID=America/New_York:20250907T090000
DTEND;TZID=America/New_York:20250907T100000
DTSTAMP:20260425T113545
CREATED:20250910T150308Z
LAST-MODIFIED:20250910T150308Z
UID:15359-1757235600-1757239200@massanuttenchurch.org
SUMMARY:Covenant Class
DESCRIPTION:
URL:https://massanuttenchurch.org/event/covenant-class-3/
LOCATION:Room 117
END:VEVENT
BEGIN:VEVENT
DTSTART;TZID=America/New_York:20250903T190000
DTEND;TZID=America/New_York:20250903T190000
DTSTAMP:20260425T113545
CREATED:20250813T141752Z
LAST-MODIFIED:20250813T141752Z
UID:14815-1756926000-1756926000@massanuttenchurch.org
SUMMARY:Chancel Choir Rehearsal
DESCRIPTION:
URL:https://massanuttenchurch.org/event/chancel-choir-rehearsal-47/
LOCATION:Choir Room\, 50 Indian Trail Road\, Penn Laird\, 22846\, United States
END:VEVENT
BEGIN:VEVENT
DTSTART;TZID=America/New_York:20250827T190000
DTEND;TZID=America/New_York:20250827T190000
DTSTAMP:20260425T113545
CREATED:20250813T141705Z
LAST-MODIFIED:20250813T141705Z
UID:14813-1756321200-1756321200@massanuttenchurch.org
SUMMARY:Chancel Choir Rehearsal
DESCRIPTION:
URL:https://massanuttenchurch.org/event/chancel-choir-rehearsal-46/
LOCATION:Choir Room\, 50 Indian Trail Road\, Penn Laird\, 22846\, United States
END:VEVENT
BEGIN:VEVENT
DTSTART;TZID=America/New_York:20250820T190000
DTEND;TZID=America/New_York:20250820T190000
DTSTAMP:20260425T113545
CREATED:20250813T141606Z
LAST-MODIFIED:20250813T141606Z
UID:14811-1755716400-1755716400@massanuttenchurch.org
SUMMARY:Chancel Choir Rehearsal
DESCRIPTION:
URL:https://massanuttenchurch.org/event/chancel-choir-rehearsal-5/
LOCATION:Choir Room\, 50 Indian Trail Road\, Penn Laird\, 22846\, United States
END:VEVENT
BEGIN:VEVENT
DTSTART;TZID=UTC:20250817T120000
DTEND;TZID=UTC:20250817T120000
DTSTAMP:20260425T113545
CREATED:20170425T032515Z
LAST-MODIFIED:20250714T152639Z
UID:12427-1755432000-1755432000@massanuttenchurch.org
SUMMARY:Session Meeting
DESCRIPTION:Session Meeting
URL:https://massanuttenchurch.org/event/session-meeting-2025-08-17/
LOCATION:Fellowship Hall
END:VEVENT
BEGIN:VEVENT
DTSTART;TZID=America/New_York:20250814T190000
DTEND;TZID=America/New_York:20250814T200000
DTSTAMP:20260425T113545
CREATED:20230321T123715Z
LAST-MODIFIED:20230321T123715Z
UID:12813-1755198000-1755201600@massanuttenchurch.org
SUMMARY:Food Pantry
DESCRIPTION:
URL:https://massanuttenchurch.org/event/food-pantry-2025-08-14/
LOCATION:50 Indian Trail Road\, Penn Laird\, VA\, 22846\, United States
END:VEVENT
BEGIN:VEVENT
DTSTART;TZID=America/New_York:20250720T133000
DTEND;TZID=America/New_York:20250720T133000
DTSTAMP:20260425T113545
CREATED:20250714T152952Z
LAST-MODIFIED:20250714T152952Z
UID:14784-1753018200-1753018200@massanuttenchurch.org
SUMMARY:A Conversation with Cindy Corell
DESCRIPTION:
URL:https://massanuttenchurch.org/event/a-conversation-with-cindy-corell/
END:VEVENT
BEGIN:VEVENT
DTSTART;TZID=America/New_York:20250720T113000
DTEND;TZID=America/New_York:20250720T113000
DTSTAMP:20260425T113545
CREATED:20250714T152905Z
LAST-MODIFIED:20250714T153057Z
UID:14782-1753011000-1753011000@massanuttenchurch.org
SUMMARY:Annual Church Picnic
DESCRIPTION:
URL:https://massanuttenchurch.org/event/annual-church-picnic/
LOCATION:Picnic Shelter\, 50 Indian Trail Road\, Penn Laird\, VA\, 22846\, United States
END:VEVENT
BEGIN:VEVENT
DTSTART;TZID=America/New_York:20250714T100000
DTEND;TZID=America/New_York:20250714T110000
DTSTAMP:20260425T113545
CREATED:20230321T123715Z
LAST-MODIFIED:20230321T123715Z
UID:12300-1752487200-1752490800@massanuttenchurch.org
SUMMARY:Food Pantry
DESCRIPTION:
URL:https://massanuttenchurch.org/event/food-pantry-2025-07-14/
LOCATION:50 Indian Trail Road\, Penn Laird\, VA\, 22846\, United States
END:VEVENT
BEGIN:VEVENT
DTSTART;TZID=America/New_York:20250710T190000
DTEND;TZID=America/New_York:20250710T200000
DTSTAMP:20260425T113545
CREATED:20230321T123715Z
LAST-MODIFIED:20230321T123715Z
UID:12302-1752174000-1752177600@massanuttenchurch.org
SUMMARY:Food Pantry
DESCRIPTION:
URL:https://massanuttenchurch.org/event/food-pantry-2025-07-10/
LOCATION:50 Indian Trail Road\, Penn Laird\, VA\, 22846\, United States
END:VEVENT
BEGIN:VEVENT
DTSTART;VALUE=DATE:20250703
DTEND;VALUE=DATE:20250704
DTSTAMP:20260425T113545
CREATED:20250625T140007Z
LAST-MODIFIED:20250625T140007Z
UID:14753-1751500800-1751587199@massanuttenchurch.org
SUMMARY:Office Closed
DESCRIPTION:
URL:https://massanuttenchurch.org/event/office-closed/
END:VEVENT
BEGIN:VEVENT
DTSTART;TZID=America/New_York:20250628T070000
DTEND;TZID=America/New_York:20250628T130000
DTSTAMP:20260425T113545
CREATED:20250611T150128Z
LAST-MODIFIED:20250611T150128Z
UID:14714-1751094000-1751115600@massanuttenchurch.org
SUMMARY:Yard\, Book\, & Bake Sale
DESCRIPTION:
URL:https://massanuttenchurch.org/event/yard-book-bake-sale/
END:VEVENT
BEGIN:VEVENT
DTSTART;TZID=UTC:20250615T183000
DTEND;TZID=UTC:20250615T203000
DTSTAMP:20260425T113545
CREATED:20170425T032515Z
LAST-MODIFIED:20230822T121259Z
UID:12228-1750012200-1750019400@massanuttenchurch.org
SUMMARY:Session Meeting
DESCRIPTION:Session Meeting
URL:https://massanuttenchurch.org/event/session-meeting-2025-06-15/
LOCATION:Fellowship Hall
END:VEVENT
BEGIN:VEVENT
DTSTART;TZID=America/New_York:20250612T190000
DTEND;TZID=America/New_York:20250612T200000
DTSTAMP:20260425T113545
CREATED:20230321T123715Z
LAST-MODIFIED:20230321T123715Z
UID:12301-1749754800-1749758400@massanuttenchurch.org
SUMMARY:Food Pantry
DESCRIPTION:
URL:https://massanuttenchurch.org/event/food-pantry-2025-06-12/
LOCATION:50 Indian Trail Road\, Penn Laird\, VA\, 22846\, United States
END:VEVENT
BEGIN:VEVENT
DTSTART;TZID=UTC:20250518T120000
DTEND;TZID=UTC:20250518T120000
DTSTAMP:20260425T113545
CREATED:20170425T032515Z
LAST-MODIFIED:20240828T161727Z
UID:12178-1747569600-1747569600@massanuttenchurch.org
SUMMARY:Session Meeting
DESCRIPTION:Session Meeting
URL:https://massanuttenchurch.org/event/session-meeting-2025-05-18/
LOCATION:Fellowship Hall
END:VEVENT
BEGIN:VEVENT
DTSTART;TZID=America/New_York:20250514T190000
DTEND;TZID=America/New_York:20250514T190000
DTSTAMP:20260425T113545
CREATED:20250319T171641Z
LAST-MODIFIED:20250319T171641Z
UID:14370-1747249200-1747249200@massanuttenchurch.org
SUMMARY:Chancel Choir Rehearsal
DESCRIPTION:
URL:https://massanuttenchurch.org/event/chancel-choir-rehearsal-45/
LOCATION:Choir Room\, 50 Indian Trail Road\, Penn Laird\, 22846\, United States
END:VEVENT
BEGIN:VEVENT
DTSTART;TZID=America/New_York:20250512T100000
DTEND;TZID=America/New_York:20250512T110000
DTSTAMP:20260425T113545
CREATED:20230321T123715Z
LAST-MODIFIED:20230321T123715Z
UID:12146-1747044000-1747047600@massanuttenchurch.org
SUMMARY:Food Pantry
DESCRIPTION:
URL:https://massanuttenchurch.org/event/food-pantry-2025-05-12/
LOCATION:50 Indian Trail Road\, Penn Laird\, VA\, 22846\, United States
END:VEVENT
BEGIN:VEVENT
DTSTART;TZID=America/New_York:20250508T190000
DTEND;TZID=America/New_York:20250508T200000
DTSTAMP:20260425T113545
CREATED:20230321T123715Z
LAST-MODIFIED:20230321T123715Z
UID:12147-1746730800-1746734400@massanuttenchurch.org
SUMMARY:Food Pantry
DESCRIPTION:
URL:https://massanuttenchurch.org/event/food-pantry-2025-05-08/
LOCATION:50 Indian Trail Road\, Penn Laird\, VA\, 22846\, United States
END:VEVENT
BEGIN:VEVENT
DTSTART;TZID=America/New_York:20250507T190000
DTEND;TZID=America/New_York:20250507T190000
DTSTAMP:20260425T113545
CREATED:20250319T171521Z
LAST-MODIFIED:20250319T171521Z
UID:14368-1746644400-1746644400@massanuttenchurch.org
SUMMARY:Chancel Choir Rehearsal
DESCRIPTION:
URL:https://massanuttenchurch.org/event/chancel-choir-rehearsal-44/
LOCATION:Choir Room\, 50 Indian Trail Road\, Penn Laird\, 22846\, United States
END:VEVENT
BEGIN:VEVENT
DTSTART;TZID=America/New_York:20250430T190000
DTEND;TZID=America/New_York:20250430T190000
DTSTAMP:20260425T113545
CREATED:20250319T171441Z
LAST-MODIFIED:20250319T171441Z
UID:14366-1746039600-1746039600@massanuttenchurch.org
SUMMARY:Chancel Choir Rehearsal
DESCRIPTION:
URL:https://massanuttenchurch.org/event/chancel-choir-rehearsal-43/
LOCATION:Choir Room\, 50 Indian Trail Road\, Penn Laird\, 22846\, United States
END:VEVENT
BEGIN:VEVENT
DTSTART;TZID=UTC:20250420T120000
DTEND;TZID=UTC:20250420T120000
DTSTAMP:20260425T113545
CREATED:20170425T032515Z
LAST-MODIFIED:20240828T161718Z
UID:12091-1745150400-1745150400@massanuttenchurch.org
SUMMARY:Session Meeting
DESCRIPTION:Session Meeting
URL:https://massanuttenchurch.org/event/session-meeting-2025-04-20/
LOCATION:Fellowship Hall
END:VEVENT
BEGIN:VEVENT
DTSTART;TZID=America/New_York:20250414T100000
DTEND;TZID=America/New_York:20250414T110000
DTSTAMP:20260425T113545
CREATED:20230321T123715Z
LAST-MODIFIED:20230321T123715Z
UID:12085-1744624800-1744628400@massanuttenchurch.org
SUMMARY:Food Pantry
DESCRIPTION:
URL:https://massanuttenchurch.org/event/food-pantry-2025-04-14/
LOCATION:50 Indian Trail Road\, Penn Laird\, VA\, 22846\, United States
END:VEVENT
END:VCALENDAR