BEGIN:VCALENDAR
VERSION:2.0
PRODID:-//Massanutten Presbyterian Church - ECPv6.15.20//NONSGML v1.0//EN
CALSCALE:GREGORIAN
METHOD:PUBLISH
X-WR-CALNAME:Massanutten Presbyterian Church
X-ORIGINAL-URL:https://massanuttenchurch.org
X-WR-CALDESC:Events for Massanutten Presbyterian Church
REFRESH-INTERVAL;VALUE=DURATION:PT1H
X-Robots-Tag:noindex
X-PUBLISHED-TTL:PT1H
BEGIN:VTIMEZONE
TZID:America/New_York
BEGIN:DAYLIGHT
TZOFFSETFROM:-0500
TZOFFSETTO:-0400
TZNAME:EDT
DTSTART:20230312T070000
END:DAYLIGHT
BEGIN:STANDARD
TZOFFSETFROM:-0400
TZOFFSETTO:-0500
TZNAME:EST
DTSTART:20231105T060000
END:STANDARD
BEGIN:DAYLIGHT
TZOFFSETFROM:-0500
TZOFFSETTO:-0400
TZNAME:EDT
DTSTART:20240310T070000
END:DAYLIGHT
BEGIN:STANDARD
TZOFFSETFROM:-0400
TZOFFSETTO:-0500
TZNAME:EST
DTSTART:20241103T060000
END:STANDARD
BEGIN:DAYLIGHT
TZOFFSETFROM:-0500
TZOFFSETTO:-0400
TZNAME:EDT
DTSTART:20250309T070000
END:DAYLIGHT
BEGIN:STANDARD
TZOFFSETFROM:-0400
TZOFFSETTO:-0500
TZNAME:EST
DTSTART:20251102T060000
END:STANDARD
END:VTIMEZONE
BEGIN:VEVENT
DTSTART;TZID=America/New_York:20240512T180000
DTEND;TZID=America/New_York:20240512T180000
DTSTAMP:20260425T123419
CREATED:20230830T161207Z
LAST-MODIFIED:20230830T161207Z
UID:12640-1715536800-1715536800@massanuttenchurch.org
SUMMARY:Youth Group
DESCRIPTION:
URL:https://massanuttenchurch.org/event/youth-group-3-2024-05-12/
LOCATION:50 Indian Trail Road\, Penn Laird\, VA\, 22846\, United States
END:VEVENT
BEGIN:VEVENT
DTSTART;TZID=America/New_York:20240512T170000
DTEND;TZID=America/New_York:20240512T170000
DTSTAMP:20260425T123419
CREATED:20220907T175517Z
LAST-MODIFIED:20240212T143405Z
UID:13280-1715533200-1715533200@massanuttenchurch.org
SUMMARY:Fun With Handbells
DESCRIPTION:
URL:https://massanuttenchurch.org/event/fun-with-handbells-2-2024-05-12/
LOCATION:50 Indian Trail Road\, Penn Laird\, VA\, 22846\, United States
END:VEVENT
BEGIN:VEVENT
DTSTART;TZID=America/New_York:20240512T104500
DTEND;TZID=America/New_York:20240512T111500
DTSTAMP:20260425T123419
CREATED:20230830T154529Z
LAST-MODIFIED:20230830T154529Z
UID:12877-1715510700-1715512500@massanuttenchurch.org
SUMMARY:Godly Play
DESCRIPTION:
URL:https://massanuttenchurch.org/event/godly-play-3-2024-05-12/
LOCATION:50 Indian Trail Road\, Penn Laird\, VA\, 22846\, United States
END:VEVENT
BEGIN:VEVENT
DTSTART;TZID=America/New_York:20240512T103000
DTEND;TZID=America/New_York:20240512T113000
DTSTAMP:20260425T123419
CREATED:20210712T024206Z
LAST-MODIFIED:20230802T165051Z
UID:11323-1715509800-1715513400@massanuttenchurch.org
SUMMARY:Sunday Worship
DESCRIPTION:
URL:https://massanuttenchurch.org/event/sunday-worship-2-2024-05-12/
LOCATION:Sanctuary\, 50 Indian Trail Road\, Penn Laird\, 22846\, United States
END:VEVENT
BEGIN:VEVENT
DTSTART;TZID=America/New_York:20240512T093000
DTEND;TZID=America/New_York:20240512T102000
DTSTAMP:20260425T123419
CREATED:20230830T185524Z
LAST-MODIFIED:20230925T131548Z
UID:12781-1715506200-1715509200@massanuttenchurch.org
SUMMARY:High School Breakfast
DESCRIPTION:
URL:https://massanuttenchurch.org/event/high-school-breakfast-3-2024-05-12/
LOCATION:50 Indian Trail Road\, Penn Laird\, VA\, 22846\, United States
END:VEVENT
BEGIN:VEVENT
DTSTART;TZID=America/New_York:20240512T090000
DTEND;TZID=America/New_York:20240512T100000
DTSTAMP:20260425T123419
CREATED:20230830T170330Z
LAST-MODIFIED:20231206T185134Z
UID:12736-1715504400-1715508000@massanuttenchurch.org
SUMMARY:Faithful Conversations
DESCRIPTION:
URL:https://massanuttenchurch.org/event/faithful-conversations-2-2024-05-12/
LOCATION:Room 119\, United States
END:VEVENT
BEGIN:VEVENT
DTSTART;TZID=America/New_York:20240512T090000
DTEND;TZID=America/New_York:20240512T100000
DTSTAMP:20260425T123419
CREATED:20230830T170048Z
LAST-MODIFIED:20231206T182706Z
UID:12742-1715504400-1715508000@massanuttenchurch.org
SUMMARY:Covenant Class
DESCRIPTION:
URL:https://massanuttenchurch.org/event/covenant-class-2-2024-05-12/
LOCATION:Room 117
END:VEVENT
BEGIN:VEVENT
DTSTART;TZID=America/New_York:20240509T190000
DTEND;TZID=America/New_York:20240509T200000
DTSTAMP:20260425T123419
CREATED:20230321T123715Z
LAST-MODIFIED:20230321T123715Z
UID:11924-1715281200-1715284800@massanuttenchurch.org
SUMMARY:Food Pantry
DESCRIPTION:
URL:https://massanuttenchurch.org/event/food-pantry-2024-05-09/
LOCATION:50 Indian Trail Road\, Penn Laird\, VA\, 22846\, United States
END:VEVENT
BEGIN:VEVENT
DTSTART;TZID=America/New_York:20240508T190000
DTEND;TZID=America/New_York:20240508T190000
DTSTAMP:20260425T123419
CREATED:20230817T140504Z
LAST-MODIFIED:20231115T172201Z
UID:12416-1715194800-1715194800@massanuttenchurch.org
SUMMARY:Chancel Choir Rehearsal
DESCRIPTION:
URL:https://massanuttenchurch.org/event/chancel-choir-rehearsal-4-2024-05-08/
LOCATION:50 Indian Trail Road\, Penn Laird\, VA\, 22846\, United States
END:VEVENT
BEGIN:VEVENT
DTSTART;TZID=America/New_York:20240506T190000
DTEND;TZID=America/New_York:20240506T190000
DTSTAMP:20260425T123419
CREATED:20220914T170136Z
LAST-MODIFIED:20240115T154115Z
UID:13261-1715022000-1715022000@massanuttenchurch.org
SUMMARY:Massanutten Ringers
DESCRIPTION:
URL:https://massanuttenchurch.org/event/massanutten-ringers-2-2024-05-06/
LOCATION:50 Indian Trail Road\, Penn Laird\, VA\, 22846\, United States
END:VEVENT
BEGIN:VEVENT
DTSTART;TZID=America/New_York:20240505T180000
DTEND;TZID=America/New_York:20240505T180000
DTSTAMP:20260425T123419
CREATED:20230830T161207Z
LAST-MODIFIED:20230830T161207Z
UID:12639-1714932000-1714932000@massanuttenchurch.org
SUMMARY:Youth Group
DESCRIPTION:
URL:https://massanuttenchurch.org/event/youth-group-3-2024-05-05/
LOCATION:50 Indian Trail Road\, Penn Laird\, VA\, 22846\, United States
END:VEVENT
BEGIN:VEVENT
DTSTART;TZID=America/New_York:20240505T170000
DTEND;TZID=America/New_York:20240505T170000
DTSTAMP:20260425T123419
CREATED:20220907T175517Z
LAST-MODIFIED:20240212T143405Z
UID:13279-1714928400-1714928400@massanuttenchurch.org
SUMMARY:Fun With Handbells
DESCRIPTION:
URL:https://massanuttenchurch.org/event/fun-with-handbells-2-2024-05-05/
LOCATION:50 Indian Trail Road\, Penn Laird\, VA\, 22846\, United States
END:VEVENT
BEGIN:VEVENT
DTSTART;TZID=America/New_York:20240505T104500
DTEND;TZID=America/New_York:20240505T111500
DTSTAMP:20260425T123419
CREATED:20230830T154529Z
LAST-MODIFIED:20230830T154529Z
UID:12876-1714905900-1714907700@massanuttenchurch.org
SUMMARY:Godly Play
DESCRIPTION:
URL:https://massanuttenchurch.org/event/godly-play-3-2024-05-05/
LOCATION:50 Indian Trail Road\, Penn Laird\, VA\, 22846\, United States
END:VEVENT
BEGIN:VEVENT
DTSTART;TZID=America/New_York:20240505T103000
DTEND;TZID=America/New_York:20240505T113000
DTSTAMP:20260425T123419
CREATED:20230802T154450Z
LAST-MODIFIED:20230802T154450Z
UID:12333-1714905000-1714908600@massanuttenchurch.org
SUMMARY:Sunday Worship with Communion
DESCRIPTION:
URL:https://massanuttenchurch.org/event/sunday-worship-with-communion-2024-05-05/
END:VEVENT
BEGIN:VEVENT
DTSTART;TZID=America/New_York:20240505T100000
DTEND;TZID=America/New_York:20240505T103000
DTSTAMP:20260425T123419
CREATED:20230927T155526Z
LAST-MODIFIED:20230927T155559Z
UID:12919-1714903200-1714905000@massanuttenchurch.org
SUMMARY:Coffee Fellowship
DESCRIPTION:
URL:https://massanuttenchurch.org/event/coffee-fellowship-2-2024-05-05/
LOCATION:50 Indian Trail Road\, Penn Laird\, VA\, 22846\, United States
END:VEVENT
BEGIN:VEVENT
DTSTART;TZID=America/New_York:20240505T093000
DTEND;TZID=America/New_York:20240505T102000
DTSTAMP:20260425T123419
CREATED:20230830T185524Z
LAST-MODIFIED:20230925T131548Z
UID:12780-1714901400-1714904400@massanuttenchurch.org
SUMMARY:High School Breakfast
DESCRIPTION:
URL:https://massanuttenchurch.org/event/high-school-breakfast-3-2024-05-05/
LOCATION:50 Indian Trail Road\, Penn Laird\, VA\, 22846\, United States
END:VEVENT
BEGIN:VEVENT
DTSTART;TZID=America/New_York:20240505T093000
DTEND;TZID=America/New_York:20240505T102000
DTSTAMP:20260425T123419
CREATED:20230828T153941Z
LAST-MODIFIED:20240221T145905Z
UID:12506-1714901400-1714904400@massanuttenchurch.org
SUMMARY:Parent Fellowship
DESCRIPTION:
URL:https://massanuttenchurch.org/event/parent-fellowship-3-2024-05-05/
END:VEVENT
BEGIN:VEVENT
DTSTART;TZID=America/New_York:20240505T093000
DTEND;TZID=America/New_York:20240505T102000
DTSTAMP:20260425T123419
CREATED:20230828T153531Z
LAST-MODIFIED:20230828T153531Z
UID:12478-1714901400-1714904400@massanuttenchurch.org
SUMMARY:Faith Village
DESCRIPTION:
URL:https://massanuttenchurch.org/event/faith-village-2-2024-05-05/
LOCATION:50 Indian Trail Road\, Penn Laird\, VA\, 22846\, United States
END:VEVENT
BEGIN:VEVENT
DTSTART;TZID=America/New_York:20240505T090000
DTEND;TZID=America/New_York:20240505T100000
DTSTAMP:20260425T123419
CREATED:20230830T170330Z
LAST-MODIFIED:20231206T185134Z
UID:12735-1714899600-1714903200@massanuttenchurch.org
SUMMARY:Faithful Conversations
DESCRIPTION:
URL:https://massanuttenchurch.org/event/faithful-conversations-2-2024-05-05/
LOCATION:Room 119\, United States
END:VEVENT
BEGIN:VEVENT
DTSTART;TZID=America/New_York:20240505T090000
DTEND;TZID=America/New_York:20240505T100000
DTSTAMP:20260425T123419
CREATED:20230830T170048Z
LAST-MODIFIED:20231206T182706Z
UID:12741-1714899600-1714903200@massanuttenchurch.org
SUMMARY:Covenant Class
DESCRIPTION:
URL:https://massanuttenchurch.org/event/covenant-class-2-2024-05-05/
LOCATION:Room 117
END:VEVENT
BEGIN:VEVENT
DTSTART;TZID=America/New_York:20240501T190000
DTEND;TZID=America/New_York:20240501T190000
DTSTAMP:20260425T123419
CREATED:20230817T140504Z
LAST-MODIFIED:20231115T172200Z
UID:12415-1714590000-1714590000@massanuttenchurch.org
SUMMARY:Chancel Choir Rehearsal
DESCRIPTION:
URL:https://massanuttenchurch.org/event/chancel-choir-rehearsal-4-2024-05-01/
LOCATION:50 Indian Trail Road\, Penn Laird\, VA\, 22846\, United States
END:VEVENT
BEGIN:VEVENT
DTSTART;TZID=America/New_York:20240429T190000
DTEND;TZID=America/New_York:20240429T190000
DTSTAMP:20260425T123419
CREATED:20220914T170136Z
LAST-MODIFIED:20240115T154115Z
UID:13260-1714417200-1714417200@massanuttenchurch.org
SUMMARY:Massanutten Ringers
DESCRIPTION:
URL:https://massanuttenchurch.org/event/massanutten-ringers-2-2024-04-29/
LOCATION:50 Indian Trail Road\, Penn Laird\, VA\, 22846\, United States
END:VEVENT
BEGIN:VEVENT
DTSTART;TZID=America/New_York:20240428T180000
DTEND;TZID=America/New_York:20240428T180000
DTSTAMP:20260425T123419
CREATED:20230830T161207Z
LAST-MODIFIED:20230830T161207Z
UID:12638-1714327200-1714327200@massanuttenchurch.org
SUMMARY:Youth Group
DESCRIPTION:
URL:https://massanuttenchurch.org/event/youth-group-3-2024-04-28/
LOCATION:50 Indian Trail Road\, Penn Laird\, VA\, 22846\, United States
END:VEVENT
BEGIN:VEVENT
DTSTART;TZID=America/New_York:20240428T170000
DTEND;TZID=America/New_York:20240428T170000
DTSTAMP:20260425T123419
CREATED:20220907T175517Z
LAST-MODIFIED:20240212T143405Z
UID:13278-1714323600-1714323600@massanuttenchurch.org
SUMMARY:Fun With Handbells
DESCRIPTION:
URL:https://massanuttenchurch.org/event/fun-with-handbells-2-2024-04-28/
LOCATION:50 Indian Trail Road\, Penn Laird\, VA\, 22846\, United States
END:VEVENT
BEGIN:VEVENT
DTSTART;TZID=America/New_York:20240428T104500
DTEND;TZID=America/New_York:20240428T111500
DTSTAMP:20260425T123419
CREATED:20230830T154529Z
LAST-MODIFIED:20230830T154529Z
UID:12875-1714301100-1714302900@massanuttenchurch.org
SUMMARY:Godly Play
DESCRIPTION:
URL:https://massanuttenchurch.org/event/godly-play-3-2024-04-28/
LOCATION:50 Indian Trail Road\, Penn Laird\, VA\, 22846\, United States
END:VEVENT
BEGIN:VEVENT
DTSTART;TZID=America/New_York:20240428T103000
DTEND;TZID=America/New_York:20240428T113000
DTSTAMP:20260425T123419
CREATED:20210712T024206Z
LAST-MODIFIED:20230802T165051Z
UID:11321-1714300200-1714303800@massanuttenchurch.org
SUMMARY:Sunday Worship
DESCRIPTION:
URL:https://massanuttenchurch.org/event/sunday-worship-2-2024-04-28/
LOCATION:Sanctuary\, 50 Indian Trail Road\, Penn Laird\, 22846\, United States
END:VEVENT
BEGIN:VEVENT
DTSTART;TZID=America/New_York:20240428T093000
DTEND;TZID=America/New_York:20240428T102000
DTSTAMP:20260425T123419
CREATED:20230830T185524Z
LAST-MODIFIED:20230925T131547Z
UID:12779-1714296600-1714299600@massanuttenchurch.org
SUMMARY:High School Breakfast
DESCRIPTION:
URL:https://massanuttenchurch.org/event/high-school-breakfast-3-2024-04-28/
LOCATION:50 Indian Trail Road\, Penn Laird\, VA\, 22846\, United States
END:VEVENT
BEGIN:VEVENT
DTSTART;TZID=America/New_York:20240428T093000
DTEND;TZID=America/New_York:20240428T102000
DTSTAMP:20260425T123419
CREATED:20230828T153941Z
LAST-MODIFIED:20240221T145900Z
UID:12505-1714296600-1714299600@massanuttenchurch.org
SUMMARY:Parent Fellowship
DESCRIPTION:
URL:https://massanuttenchurch.org/event/parent-fellowship-3-2024-04-28/
END:VEVENT
BEGIN:VEVENT
DTSTART;TZID=America/New_York:20240428T093000
DTEND;TZID=America/New_York:20240428T102000
DTSTAMP:20260425T123419
CREATED:20230828T153531Z
LAST-MODIFIED:20230828T153531Z
UID:12477-1714296600-1714299600@massanuttenchurch.org
SUMMARY:Faith Village
DESCRIPTION:
URL:https://massanuttenchurch.org/event/faith-village-2-2024-04-28/
LOCATION:50 Indian Trail Road\, Penn Laird\, VA\, 22846\, United States
END:VEVENT
BEGIN:VEVENT
DTSTART;TZID=America/New_York:20240428T090000
DTEND;TZID=America/New_York:20240428T100000
DTSTAMP:20260425T123419
CREATED:20230830T170330Z
LAST-MODIFIED:20231206T185134Z
UID:12734-1714294800-1714298400@massanuttenchurch.org
SUMMARY:Faithful Conversations
DESCRIPTION:
URL:https://massanuttenchurch.org/event/faithful-conversations-2-2024-04-28/
LOCATION:Room 119\, United States
END:VEVENT
END:VCALENDAR