BEGIN:VCALENDAR
VERSION:2.0
PRODID:-//Massanutten Presbyterian Church - ECPv6.15.20//NONSGML v1.0//EN
CALSCALE:GREGORIAN
METHOD:PUBLISH
X-WR-CALNAME:Massanutten Presbyterian Church
X-ORIGINAL-URL:https://massanuttenchurch.org
X-WR-CALDESC:Events for Massanutten Presbyterian Church
REFRESH-INTERVAL;VALUE=DURATION:PT1H
X-Robots-Tag:noindex
X-PUBLISHED-TTL:PT1H
BEGIN:VTIMEZONE
TZID:America/New_York
BEGIN:DAYLIGHT
TZOFFSETFROM:-0500
TZOFFSETTO:-0400
TZNAME:EDT
DTSTART:20250309T070000
END:DAYLIGHT
BEGIN:STANDARD
TZOFFSETFROM:-0400
TZOFFSETTO:-0500
TZNAME:EST
DTSTART:20251102T060000
END:STANDARD
BEGIN:DAYLIGHT
TZOFFSETFROM:-0500
TZOFFSETTO:-0400
TZNAME:EDT
DTSTART:20260308T070000
END:DAYLIGHT
BEGIN:STANDARD
TZOFFSETFROM:-0400
TZOFFSETTO:-0500
TZNAME:EST
DTSTART:20261101T060000
END:STANDARD
BEGIN:DAYLIGHT
TZOFFSETFROM:-0500
TZOFFSETTO:-0400
TZNAME:EDT
DTSTART:20270314T070000
END:DAYLIGHT
BEGIN:STANDARD
TZOFFSETFROM:-0400
TZOFFSETTO:-0500
TZNAME:EST
DTSTART:20271107T060000
END:STANDARD
END:VTIMEZONE
BEGIN:VEVENT
DTSTART;TZID=America/New_York:20260624T173000
DTEND;TZID=America/New_York:20260624T173000
DTSTAMP:20260425T113115
CREATED:20250904T170453Z
LAST-MODIFIED:20250904T170453Z
UID:15328-1782322200-1782322200@massanuttenchurch.org
SUMMARY:Deep Dive Bible Study
DESCRIPTION:
URL:https://massanuttenchurch.org/event/deep-dive-bible-study-9/
LOCATION:Library
END:VEVENT
BEGIN:VEVENT
DTSTART;TZID=America/New_York:20260702T100000
DTEND;TZID=America/New_York:20260702T100000
DTSTAMP:20260425T113115
CREATED:20250904T164653Z
LAST-MODIFIED:20250904T164653Z
UID:15307-1782986400-1782986400@massanuttenchurch.org
SUMMARY:Coffee Break Small Group
DESCRIPTION:
URL:https://massanuttenchurch.org/event/coffee-break-small-group-9/
LOCATION:Dayton Market\, 3105 John Wayland Hwy Ave\, Dayton\, VA\, 22821
END:VEVENT
BEGIN:VEVENT
DTSTART;TZID=America/New_York:20260722T173000
DTEND;TZID=America/New_York:20260722T173000
DTSTAMP:20260425T113115
CREATED:20250904T170619Z
LAST-MODIFIED:20250904T170619Z
UID:15330-1784741400-1784741400@massanuttenchurch.org
SUMMARY:Deep Dive Bible Study
DESCRIPTION:
URL:https://massanuttenchurch.org/event/deep-dive-bible-study-10/
LOCATION:Library
END:VEVENT
BEGIN:VEVENT
DTSTART;TZID=America/New_York:20260806T100000
DTEND;TZID=America/New_York:20260806T100000
DTSTAMP:20260425T113115
CREATED:20250904T164737Z
LAST-MODIFIED:20250904T164737Z
UID:15309-1786010400-1786010400@massanuttenchurch.org
SUMMARY:Coffee Break Small Group
DESCRIPTION:
URL:https://massanuttenchurch.org/event/coffee-break-small-group-10/
LOCATION:Dayton Market\, 3105 John Wayland Hwy Ave\, Dayton\, VA\, 22821
END:VEVENT
BEGIN:VEVENT
DTSTART;TZID=America/New_York:20260826T173000
DTEND;TZID=America/New_York:20260826T173000
DTSTAMP:20260425T113115
CREATED:20250904T170644Z
LAST-MODIFIED:20250904T170644Z
UID:15332-1787765400-1787765400@massanuttenchurch.org
SUMMARY:Deep Dive Bible Study
DESCRIPTION:
URL:https://massanuttenchurch.org/event/deep-dive-bible-study-11/
LOCATION:Library
END:VEVENT
END:VCALENDAR