BEGIN:VCALENDAR
VERSION:2.0
PRODID:-//Massanutten Presbyterian Church - ECPv6.15.20//NONSGML v1.0//EN
CALSCALE:GREGORIAN
METHOD:PUBLISH
X-WR-CALNAME:Massanutten Presbyterian Church
X-ORIGINAL-URL:https://massanuttenchurch.org
X-WR-CALDESC:Events for Massanutten Presbyterian Church
REFRESH-INTERVAL;VALUE=DURATION:PT1H
X-Robots-Tag:noindex
X-PUBLISHED-TTL:PT1H
BEGIN:VTIMEZONE
TZID:America/New_York
BEGIN:DAYLIGHT
TZOFFSETFROM:-0500
TZOFFSETTO:-0400
TZNAME:EDT
DTSTART:20250309T070000
END:DAYLIGHT
BEGIN:STANDARD
TZOFFSETFROM:-0400
TZOFFSETTO:-0500
TZNAME:EST
DTSTART:20251102T060000
END:STANDARD
BEGIN:DAYLIGHT
TZOFFSETFROM:-0500
TZOFFSETTO:-0400
TZNAME:EDT
DTSTART:20260308T070000
END:DAYLIGHT
BEGIN:STANDARD
TZOFFSETFROM:-0400
TZOFFSETTO:-0500
TZNAME:EST
DTSTART:20261101T060000
END:STANDARD
BEGIN:DAYLIGHT
TZOFFSETFROM:-0500
TZOFFSETTO:-0400
TZNAME:EDT
DTSTART:20270314T070000
END:DAYLIGHT
BEGIN:STANDARD
TZOFFSETFROM:-0400
TZOFFSETTO:-0500
TZNAME:EST
DTSTART:20271107T060000
END:STANDARD
END:VTIMEZONE
BEGIN:VEVENT
DTSTART;TZID=America/New_York:20260426T090000
DTEND;TZID=America/New_York:20260426T100000
DTSTAMP:20260423T095901
CREATED:20250910T154349Z
LAST-MODIFIED:20250910T154349Z
UID:15421-1777194000-1777197600@massanuttenchurch.org
SUMMARY:Covenant Class
DESCRIPTION:
URL:https://massanuttenchurch.org/event/covenant-class-34/
LOCATION:Room 117
END:VEVENT
BEGIN:VEVENT
DTSTART;TZID=America/New_York:20260426T090000
DTEND;TZID=America/New_York:20260426T220000
DTSTAMP:20260423T095901
CREATED:20250910T165106Z
LAST-MODIFIED:20250910T165106Z
UID:15492-1777194000-1777240800@massanuttenchurch.org
SUMMARY:Faithful Conversations
DESCRIPTION:
URL:https://massanuttenchurch.org/event/faithful-conversations-34/
LOCATION:Room 119\, United States
END:VEVENT
BEGIN:VEVENT
DTSTART;TZID=America/New_York:20260426T093000
DTEND;TZID=America/New_York:20260426T102000
DTSTAMP:20260423T095901
CREATED:20250904T134737Z
LAST-MODIFIED:20250904T134737Z
UID:14945-1777195800-1777198800@massanuttenchurch.org
SUMMARY:Faith Village
DESCRIPTION:
URL:https://massanuttenchurch.org/event/faith-village-30/
END:VEVENT
BEGIN:VEVENT
DTSTART;TZID=America/New_York:20260426T093000
DTEND;TZID=America/New_York:20260426T102000
DTSTAMP:20260423T095901
CREATED:20250904T140443Z
LAST-MODIFIED:20250904T140443Z
UID:15007-1777195800-1777198800@massanuttenchurch.org
SUMMARY:Middle School Sunday School
DESCRIPTION:
URL:https://massanuttenchurch.org/event/middle-school-sunday-school-28/
END:VEVENT
BEGIN:VEVENT
DTSTART;TZID=America/New_York:20260426T093000
DTEND;TZID=America/New_York:20260426T102000
DTSTAMP:20260423T095901
CREATED:20250904T142625Z
LAST-MODIFIED:20250904T142625Z
UID:15057-1777195800-1777198800@massanuttenchurch.org
SUMMARY:High School Breakfast
DESCRIPTION:
URL:https://massanuttenchurch.org/event/high-school-breakfast-25/
END:VEVENT
BEGIN:VEVENT
DTSTART;TZID=America/New_York:20260426T093000
DTEND;TZID=America/New_York:20260426T102000
DTSTAMP:20260423T095901
CREATED:20250904T144613Z
LAST-MODIFIED:20250904T144613Z
UID:15120-1777195800-1777198800@massanuttenchurch.org
SUMMARY:Parent Fellowship
DESCRIPTION:
URL:https://massanuttenchurch.org/event/parent-fellowship-31/
END:VEVENT
BEGIN:VEVENT
DTSTART;TZID=America/New_York:20260426T104500
DTEND;TZID=America/New_York:20260426T111500
DTSTAMP:20260423T095901
CREATED:20250904T153425Z
LAST-MODIFIED:20250904T153425Z
UID:15182-1777200300-1777202100@massanuttenchurch.org
SUMMARY:Godly Play
DESCRIPTION:
URL:https://massanuttenchurch.org/event/godly-play-31/
END:VEVENT
BEGIN:VEVENT
DTSTART;TZID=America/New_York:20260426T170000
DTEND;TZID=America/New_York:20260426T180000
DTSTAMP:20260423T095901
CREATED:20250904T162949Z
LAST-MODIFIED:20250904T162949Z
UID:15284-1777222800-1777226400@massanuttenchurch.org
SUMMARY:Fun with Handbells
DESCRIPTION:
URL:https://massanuttenchurch.org/event/fun-with-handbells-24/
END:VEVENT
BEGIN:VEVENT
DTSTART;TZID=America/New_York:20260426T180000
DTEND;TZID=America/New_York:20260426T200000
DTSTAMP:20260423T095901
CREATED:20250904T160734Z
LAST-MODIFIED:20250904T160734Z
UID:15234-1777226400-1777233600@massanuttenchurch.org
SUMMARY:Youth Group
DESCRIPTION:
URL:https://massanuttenchurch.org/event/youth-group-25/
END:VEVENT
BEGIN:VEVENT
DTSTART;TZID=America/New_York:20260503T090000
DTEND;TZID=America/New_York:20260503T100000
DTSTAMP:20260423T095901
CREATED:20250910T154418Z
LAST-MODIFIED:20250910T154418Z
UID:15423-1777798800-1777802400@massanuttenchurch.org
SUMMARY:Covenant Class
DESCRIPTION:
URL:https://massanuttenchurch.org/event/covenant-class-35/
LOCATION:Room 117
END:VEVENT
BEGIN:VEVENT
DTSTART;TZID=America/New_York:20260503T090000
DTEND;TZID=America/New_York:20260503T100000
DTSTAMP:20260423T095901
CREATED:20250910T165135Z
LAST-MODIFIED:20250910T165135Z
UID:15494-1777798800-1777802400@massanuttenchurch.org
SUMMARY:Faithful Conversations
DESCRIPTION:
URL:https://massanuttenchurch.org/event/faithful-conversations-35/
LOCATION:Room 119\, United States
END:VEVENT
BEGIN:VEVENT
DTSTART;TZID=America/New_York:20260503T093000
DTEND;TZID=America/New_York:20260503T102000
DTSTAMP:20260423T095901
CREATED:20250904T134810Z
LAST-MODIFIED:20250904T134810Z
UID:14947-1777800600-1777803600@massanuttenchurch.org
SUMMARY:Faith Village
DESCRIPTION:
URL:https://massanuttenchurch.org/event/faith-village-31/
END:VEVENT
BEGIN:VEVENT
DTSTART;TZID=America/New_York:20260503T093000
DTEND;TZID=America/New_York:20260503T102000
DTSTAMP:20260423T095901
CREATED:20250904T140508Z
LAST-MODIFIED:20250904T140508Z
UID:15009-1777800600-1777803600@massanuttenchurch.org
SUMMARY:Middle School Sunday School
DESCRIPTION:
URL:https://massanuttenchurch.org/event/middle-school-sunday-school-29/
END:VEVENT
BEGIN:VEVENT
DTSTART;TZID=America/New_York:20260503T093000
DTEND;TZID=America/New_York:20260503T102000
DTSTAMP:20260423T095901
CREATED:20250904T142707Z
LAST-MODIFIED:20250904T142707Z
UID:15059-1777800600-1777803600@massanuttenchurch.org
SUMMARY:High School Breakfast
DESCRIPTION:
URL:https://massanuttenchurch.org/event/high-school-breakfast-26/
END:VEVENT
BEGIN:VEVENT
DTSTART;TZID=America/New_York:20260503T093000
DTEND;TZID=America/New_York:20260503T102000
DTSTAMP:20260423T095901
CREATED:20250904T144635Z
LAST-MODIFIED:20250904T144635Z
UID:15122-1777800600-1777803600@massanuttenchurch.org
SUMMARY:Parent Fellowship
DESCRIPTION:
URL:https://massanuttenchurch.org/event/parent-fellowship-32/
END:VEVENT
BEGIN:VEVENT
DTSTART;TZID=America/New_York:20260503T104500
DTEND;TZID=America/New_York:20260503T111500
DTSTAMP:20260423T095901
CREATED:20250904T153452Z
LAST-MODIFIED:20250904T153452Z
UID:15184-1777805100-1777806900@massanuttenchurch.org
SUMMARY:Godly Play
DESCRIPTION:
URL:https://massanuttenchurch.org/event/godly-play-32/
END:VEVENT
BEGIN:VEVENT
DTSTART;TZID=America/New_York:20260503T170000
DTEND;TZID=America/New_York:20260503T180000
DTSTAMP:20260423T095901
CREATED:20250904T163011Z
LAST-MODIFIED:20250904T163011Z
UID:15286-1777827600-1777831200@massanuttenchurch.org
SUMMARY:Fun with Handbells
DESCRIPTION:
URL:https://massanuttenchurch.org/event/fun-with-handbells-25/
END:VEVENT
BEGIN:VEVENT
DTSTART;TZID=America/New_York:20260503T180000
DTEND;TZID=America/New_York:20260503T200000
DTSTAMP:20260423T095901
CREATED:20250904T160802Z
LAST-MODIFIED:20250904T160802Z
UID:15236-1777831200-1777838400@massanuttenchurch.org
SUMMARY:Youth Group
DESCRIPTION:
URL:https://massanuttenchurch.org/event/youth-group-26/
END:VEVENT
BEGIN:VEVENT
DTSTART;TZID=America/New_York:20260507T100000
DTEND;TZID=America/New_York:20260507T100000
DTSTAMP:20260423T095901
CREATED:20250904T164450Z
LAST-MODIFIED:20250904T164613Z
UID:15303-1778148000-1778148000@massanuttenchurch.org
SUMMARY:Coffee Break Small Group
DESCRIPTION:
URL:https://massanuttenchurch.org/event/coffee-break-small-group-7/
LOCATION:Dayton Market\, 3105 John Wayland Hwy Ave\, Dayton\, VA\, 22821
END:VEVENT
BEGIN:VEVENT
DTSTART;TZID=America/New_York:20260510T090000
DTEND;TZID=America/New_York:20260510T100000
DTSTAMP:20260423T095901
CREATED:20250910T154456Z
LAST-MODIFIED:20250910T154456Z
UID:15425-1778403600-1778407200@massanuttenchurch.org
SUMMARY:Covenant Class
DESCRIPTION:
URL:https://massanuttenchurch.org/event/covenant-class-36/
LOCATION:Room 117
END:VEVENT
BEGIN:VEVENT
DTSTART;TZID=America/New_York:20260510T090000
DTEND;TZID=America/New_York:20260510T100000
DTSTAMP:20260423T095901
CREATED:20250910T165206Z
LAST-MODIFIED:20250910T165206Z
UID:15496-1778403600-1778407200@massanuttenchurch.org
SUMMARY:Faithful Conversations
DESCRIPTION:
URL:https://massanuttenchurch.org/event/faithful-conversations-36/
LOCATION:Room 119\, United States
END:VEVENT
BEGIN:VEVENT
DTSTART;TZID=America/New_York:20260510T093000
DTEND;TZID=America/New_York:20260510T102000
DTSTAMP:20260423T095901
CREATED:20250904T142725Z
LAST-MODIFIED:20250904T142725Z
UID:15061-1778405400-1778408400@massanuttenchurch.org
SUMMARY:High School Breakfast
DESCRIPTION:
URL:https://massanuttenchurch.org/event/high-school-breakfast-27/
END:VEVENT
BEGIN:VEVENT
DTSTART;TZID=America/New_York:20260510T104500
DTEND;TZID=America/New_York:20260510T111500
DTSTAMP:20260423T095901
CREATED:20250904T153513Z
LAST-MODIFIED:20250904T153513Z
UID:15186-1778409900-1778411700@massanuttenchurch.org
SUMMARY:Godly Play
DESCRIPTION:
URL:https://massanuttenchurch.org/event/godly-play-33/
END:VEVENT
BEGIN:VEVENT
DTSTART;TZID=America/New_York:20260510T170000
DTEND;TZID=America/New_York:20260510T180000
DTSTAMP:20260423T095901
CREATED:20250904T163027Z
LAST-MODIFIED:20250904T163027Z
UID:15288-1778432400-1778436000@massanuttenchurch.org
SUMMARY:Fun with Handbells
DESCRIPTION:
URL:https://massanuttenchurch.org/event/fun-with-handbells-26/
END:VEVENT
BEGIN:VEVENT
DTSTART;TZID=America/New_York:20260510T180000
DTEND;TZID=America/New_York:20260510T200000
DTSTAMP:20260423T095901
CREATED:20250904T160820Z
LAST-MODIFIED:20250904T160820Z
UID:15238-1778436000-1778443200@massanuttenchurch.org
SUMMARY:Youth Group
DESCRIPTION:
URL:https://massanuttenchurch.org/event/youth-group-27/
END:VEVENT
BEGIN:VEVENT
DTSTART;TZID=America/New_York:20260511T100000
DTEND;TZID=America/New_York:20260511T110000
DTSTAMP:20260423T095901
CREATED:20250904T132715Z
LAST-MODIFIED:20250904T132715Z
UID:14885-1778493600-1778497200@massanuttenchurch.org
SUMMARY:Food Pantry
DESCRIPTION:
URL:https://massanuttenchurch.org/event/food-pantry-15/
END:VEVENT
BEGIN:VEVENT
DTSTART;TZID=America/New_York:20260514T190000
DTEND;TZID=America/New_York:20260514T200000
DTSTAMP:20260423T095901
CREATED:20250904T132742Z
LAST-MODIFIED:20250904T132742Z
UID:14887-1778785200-1778788800@massanuttenchurch.org
SUMMARY:Food Pantry
DESCRIPTION:
URL:https://massanuttenchurch.org/event/food-pantry-16/
END:VEVENT
BEGIN:VEVENT
DTSTART;TZID=America/New_York:20260517T090000
DTEND;TZID=America/New_York:20260517T100000
DTSTAMP:20260423T095901
CREATED:20250910T154541Z
LAST-MODIFIED:20250910T154541Z
UID:15428-1779008400-1779012000@massanuttenchurch.org
SUMMARY:Covenant Class
DESCRIPTION:
URL:https://massanuttenchurch.org/event/covenant-class-37/
LOCATION:Room 117
END:VEVENT
BEGIN:VEVENT
DTSTART;TZID=America/New_York:20260517T090000
DTEND;TZID=America/New_York:20260517T100000
DTSTAMP:20260423T095901
CREATED:20250910T165230Z
LAST-MODIFIED:20250910T165230Z
UID:15498-1779008400-1779012000@massanuttenchurch.org
SUMMARY:Faithful Conversations
DESCRIPTION:
URL:https://massanuttenchurch.org/event/faithful-conversations-37/
LOCATION:Room 119\, United States
END:VEVENT
BEGIN:VEVENT
DTSTART;TZID=America/New_York:20260517T093000
DTEND;TZID=America/New_York:20260517T102000
DTSTAMP:20260423T095901
CREATED:20250904T135229Z
LAST-MODIFIED:20250904T135229Z
UID:14949-1779010200-1779013200@massanuttenchurch.org
SUMMARY:Faith Village
DESCRIPTION:
URL:https://massanuttenchurch.org/event/faith-village-32/
END:VEVENT
END:VCALENDAR