BEGIN:VCALENDAR
VERSION:2.0
PRODID:-//Massanutten Presbyterian Church - ECPv6.15.20//NONSGML v1.0//EN
CALSCALE:GREGORIAN
METHOD:PUBLISH
X-WR-CALNAME:Massanutten Presbyterian Church
X-ORIGINAL-URL:https://massanuttenchurch.org
X-WR-CALDESC:Events for Massanutten Presbyterian Church
REFRESH-INTERVAL;VALUE=DURATION:PT1H
X-Robots-Tag:noindex
X-PUBLISHED-TTL:PT1H
BEGIN:VTIMEZONE
TZID:America/New_York
BEGIN:DAYLIGHT
TZOFFSETFROM:-0500
TZOFFSETTO:-0400
TZNAME:EDT
DTSTART:20250309T070000
END:DAYLIGHT
BEGIN:STANDARD
TZOFFSETFROM:-0400
TZOFFSETTO:-0500
TZNAME:EST
DTSTART:20251102T060000
END:STANDARD
BEGIN:DAYLIGHT
TZOFFSETFROM:-0500
TZOFFSETTO:-0400
TZNAME:EDT
DTSTART:20260308T070000
END:DAYLIGHT
BEGIN:STANDARD
TZOFFSETFROM:-0400
TZOFFSETTO:-0500
TZNAME:EST
DTSTART:20261101T060000
END:STANDARD
BEGIN:DAYLIGHT
TZOFFSETFROM:-0500
TZOFFSETTO:-0400
TZNAME:EDT
DTSTART:20270314T070000
END:DAYLIGHT
BEGIN:STANDARD
TZOFFSETFROM:-0400
TZOFFSETTO:-0500
TZNAME:EST
DTSTART:20271107T060000
END:STANDARD
END:VTIMEZONE
BEGIN:VEVENT
DTSTART;TZID=America/New_York:20260301T090000
DTEND;TZID=America/New_York:20260301T100000
DTSTAMP:20260424T180602
CREATED:20250910T152132Z
LAST-MODIFIED:20250910T153334Z
UID:15407-1772355600-1772359200@massanuttenchurch.org
SUMMARY:Covenant Class
DESCRIPTION:
URL:https://massanuttenchurch.org/event/covenant-class-27/
LOCATION:Room 117
END:VEVENT
BEGIN:VEVENT
DTSTART;TZID=America/New_York:20260301T090000
DTEND;TZID=America/New_York:20260301T100000
DTSTAMP:20260424T180602
CREATED:20250910T164752Z
LAST-MODIFIED:20250910T164752Z
UID:15478-1772355600-1772359200@massanuttenchurch.org
SUMMARY:Faithful Conversations
DESCRIPTION:
URL:https://massanuttenchurch.org/event/faithful-conversations-27/
LOCATION:Room 119\, United States
END:VEVENT
BEGIN:VEVENT
DTSTART;TZID=America/New_York:20260301T093000
DTEND;TZID=America/New_York:20260301T102000
DTSTAMP:20260424T180602
CREATED:20250904T134419Z
LAST-MODIFIED:20250904T134419Z
UID:14930-1772357400-1772360400@massanuttenchurch.org
SUMMARY:Faith Village
DESCRIPTION:
URL:https://massanuttenchurch.org/event/faith-village-23/
END:VEVENT
BEGIN:VEVENT
DTSTART;TZID=America/New_York:20260301T093000
DTEND;TZID=America/New_York:20260301T102000
DTSTAMP:20260424T180602
CREATED:20250904T140200Z
LAST-MODIFIED:20250904T140200Z
UID:14993-1772357400-1772360400@massanuttenchurch.org
SUMMARY:Middle School Sunday School
DESCRIPTION:
URL:https://massanuttenchurch.org/event/middle-school-sunday-school-21/
END:VEVENT
BEGIN:VEVENT
DTSTART;TZID=America/New_York:20260301T093000
DTEND;TZID=America/New_York:20260301T102000
DTSTAMP:20260424T180602
CREATED:20250904T142330Z
LAST-MODIFIED:20250904T142330Z
UID:15045-1772357400-1772360400@massanuttenchurch.org
SUMMARY:High School Breakfast
DESCRIPTION:
URL:https://massanuttenchurch.org/event/high-school-breakfast-19/
END:VEVENT
BEGIN:VEVENT
DTSTART;TZID=America/New_York:20260301T093000
DTEND;TZID=America/New_York:20260301T102000
DTSTAMP:20260424T180602
CREATED:20250904T144246Z
LAST-MODIFIED:20250904T144246Z
UID:15106-1772357400-1772360400@massanuttenchurch.org
SUMMARY:Parent Fellowship
DESCRIPTION:
URL:https://massanuttenchurch.org/event/parent-fellowship-24/
END:VEVENT
BEGIN:VEVENT
DTSTART;TZID=America/New_York:20260301T104500
DTEND;TZID=America/New_York:20260301T111500
DTSTAMP:20260424T180602
CREATED:20250904T152829Z
LAST-MODIFIED:20250904T152829Z
UID:15168-1772361900-1772363700@massanuttenchurch.org
SUMMARY:Godly Play
DESCRIPTION:
URL:https://massanuttenchurch.org/event/godly-play-24/
END:VEVENT
BEGIN:VEVENT
DTSTART;TZID=America/New_York:20260301T170000
DTEND;TZID=America/New_York:20260301T180000
DTSTAMP:20260424T180602
CREATED:20250904T162802Z
LAST-MODIFIED:20250904T162802Z
UID:15274-1772384400-1772388000@massanuttenchurch.org
SUMMARY:Fun with Handbells
DESCRIPTION:
URL:https://massanuttenchurch.org/event/fun-with-handbells-19/
END:VEVENT
BEGIN:VEVENT
DTSTART;TZID=America/New_York:20260301T180000
DTEND;TZID=America/New_York:20260301T200000
DTSTAMP:20260424T180602
CREATED:20250904T160518Z
LAST-MODIFIED:20250904T160518Z
UID:15224-1772388000-1772395200@massanuttenchurch.org
SUMMARY:Youth Group
DESCRIPTION:
URL:https://massanuttenchurch.org/event/youth-group-20/
END:VEVENT
END:VCALENDAR