BEGIN:VCALENDAR
VERSION:2.0
PRODID:-//Massanutten Presbyterian Church - ECPv6.15.20//NONSGML v1.0//EN
CALSCALE:GREGORIAN
METHOD:PUBLISH
X-ORIGINAL-URL:https://massanuttenchurch.org
X-WR-CALDESC:Events for Massanutten Presbyterian Church
REFRESH-INTERVAL;VALUE=DURATION:PT1H
X-Robots-Tag:noindex
X-PUBLISHED-TTL:PT1H
BEGIN:VTIMEZONE
TZID:America/New_York
BEGIN:DAYLIGHT
TZOFFSETFROM:-0500
TZOFFSETTO:-0400
TZNAME:EDT
DTSTART:20250309T070000
END:DAYLIGHT
BEGIN:STANDARD
TZOFFSETFROM:-0400
TZOFFSETTO:-0500
TZNAME:EST
DTSTART:20251102T060000
END:STANDARD
BEGIN:DAYLIGHT
TZOFFSETFROM:-0500
TZOFFSETTO:-0400
TZNAME:EDT
DTSTART:20260308T070000
END:DAYLIGHT
BEGIN:STANDARD
TZOFFSETFROM:-0400
TZOFFSETTO:-0500
TZNAME:EST
DTSTART:20261101T060000
END:STANDARD
BEGIN:DAYLIGHT
TZOFFSETFROM:-0500
TZOFFSETTO:-0400
TZNAME:EDT
DTSTART:20270314T070000
END:DAYLIGHT
BEGIN:STANDARD
TZOFFSETFROM:-0400
TZOFFSETTO:-0500
TZNAME:EST
DTSTART:20271107T060000
END:STANDARD
END:VTIMEZONE
BEGIN:VEVENT
DTSTART;TZID=America/New_York:20260201T090000
DTEND;TZID=America/New_York:20260201T100000
DTSTAMP:20260424T192414
CREATED:20250910T151557Z
LAST-MODIFIED:20250910T151557Z
UID:15399-1769936400-1769940000@massanuttenchurch.org
SUMMARY:Covenant Class
DESCRIPTION:
URL:https://massanuttenchurch.org/event/covenant-class-23/
LOCATION:Room 117
END:VEVENT
BEGIN:VEVENT
DTSTART;TZID=America/New_York:20260201T090000
DTEND;TZID=America/New_York:20260201T100000
DTSTAMP:20260424T192414
CREATED:20250910T164619Z
LAST-MODIFIED:20250910T164619Z
UID:15470-1769936400-1769940000@massanuttenchurch.org
SUMMARY:Faithful Conversations
DESCRIPTION:
URL:https://massanuttenchurch.org/event/faithful-conversations-23/
LOCATION:Room 119\, United States
END:VEVENT
BEGIN:VEVENT
DTSTART;TZID=America/New_York:20260201T093000
DTEND;TZID=America/New_York:20260201T102000
DTSTAMP:20260424T192414
CREATED:20250904T134239Z
LAST-MODIFIED:20250904T134239Z
UID:14922-1769938200-1769941200@massanuttenchurch.org
SUMMARY:Faith Village
DESCRIPTION:
URL:https://massanuttenchurch.org/event/faith-village-19/
END:VEVENT
BEGIN:VEVENT
DTSTART;TZID=America/New_York:20260201T093000
DTEND;TZID=America/New_York:20260201T102000
DTSTAMP:20260424T192414
CREATED:20250904T140042Z
LAST-MODIFIED:20250904T140042Z
UID:14985-1769938200-1769941200@massanuttenchurch.org
SUMMARY:Middle School Sunday School
DESCRIPTION:
URL:https://massanuttenchurch.org/event/middle-school-sunday-school-17/
END:VEVENT
BEGIN:VEVENT
DTSTART;TZID=America/New_York:20260201T093000
DTEND;TZID=America/New_York:20260201T102000
DTSTAMP:20260424T192414
CREATED:20250904T142135Z
LAST-MODIFIED:20250904T142148Z
UID:15035-1769938200-1769941200@massanuttenchurch.org
SUMMARY:High School Breakfast
DESCRIPTION:
URL:https://massanuttenchurch.org/event/high-school-breakfast-14/
END:VEVENT
BEGIN:VEVENT
DTSTART;TZID=America/New_York:20260201T093000
DTEND;TZID=America/New_York:20260201T102000
DTSTAMP:20260424T192414
CREATED:20250904T144138Z
LAST-MODIFIED:20250904T144138Z
UID:15097-1769938200-1769941200@massanuttenchurch.org
SUMMARY:Parent Fellowship
DESCRIPTION:
URL:https://massanuttenchurch.org/event/parent-fellowship-20/
END:VEVENT
BEGIN:VEVENT
DTSTART;TZID=America/New_York:20260201T104500
DTEND;TZID=America/New_York:20260201T111500
DTSTAMP:20260424T192414
CREATED:20250904T151757Z
LAST-MODIFIED:20250904T151757Z
UID:15160-1769942700-1769944500@massanuttenchurch.org
SUMMARY:Godly Play
DESCRIPTION:
URL:https://massanuttenchurch.org/event/godly-play-20/
END:VEVENT
BEGIN:VEVENT
DTSTART;TZID=America/New_York:20260201T170000
DTEND;TZID=America/New_York:20260201T180000
DTSTAMP:20260424T192414
CREATED:20250904T162601Z
LAST-MODIFIED:20250904T162601Z
UID:15268-1769965200-1769968800@massanuttenchurch.org
SUMMARY:Fun with Handbells
DESCRIPTION:
URL:https://massanuttenchurch.org/event/fun-with-handbells-16/
END:VEVENT
BEGIN:VEVENT
DTSTART;TZID=America/New_York:20260201T180000
DTEND;TZID=America/New_York:20260201T200000
DTSTAMP:20260424T192414
CREATED:20250904T160414Z
LAST-MODIFIED:20250904T160414Z
UID:15218-1769968800-1769976000@massanuttenchurch.org
SUMMARY:Youth Group
DESCRIPTION:
URL:https://massanuttenchurch.org/event/youth-group-17/
END:VEVENT
END:VCALENDAR