BEGIN:VCALENDAR
VERSION:2.0
PRODID:-//Massanutten Presbyterian Church - ECPv6.15.20//NONSGML v1.0//EN
CALSCALE:GREGORIAN
METHOD:PUBLISH
X-WR-CALNAME:Massanutten Presbyterian Church
X-ORIGINAL-URL:https://massanuttenchurch.org
X-WR-CALDESC:Events for Massanutten Presbyterian Church
REFRESH-INTERVAL;VALUE=DURATION:PT1H
X-Robots-Tag:noindex
X-PUBLISHED-TTL:PT1H
BEGIN:VTIMEZONE
TZID:America/New_York
BEGIN:DAYLIGHT
TZOFFSETFROM:-0500
TZOFFSETTO:-0400
TZNAME:EDT
DTSTART:20240310T070000
END:DAYLIGHT
BEGIN:STANDARD
TZOFFSETFROM:-0400
TZOFFSETTO:-0500
TZNAME:EST
DTSTART:20241103T060000
END:STANDARD
BEGIN:DAYLIGHT
TZOFFSETFROM:-0500
TZOFFSETTO:-0400
TZNAME:EDT
DTSTART:20250309T070000
END:DAYLIGHT
BEGIN:STANDARD
TZOFFSETFROM:-0400
TZOFFSETTO:-0500
TZNAME:EST
DTSTART:20251102T060000
END:STANDARD
BEGIN:DAYLIGHT
TZOFFSETFROM:-0500
TZOFFSETTO:-0400
TZNAME:EDT
DTSTART:20260308T070000
END:DAYLIGHT
BEGIN:STANDARD
TZOFFSETFROM:-0400
TZOFFSETTO:-0500
TZNAME:EST
DTSTART:20261101T060000
END:STANDARD
END:VTIMEZONE
BEGIN:VTIMEZONE
TZID:UTC
BEGIN:STANDARD
TZOFFSETFROM:+0000
TZOFFSETTO:+0000
TZNAME:UTC
DTSTART:20240101T000000
END:STANDARD
END:VTIMEZONE
BEGIN:VEVENT
DTSTART;TZID=America/New_York:20251221T090000
DTEND;TZID=America/New_York:20251221T100000
DTSTAMP:20260424T222530
CREATED:20250910T151341Z
LAST-MODIFIED:20250910T151341Z
UID:15389-1766307600-1766311200@massanuttenchurch.org
SUMMARY:Covenant Class
DESCRIPTION:
URL:https://massanuttenchurch.org/event/covenant-class-18/
LOCATION:Room 117
END:VEVENT
BEGIN:VEVENT
DTSTART;TZID=America/New_York:20251221T090000
DTEND;TZID=America/New_York:20251221T100000
DTSTAMP:20260424T222530
CREATED:20250910T163631Z
LAST-MODIFIED:20250910T163631Z
UID:15460-1766307600-1766311200@massanuttenchurch.org
SUMMARY:Faithful Conversations
DESCRIPTION:
URL:https://massanuttenchurch.org/event/faithful-conversations-18/
LOCATION:Room 119\, United States
END:VEVENT
BEGIN:VEVENT
DTSTART;TZID=UTC:20251221T120000
DTEND;TZID=UTC:20251221T120000
DTSTAMP:20260424T222530
CREATED:20170425T032515Z
LAST-MODIFIED:20250714T152746Z
UID:13153-1766318400-1766318400@massanuttenchurch.org
SUMMARY:Session Meeting
DESCRIPTION:Session Meeting
URL:https://massanuttenchurch.org/event/session-meeting-2025-12-21/
LOCATION:Fellowship Hall
END:VEVENT
END:VCALENDAR